BEGIN:VCALENDAR
VERSION:2.0
PRODID:-//Igreja Presbiteriana de Jundiaí - ECPv6.15.11//NONSGML v1.0//EN
CALSCALE:GREGORIAN
METHOD:PUBLISH
X-ORIGINAL-URL:https://ipjundiai.org.br
X-WR-CALDESC:Eventos para Igreja Presbiteriana de Jundiaí
REFRESH-INTERVAL;VALUE=DURATION:PT1H
X-Robots-Tag:noindex
X-PUBLISHED-TTL:PT1H
BEGIN:VTIMEZONE
TZID:America/Sao_Paulo
BEGIN:STANDARD
TZOFFSETFROM:-0300
TZOFFSETTO:-0300
TZNAME:-03
DTSTART:20210101T000000
END:STANDARD
END:VTIMEZONE
BEGIN:VEVENT
DTSTART;TZID=America/Sao_Paulo:20220312T150000
DTEND;TZID=America/Sao_Paulo:20220312T163000
DTSTAMP:20260424T184052
CREATED:20220225T164449Z
LAST-MODIFIED:20220225T164449Z
UID:33307-1647097200-1647102600@ipjundiai.org.br
SUMMARY:SAF - Encontro
DESCRIPTION:
URL:https://ipjundiai.org.br/eventos/saf-encontro/
LOCATION:IP Jundiaí\, Rua Vigário J.J. Rodrigues\, 504\, Jundiaí\, São Paulo\, 13201001\, Brasil
CATEGORIES:Próximos Eventos
ATTACH;FMTTYPE=image/jpeg:https://ipjundiai.org.br/wp-content/uploads/2022/02/SaF-IPB.jpg
END:VEVENT
BEGIN:VEVENT
DTSTART;TZID=America/Sao_Paulo:20220312T180000
DTEND;TZID=America/Sao_Paulo:20220312T193000
DTSTAMP:20260424T184052
CREATED:20220304T174408Z
LAST-MODIFIED:20220304T174408Z
UID:33349-1647108000-1647113400@ipjundiai.org.br
SUMMARY:UPA – Grow. IPJ
DESCRIPTION:
URL:https://ipjundiai.org.br/eventos/upa-grow-ipj/
LOCATION:IP Jundiaí\, Rua Vigário J.J. Rodrigues\, 504\, Jundiaí\, São Paulo\, 13201001\, Brasil
CATEGORIES:Próximos Eventos
ATTACH;FMTTYPE=image/png:https://ipjundiai.org.br/wp-content/uploads/2017/08/20150723080539_logo_upa_oficial.png
END:VEVENT
BEGIN:VEVENT
DTSTART;TZID=America/Sao_Paulo:20220312T190000
DTEND;TZID=America/Sao_Paulo:20220312T203000
DTSTAMP:20260424T184052
CREATED:20220225T164617Z
LAST-MODIFIED:20220225T164618Z
UID:33311-1647111600-1647117000@ipjundiai.org.br
SUMMARY:UMP – Estudo
DESCRIPTION:
URL:https://ipjundiai.org.br/eventos/ump-estudo/
LOCATION:IP Jundiaí\, Rua Vigário J.J. Rodrigues\, 504\, Jundiaí\, São Paulo\, 13201001\, Brasil
CATEGORIES:Próximos Eventos
ATTACH;FMTTYPE=image/png:https://ipjundiai.org.br/wp-content/uploads/2018/05/UMP.png
END:VEVENT
END:VCALENDAR