BEGIN:VCALENDAR
VERSION:2.0
PRODID:-//Igreja Presbiteriana de Jundiaí - ECPv6.15.11//NONSGML v1.0//EN
CALSCALE:GREGORIAN
METHOD:PUBLISH
X-WR-CALNAME:Igreja Presbiteriana de Jundiaí
X-ORIGINAL-URL:https://ipjundiai.org.br
X-WR-CALDESC:Eventos para Igreja Presbiteriana de Jundiaí
REFRESH-INTERVAL;VALUE=DURATION:PT1H
X-Robots-Tag:noindex
X-PUBLISHED-TTL:PT1H
BEGIN:VTIMEZONE
TZID:America/Sao_Paulo
BEGIN:STANDARD
TZOFFSETFROM:-0300
TZOFFSETTO:-0300
TZNAME:-03
DTSTART:20210101T000000
END:STANDARD
END:VTIMEZONE
BEGIN:VEVENT
DTSTART;TZID=America/Sao_Paulo:20220322T193000
DTEND;TZID=America/Sao_Paulo:20220322T210000
DTSTAMP:20260424T183933
CREATED:20220218T234806Z
LAST-MODIFIED:20220318T183544Z
UID:33258-1647977400-1647982800@ipjundiai.org.br
SUMMARY:Coral Adorai - Ensaio
DESCRIPTION:
URL:https://ipjundiai.org.br/eventos/coral-adorai-ensaio-28/
LOCATION:IP Jundiaí\, Rua Vigário J.J. Rodrigues\, 504\, Jundiaí\, São Paulo\, 13201001\, Brasil
CATEGORIES:Próximos Eventos
ATTACH;FMTTYPE=image/png:https://ipjundiai.org.br/wp-content/uploads/2019/08/ensaio-do-coral.png
END:VEVENT
END:VCALENDAR