BEGIN:VCALENDAR
VERSION:2.0
PRODID:-//Igreja Presbiteriana de Jundiaí - ECPv6.15.11//NONSGML v1.0//EN
CALSCALE:GREGORIAN
METHOD:PUBLISH
X-ORIGINAL-URL:https://ipjundiai.org.br
X-WR-CALDESC:Eventos para Igreja Presbiteriana de Jundiaí
REFRESH-INTERVAL;VALUE=DURATION:PT1H
X-Robots-Tag:noindex
X-PUBLISHED-TTL:PT1H
BEGIN:VTIMEZONE
TZID:America/Sao_Paulo
BEGIN:STANDARD
TZOFFSETFROM:-0300
TZOFFSETTO:-0300
TZNAME:-03
DTSTART:20210101T000000
END:STANDARD
END:VTIMEZONE
BEGIN:VEVENT
DTSTART;TZID=America/Sao_Paulo:20220410T090000
DTEND;TZID=America/Sao_Paulo:20220410T100000
DTSTAMP:20260424T171852
CREATED:20220408T193350Z
LAST-MODIFIED:20220408T193350Z
UID:33476-1649581200-1649584800@ipjundiai.org.br
SUMMARY:Culto Matutino
DESCRIPTION:
URL:https://ipjundiai.org.br/eventos/culto-matutino-5/
LOCATION:IP Jundiaí\, Rua Vigário J.J. Rodrigues\, 504\, Jundiaí\, São Paulo\, 13201001\, Brasil
CATEGORIES:Próximos Eventos
END:VEVENT
BEGIN:VEVENT
DTSTART;TZID=America/Sao_Paulo:20220410T100000
DTEND;TZID=America/Sao_Paulo:20220410T110000
DTSTAMP:20260424T171852
CREATED:20220408T193532Z
LAST-MODIFIED:20220408T193532Z
UID:33480-1649584800-1649588400@ipjundiai.org.br
SUMMARY:Escola Bíblica Dominical
DESCRIPTION:
URL:https://ipjundiai.org.br/eventos/escola-biblica-dominical-2/
LOCATION:IP Jundiaí\, Rua Vigário J.J. Rodrigues\, 504\, Jundiaí\, São Paulo\, 13201001\, Brasil
CATEGORIES:Próximos Eventos
END:VEVENT
BEGIN:VEVENT
DTSTART;TZID=America/Sao_Paulo:20220410T190000
DTEND;TZID=America/Sao_Paulo:20220410T203000
DTSTAMP:20260424T171852
CREATED:20220408T193436Z
LAST-MODIFIED:20220408T193436Z
UID:33478-1649617200-1649622600@ipjundiai.org.br
SUMMARY:Culto da Noite
DESCRIPTION:
URL:https://ipjundiai.org.br/eventos/culto-da-noite-4/
LOCATION:IP Jundiaí\, Rua Vigário J.J. Rodrigues\, 504\, Jundiaí\, São Paulo\, 13201001\, Brasil
CATEGORIES:Próximos Eventos
END:VEVENT
END:VCALENDAR