BEGIN:VCALENDAR
VERSION:2.0
PRODID:-//Igreja Presbiteriana de Jundiaí - ECPv6.15.11//NONSGML v1.0//EN
CALSCALE:GREGORIAN
METHOD:PUBLISH
X-ORIGINAL-URL:https://ipjundiai.org.br
X-WR-CALDESC:Eventos para Igreja Presbiteriana de Jundiaí
REFRESH-INTERVAL;VALUE=DURATION:PT1H
X-Robots-Tag:noindex
X-PUBLISHED-TTL:PT1H
BEGIN:VTIMEZONE
TZID:America/Sao_Paulo
BEGIN:STANDARD
TZOFFSETFROM:-0300
TZOFFSETTO:-0300
TZNAME:-03
DTSTART:20210101T000000
END:STANDARD
END:VTIMEZONE
BEGIN:VEVENT
DTSTART;TZID=America/Sao_Paulo:20220412T150000
DTEND;TZID=America/Sao_Paulo:20220412T160000
DTSTAMP:20260424T172303
CREATED:20220408T193631Z
LAST-MODIFIED:20220408T193631Z
UID:33482-1649775600-1649779200@ipjundiai.org.br
SUMMARY:SAF – Reunião de Oração
DESCRIPTION:
URL:https://ipjundiai.org.br/eventos/saf-reuniao-de-oracao/
LOCATION:IP Jundiaí\, Rua Vigário J.J. Rodrigues\, 504\, Jundiaí\, São Paulo\, 13201001\, Brasil
CATEGORIES:Próximos Eventos
ATTACH;FMTTYPE=image/jpeg:https://ipjundiai.org.br/wp-content/uploads/2022/02/SaF-IPB.jpg
END:VEVENT
BEGIN:VEVENT
DTSTART;TZID=America/Sao_Paulo:20220412T193000
DTEND;TZID=America/Sao_Paulo:20220412T210000
DTSTAMP:20260424T172303
CREATED:20220408T193710Z
LAST-MODIFIED:20220408T193711Z
UID:33484-1649791800-1649797200@ipjundiai.org.br
SUMMARY:Coral Adorai – Ensaio
DESCRIPTION:
URL:https://ipjundiai.org.br/eventos/coral-adorai-ensaio-31/
LOCATION:IP Jundiaí\, Rua Vigário J.J. Rodrigues\, 504\, Jundiaí\, São Paulo\, 13201001\, Brasil
CATEGORIES:Próximos Eventos
END:VEVENT
END:VCALENDAR