BEGIN:VCALENDAR
VERSION:2.0
PRODID:-//Igreja Presbiteriana de Jundiaí - ECPv6.15.11//NONSGML v1.0//EN
CALSCALE:GREGORIAN
METHOD:PUBLISH
X-ORIGINAL-URL:https://ipjundiai.org.br
X-WR-CALDESC:Eventos para Igreja Presbiteriana de Jundiaí
REFRESH-INTERVAL;VALUE=DURATION:PT1H
X-Robots-Tag:noindex
X-PUBLISHED-TTL:PT1H
BEGIN:VTIMEZONE
TZID:America/Sao_Paulo
BEGIN:STANDARD
TZOFFSETFROM:-0300
TZOFFSETTO:-0300
TZNAME:-03
DTSTART:20210101T000000
END:STANDARD
END:VTIMEZONE
BEGIN:VEVENT
DTSTART;TZID=America/Sao_Paulo:20220424T090000
DTEND;TZID=America/Sao_Paulo:20220424T100000
DTSTAMP:20260424T171851
CREATED:20220420T144305Z
LAST-MODIFIED:20220420T144305Z
UID:33522-1650790800-1650794400@ipjundiai.org.br
SUMMARY:Culto Matutino
DESCRIPTION:
URL:https://ipjundiai.org.br/eventos/culto-matutino-6/
LOCATION:IP Jundiaí\, Rua Vigário J.J. Rodrigues\, 504\, Jundiaí\, São Paulo\, 13201001\, Brasil
CATEGORIES:Próximos Eventos
END:VEVENT
BEGIN:VEVENT
DTSTART;TZID=America/Sao_Paulo:20220424T100000
DTEND;TZID=America/Sao_Paulo:20220424T110000
DTSTAMP:20260424T171851
CREATED:20220420T144638Z
LAST-MODIFIED:20220420T144638Z
UID:33528-1650794400-1650798000@ipjundiai.org.br
SUMMARY:Escola Bíblica Dominical
DESCRIPTION:
URL:https://ipjundiai.org.br/eventos/escola-biblica-dominical-3/
LOCATION:IP Jundiaí\, Rua Vigário J.J. Rodrigues\, 504\, Jundiaí\, São Paulo\, 13201001\, Brasil
CATEGORIES:Próximos Eventos
END:VEVENT
BEGIN:VEVENT
DTSTART;TZID=America/Sao_Paulo:20220424T190000
DTEND;TZID=America/Sao_Paulo:20220424T203000
DTSTAMP:20260424T171851
CREATED:20220420T144355Z
LAST-MODIFIED:20220420T144355Z
UID:33524-1650826800-1650832200@ipjundiai.org.br
SUMMARY:Culto da Noite
DESCRIPTION:
URL:https://ipjundiai.org.br/eventos/culto-da-noite-5/
LOCATION:IP Jundiaí\, Rua Vigário J.J. Rodrigues\, 504\, Jundiaí\, São Paulo\, 13201001\, Brasil
CATEGORIES:Próximos Eventos
END:VEVENT
END:VCALENDAR