BEGIN:VCALENDAR
VERSION:2.0
PRODID:-//Igreja Presbiteriana de Jundiaí - ECPv6.15.11//NONSGML v1.0//EN
CALSCALE:GREGORIAN
METHOD:PUBLISH
X-ORIGINAL-URL:https://ipjundiai.org.br
X-WR-CALDESC:Eventos para Igreja Presbiteriana de Jundiaí
REFRESH-INTERVAL;VALUE=DURATION:PT1H
X-Robots-Tag:noindex
X-PUBLISHED-TTL:PT1H
BEGIN:VTIMEZONE
TZID:America/Sao_Paulo
BEGIN:STANDARD
TZOFFSETFROM:-0300
TZOFFSETTO:-0300
TZNAME:-03
DTSTART:20210101T000000
END:STANDARD
END:VTIMEZONE
BEGIN:VEVENT
DTSTART;TZID=America/Sao_Paulo:20220701T190000
DTEND;TZID=America/Sao_Paulo:20220701T210000
DTSTAMP:20260424T130048
CREATED:20220625T151754Z
LAST-MODIFIED:20220625T151754Z
UID:34266-1656702000-1656709200@ipjundiai.org.br
SUMMARY:Noite da pizza (Fantasia)
DESCRIPTION:
URL:https://ipjundiai.org.br/eventos/noite-da-pizza-fantasia/
LOCATION:IP Jundiaí\, Rua Vigário J.J. Rodrigues\, 504\, Jundiaí\, São Paulo\, 13201001\, Brasil
CATEGORIES:Próximos Eventos
ATTACH;FMTTYPE=image/jpeg:https://ipjundiai.org.br/wp-content/uploads/2022/06/ucp-criancas.jpg
END:VEVENT
BEGIN:VEVENT
DTSTART;TZID=America/Sao_Paulo:20220701T200000
DTEND;TZID=America/Sao_Paulo:20220701T230000
DTSTAMP:20260424T130048
CREATED:20220625T151950Z
LAST-MODIFIED:20220625T151951Z
UID:34270-1656705600-1656716400@ipjundiai.org.br
SUMMARY:Conselho (Reunião)
DESCRIPTION:
URL:https://ipjundiai.org.br/eventos/conselho-reuniao/
LOCATION:IP Jundiaí\, Rua Vigário J.J. Rodrigues\, 504\, Jundiaí\, São Paulo\, 13201001\, Brasil
CATEGORIES:Próximos Eventos
ATTACH;FMTTYPE=image/jpeg:https://ipjundiai.org.br/wp-content/uploads/2022/05/ipj-aviso.jpg
END:VEVENT
END:VCALENDAR