BEGIN:VCALENDAR
VERSION:2.0
PRODID:-//Igreja Presbiteriana de Jundiaí - ECPv6.15.11//NONSGML v1.0//EN
CALSCALE:GREGORIAN
METHOD:PUBLISH
X-ORIGINAL-URL:https://ipjundiai.org.br
X-WR-CALDESC:Eventos para Igreja Presbiteriana de Jundiaí
REFRESH-INTERVAL;VALUE=DURATION:PT1H
X-Robots-Tag:noindex
X-PUBLISHED-TTL:PT1H
BEGIN:VTIMEZONE
TZID:America/Sao_Paulo
BEGIN:STANDARD
TZOFFSETFROM:-0300
TZOFFSETTO:-0300
TZNAME:-03
DTSTART:20210101T000000
END:STANDARD
END:VTIMEZONE
BEGIN:VEVENT
DTSTART;TZID=America/Sao_Paulo:20220712T150000
DTEND;TZID=America/Sao_Paulo:20220712T160000
DTSTAMP:20260424T130904
CREATED:20220702T161113Z
LAST-MODIFIED:20220708T201949Z
UID:34305-1657638000-1657641600@ipjundiai.org.br
SUMMARY:Reunião de Oração
DESCRIPTION:
URL:https://ipjundiai.org.br/eventos/reuniao-de-oracao-22/
LOCATION:IP Jundiaí\, Rua Vigário J.J. Rodrigues\, 504\, Jundiaí\, São Paulo\, 13201001\, Brasil
CATEGORIES:Próximos Eventos
ATTACH;FMTTYPE=image/jpeg:https://ipjundiai.org.br/wp-content/uploads/2022/05/aviso-saf.jpg
END:VEVENT
BEGIN:VEVENT
DTSTART;TZID=America/Sao_Paulo:20220712T193000
DTEND;TZID=America/Sao_Paulo:20220712T210000
DTSTAMP:20260424T130904
CREATED:20220702T161207Z
LAST-MODIFIED:20220708T202113Z
UID:34308-1657654200-1657659600@ipjundiai.org.br
SUMMARY:Ensaio
DESCRIPTION:
URL:https://ipjundiai.org.br/eventos/ensaio/
LOCATION:IP Jundiaí\, Rua Vigário J.J. Rodrigues\, 504\, Jundiaí\, São Paulo\, 13201001\, Brasil
CATEGORIES:Próximos Eventos
ATTACH;FMTTYPE=image/jpeg:https://ipjundiai.org.br/wp-content/uploads/2022/05/coral-aviso.jpg
END:VEVENT
END:VCALENDAR