BEGIN:VCALENDAR
VERSION:2.0
PRODID:-//Igreja Presbiteriana de Jundiaí - ECPv6.15.11//NONSGML v1.0//EN
CALSCALE:GREGORIAN
METHOD:PUBLISH
X-ORIGINAL-URL:https://ipjundiai.org.br
X-WR-CALDESC:Eventos para Igreja Presbiteriana de Jundiaí
REFRESH-INTERVAL;VALUE=DURATION:PT1H
X-Robots-Tag:noindex
X-PUBLISHED-TTL:PT1H
BEGIN:VTIMEZONE
TZID:America/Sao_Paulo
BEGIN:STANDARD
TZOFFSETFROM:-0300
TZOFFSETTO:-0300
TZNAME:-03
DTSTART:20210101T000000
END:STANDARD
END:VTIMEZONE
BEGIN:VEVENT
DTSTART;VALUE=DATE:20220731
DTEND;VALUE=DATE:20220801
DTSTAMP:20260424T130907
CREATED:20220702T162540Z
LAST-MODIFIED:20220702T162541Z
UID:34338-1659225600-1659311999@ipjundiai.org.br
SUMMARY:Aniversário IPJ
DESCRIPTION:
URL:https://ipjundiai.org.br/eventos/aniversario-ipj-2/
LOCATION:IP Jundiaí\, Rua Vigário J.J. Rodrigues\, 504\, Jundiaí\, São Paulo\, 13201001\, Brasil
CATEGORIES:Próximos Eventos
ATTACH;FMTTYPE=image/jpeg:https://ipjundiai.org.br/wp-content/uploads/2022/05/ipj-aviso.jpg
END:VEVENT
BEGIN:VEVENT
DTSTART;TZID=America/Sao_Paulo:20220731T100000
DTEND;TZID=America/Sao_Paulo:20220731T110000
DTSTAMP:20260424T130907
CREATED:20220429T144110Z
LAST-MODIFIED:20220727T185356Z
UID:33656-1659261600-1659265200@ipjundiai.org.br
SUMMARY:Escola Bíblica Dominical
DESCRIPTION:A Escola Bíblica Dominical começa\, ás 10h\, na IPJ. Escola a sala e participe da aula. \n\nMINI MATERNAL (0 a 2 Anos)\nMATERNAL (3 a 5 anos)\nPRÉ PRIMÁRIO (6 a 7 anos\nPRIMÁRIO 1 (8 a 9 Anos)\nPRIMÁRIO 2 (10 a 11 Anos)\nADOLESCENTES 1 (12 a 14 Anos)\nADOLESCENTES 2 (15 a 18 Anos)\nJOVENS (+19 anos)\nCATECÚMENOS (Para quem deseja ser membro da IPJ)\nADULTOS
URL:https://ipjundiai.org.br/eventos/escola-biblica-dominical-4/
LOCATION:IP Jundiaí\, Rua Vigário J.J. Rodrigues\, 504\, Jundiaí\, São Paulo\, 13201001\, Brasil
CATEGORIES:Próximos Eventos
ATTACH;FMTTYPE=image/jpeg:https://ipjundiai.org.br/wp-content/uploads/2022/05/ipj-aviso.jpg
END:VEVENT
END:VCALENDAR