BEGIN:VCALENDAR
VERSION:2.0
PRODID:-//Igreja Presbiteriana de Jundiaí - ECPv6.15.11//NONSGML v1.0//EN
CALSCALE:GREGORIAN
METHOD:PUBLISH
X-ORIGINAL-URL:https://ipjundiai.org.br
X-WR-CALDESC:Eventos para Igreja Presbiteriana de Jundiaí
REFRESH-INTERVAL;VALUE=DURATION:PT1H
X-Robots-Tag:noindex
X-PUBLISHED-TTL:PT1H
BEGIN:VTIMEZONE
TZID:America/Sao_Paulo
BEGIN:STANDARD
TZOFFSETFROM:-0300
TZOFFSETTO:-0300
TZNAME:-03
DTSTART:20210101T000000
END:STANDARD
END:VTIMEZONE
BEGIN:VEVENT
DTSTART;VALUE=DATE:20220813
DTEND;VALUE=DATE:20220814
DTSTAMP:20260424T111726
CREATED:20220805T235716Z
LAST-MODIFIED:20220809T124946Z
UID:34641-1660348800-1660435199@ipjundiai.org.br
SUMMARY:Culto Gratidão Aniversário IPB
DESCRIPTION:
URL:https://ipjundiai.org.br/eventos/culto-gratidao-aniversario-ipb/
LOCATION:Golden Park Sorocaba\, Rodovia Senador José Ermírio de Moraes\, km 2\,6\, Sorocaba\, São Paulo\, 18087-125\, Brasil
CATEGORIES:Próximos Eventos
ATTACH;FMTTYPE=image/jpeg:https://ipjundiai.org.br/wp-content/uploads/2022/08/ipb-163-anos.jpg
END:VEVENT
END:VCALENDAR