BEGIN:VCALENDAR
VERSION:2.0
PRODID:-//Igreja Presbiteriana de Jundiaí - ECPv6.15.11//NONSGML v1.0//EN
CALSCALE:GREGORIAN
METHOD:PUBLISH
X-WR-CALNAME:Igreja Presbiteriana de Jundiaí
X-ORIGINAL-URL:https://ipjundiai.org.br
X-WR-CALDESC:Eventos para Igreja Presbiteriana de Jundiaí
REFRESH-INTERVAL;VALUE=DURATION:PT1H
X-Robots-Tag:noindex
X-PUBLISHED-TTL:PT1H
BEGIN:VTIMEZONE
TZID:America/Sao_Paulo
BEGIN:STANDARD
TZOFFSETFROM:-0300
TZOFFSETTO:-0300
TZNAME:-03
DTSTART:20210101T000000
END:STANDARD
END:VTIMEZONE
BEGIN:VEVENT
DTSTART;TZID=America/Sao_Paulo:20220828T090000
DTEND;TZID=America/Sao_Paulo:20220828T100000
DTSTAMP:20260424T111624
CREATED:20220826T115240Z
LAST-MODIFIED:20220826T115458Z
UID:34770-1661677200-1661680800@ipjundiai.org.br
SUMMARY:IX Conferência Missionária
DESCRIPTION:
URL:https://ipjundiai.org.br/eventos/ix-conferencia-missionaria-ipj/
LOCATION:IP Jundiaí\, Rua Vigário J.J. Rodrigues\, 504\, Jundiaí\, São Paulo\, 13201001\, Brasil
CATEGORIES:Próximos Eventos
ATTACH;FMTTYPE=image/jpeg:https://ipjundiai.org.br/wp-content/uploads/2022/08/conferencia-missionaria-2022.jpg
END:VEVENT
BEGIN:VEVENT
DTSTART;TZID=America/Sao_Paulo:20220828T190000
DTEND;TZID=America/Sao_Paulo:20220828T203000
DTSTAMP:20260424T111624
CREATED:20220826T115340Z
LAST-MODIFIED:20220826T115436Z
UID:34772-1661713200-1661718600@ipjundiai.org.br
SUMMARY:IX Conferência Missionária
DESCRIPTION:
URL:https://ipjundiai.org.br/eventos/ix-conferencia-missionaria-ipj-2/
LOCATION:IP Jundiaí\, Rua Vigário J.J. Rodrigues\, 504\, Jundiaí\, São Paulo\, 13201001\, Brasil
CATEGORIES:Próximos Eventos
ATTACH;FMTTYPE=image/jpeg:https://ipjundiai.org.br/wp-content/uploads/2022/08/conferencia-missionaria-2022.jpg
END:VEVENT
END:VCALENDAR