BEGIN:VCALENDAR
VERSION:2.0
PRODID:-//Igreja Presbiteriana de Jundiaí - ECPv6.15.11//NONSGML v1.0//EN
CALSCALE:GREGORIAN
METHOD:PUBLISH
X-WR-CALNAME:Igreja Presbiteriana de Jundiaí
X-ORIGINAL-URL:https://ipjundiai.org.br
X-WR-CALDESC:Eventos para Igreja Presbiteriana de Jundiaí
REFRESH-INTERVAL;VALUE=DURATION:PT1H
X-Robots-Tag:noindex
X-PUBLISHED-TTL:PT1H
BEGIN:VTIMEZONE
TZID:America/Sao_Paulo
BEGIN:STANDARD
TZOFFSETFROM:-0300
TZOFFSETTO:-0300
TZNAME:-03
DTSTART:20220101T000000
END:STANDARD
END:VTIMEZONE
BEGIN:VEVENT
DTSTART;TZID=America/Sao_Paulo:20230501T090000
DTEND;TZID=America/Sao_Paulo:20230501T170000
DTSTAMP:20260420T065131
CREATED:20230414T223512Z
LAST-MODIFIED:20230414T223513Z
UID:36156-1682931600-1682960400@ipjundiai.org.br
SUMMARY:Encontro da Família (PRID)
DESCRIPTION:
URL:https://ipjundiai.org.br/eventos/encontro-da-familia-prid-2/
LOCATION:Recanto Serra do Japi\, R. Primo Porcari\, S/N - Medeiros\, Jundiaí - SP\, 13212-268\, Jundiaí\, SP\, 13212-268\, Brasil
CATEGORIES:Próximos Eventos
ATTACH;FMTTYPE=image/jpeg:https://ipjundiai.org.br/wp-content/uploads/2022/08/ipj-agenda.jpg
END:VEVENT
END:VCALENDAR