BEGIN:VCALENDAR
VERSION:2.0
PRODID:-//Igreja Presbiteriana de Jundiaí - ECPv6.15.11//NONSGML v1.0//EN
CALSCALE:GREGORIAN
METHOD:PUBLISH
X-ORIGINAL-URL:https://ipjundiai.org.br
X-WR-CALDESC:Eventos para Igreja Presbiteriana de Jundiaí
REFRESH-INTERVAL;VALUE=DURATION:PT1H
X-Robots-Tag:noindex
X-PUBLISHED-TTL:PT1H
BEGIN:VTIMEZONE
TZID:America/Sao_Paulo
BEGIN:STANDARD
TZOFFSETFROM:-0300
TZOFFSETTO:-0300
TZNAME:-03
DTSTART:20220101T000000
END:STANDARD
END:VTIMEZONE
BEGIN:VEVENT
DTSTART;TZID=America/Sao_Paulo:20230506T150000
DTEND;TZID=America/Sao_Paulo:20230506T170000
DTSTAMP:20260420T065142
CREATED:20230428T185510Z
LAST-MODIFIED:20230428T185511Z
UID:36189-1683385200-1683392400@ipjundiai.org.br
SUMMARY:Especial Dia das Mães (UCP)
DESCRIPTION:
URL:https://ipjundiai.org.br/eventos/especial-dia-das-maes-ucp/
LOCATION:IP Jundiaí\, Rua Vigário J.J. Rodrigues\, 504\, Jundiaí\, São Paulo\, 13201001\, Brasil
CATEGORIES:Próximos Eventos
ATTACH;FMTTYPE=image/jpeg:https://ipjundiai.org.br/wp-content/uploads/2022/06/ucp-criancas.jpg
END:VEVENT
BEGIN:VEVENT
DTSTART;TZID=America/Sao_Paulo:20230506T190000
DTEND;TZID=America/Sao_Paulo:20230506T203000
DTSTAMP:20260420T065142
CREATED:20230428T185620Z
LAST-MODIFIED:20230428T185621Z
UID:36191-1683399600-1683405000@ipjundiai.org.br
SUMMARY:Grow (UPA)
DESCRIPTION:
URL:https://ipjundiai.org.br/eventos/grow-upa-7/
LOCATION:IP Jundiaí\, Rua Vigário J.J. Rodrigues\, 504\, Jundiaí\, São Paulo\, 13201001\, Brasil
CATEGORIES:Próximos Eventos
ATTACH;FMTTYPE=image/jpeg:https://ipjundiai.org.br/wp-content/uploads/2022/05/upa-aviso.jpg
END:VEVENT
BEGIN:VEVENT
DTSTART;TZID=America/Sao_Paulo:20230506T190000
DTEND;TZID=America/Sao_Paulo:20230506T203000
DTSTAMP:20260420T065142
CREATED:20230428T185728Z
LAST-MODIFIED:20230428T185729Z
UID:36193-1683399600-1683405000@ipjundiai.org.br
SUMMARY:Culto (UMP)
DESCRIPTION:
URL:https://ipjundiai.org.br/eventos/culto-ump-7/
LOCATION:IP Jundiaí\, Rua Vigário J.J. Rodrigues\, 504\, Jundiaí\, São Paulo\, 13201001\, Brasil
CATEGORIES:Próximos Eventos
ATTACH;FMTTYPE=image/jpeg:https://ipjundiai.org.br/wp-content/uploads/2022/08/ump-agenda.jpg
END:VEVENT
END:VCALENDAR