BEGIN:VCALENDAR
VERSION:2.0
PRODID:-//Igreja Presbiteriana de Jundiaí - ECPv6.15.11//NONSGML v1.0//EN
CALSCALE:GREGORIAN
METHOD:PUBLISH
X-ORIGINAL-URL:https://ipjundiai.org.br
X-WR-CALDESC:Eventos para Igreja Presbiteriana de Jundiaí
REFRESH-INTERVAL;VALUE=DURATION:PT1H
X-Robots-Tag:noindex
X-PUBLISHED-TTL:PT1H
BEGIN:VTIMEZONE
TZID:America/Sao_Paulo
BEGIN:STANDARD
TZOFFSETFROM:-0300
TZOFFSETTO:-0300
TZNAME:-03
DTSTART:20220101T000000
END:STANDARD
END:VTIMEZONE
BEGIN:VEVENT
DTSTART;TZID=America/Sao_Paulo:20230617T090000
DTEND;TZID=America/Sao_Paulo:20230617T170000
DTSTAMP:20260420T051204
CREATED:20230602T203807Z
LAST-MODIFIED:20230602T203809Z
UID:36416-1686992400-1687021200@ipjundiai.org.br
SUMMARY:Day Camp (UPH)
DESCRIPTION:
URL:https://ipjundiai.org.br/eventos/day-camp-uph/
LOCATION:Elias Faustos
CATEGORIES:Próximos Eventos
ATTACH;FMTTYPE=image/jpeg:https://ipjundiai.org.br/wp-content/uploads/2022/08/uph-agenda.jpg
END:VEVENT
BEGIN:VEVENT
DTSTART;TZID=America/Sao_Paulo:20230617T150000
DTEND;TZID=America/Sao_Paulo:20230617T170000
DTSTAMP:20260420T051204
CREATED:20230602T204107Z
LAST-MODIFIED:20230602T204107Z
UID:36419-1687014000-1687021200@ipjundiai.org.br
SUMMARY:Gincana Bíblica (Infantil)
DESCRIPTION:
URL:https://ipjundiai.org.br/eventos/gincana-biblica-infantil/
LOCATION:IP Jundiaí\, Rua Vigário J.J. Rodrigues\, 504\, Jundiaí\, São Paulo\, 13201001\, Brasil
CATEGORIES:Próximos Eventos
ATTACH;FMTTYPE=image/jpeg:https://ipjundiai.org.br/wp-content/uploads/2022/08/infantil-agenda.jpg
END:VEVENT
BEGIN:VEVENT
DTSTART;TZID=America/Sao_Paulo:20230617T150000
DTEND;TZID=America/Sao_Paulo:20230617T170000
DTSTAMP:20260420T051204
CREATED:20230602T204320Z
LAST-MODIFIED:20230602T204321Z
UID:36422-1687014000-1687021200@ipjundiai.org.br
SUMMARY:Gincana Bíblica (SAF)
DESCRIPTION:
URL:https://ipjundiai.org.br/eventos/gincana-biblica-saf/
LOCATION:IP Jundiaí\, Rua Vigário J.J. Rodrigues\, 504\, Jundiaí\, São Paulo\, 13201001\, Brasil
CATEGORIES:Próximos Eventos
ATTACH;FMTTYPE=image/jpeg:https://ipjundiai.org.br/wp-content/uploads/2022/08/saf-agenda.jpg
END:VEVENT
BEGIN:VEVENT
DTSTART;TZID=America/Sao_Paulo:20230617T190000
DTEND;TZID=America/Sao_Paulo:20230617T203000
DTSTAMP:20260420T051204
CREATED:20230602T204434Z
LAST-MODIFIED:20230602T204456Z
UID:36424-1687028400-1687033800@ipjundiai.org.br
SUMMARY:Culto com Fogueira (UPA)
DESCRIPTION:
URL:https://ipjundiai.org.br/eventos/culto-com-fogueira-upa/
LOCATION:São Paulo
CATEGORIES:Próximos Eventos
ATTACH;FMTTYPE=image/jpeg:https://ipjundiai.org.br/wp-content/uploads/2022/05/upa-aviso.jpg
END:VEVENT
END:VCALENDAR