BEGIN:VCALENDAR
VERSION:2.0
PRODID:-//Igreja Presbiteriana de Jundiaí - ECPv6.15.11//NONSGML v1.0//EN
CALSCALE:GREGORIAN
METHOD:PUBLISH
X-ORIGINAL-URL:https://ipjundiai.org.br
X-WR-CALDESC:Eventos para Igreja Presbiteriana de Jundiaí
REFRESH-INTERVAL;VALUE=DURATION:PT1H
X-Robots-Tag:noindex
X-PUBLISHED-TTL:PT1H
BEGIN:VTIMEZONE
TZID:America/Sao_Paulo
BEGIN:STANDARD
TZOFFSETFROM:-0300
TZOFFSETTO:-0300
TZNAME:-03
DTSTART:20220101T000000
END:STANDARD
END:VTIMEZONE
BEGIN:VEVENT
DTSTART;VALUE=DATE:20230701
DTEND;VALUE=DATE:20230702
DTSTAMP:20260420T032633
CREATED:20230624T135111Z
LAST-MODIFIED:20230624T135112Z
UID:36514-1688169600-1688255999@ipjundiai.org.br
SUMMARY:Confraternização (Música)
DESCRIPTION:
URL:https://ipjundiai.org.br/eventos/confraternizacao-musica/
LOCATION:São Paulo
CATEGORIES:Próximos Eventos
ATTACH;FMTTYPE=image/jpeg:https://ipjundiai.org.br/wp-content/uploads/2023/06/agenda-musica.jpg
END:VEVENT
BEGIN:VEVENT
DTSTART;TZID=America/Sao_Paulo:20230701T190000
DTEND;TZID=America/Sao_Paulo:20230701T203000
DTSTAMP:20260420T032633
CREATED:20230624T135223Z
LAST-MODIFIED:20230624T135224Z
UID:36520-1688238000-1688243400@ipjundiai.org.br
SUMMARY:Culto e Plenária (UMP)
DESCRIPTION:
URL:https://ipjundiai.org.br/eventos/culto-e-plenaria-ump/
LOCATION:IP Jundiaí\, Rua Vigário J.J. Rodrigues\, 504\, Jundiaí\, São Paulo\, 13201001\, Brasil
CATEGORIES:Próximos Eventos
ATTACH;FMTTYPE=image/jpeg:https://ipjundiai.org.br/wp-content/uploads/2022/08/ump-agenda.jpg
END:VEVENT
END:VCALENDAR