BEGIN:VCALENDAR
VERSION:2.0
PRODID:-//Igreja Presbiteriana de Jundiaí - ECPv6.15.11//NONSGML v1.0//EN
CALSCALE:GREGORIAN
METHOD:PUBLISH
X-WR-CALNAME:Igreja Presbiteriana de Jundiaí
X-ORIGINAL-URL:https://ipjundiai.org.br
X-WR-CALDESC:Eventos para Igreja Presbiteriana de Jundiaí
REFRESH-INTERVAL;VALUE=DURATION:PT1H
X-Robots-Tag:noindex
X-PUBLISHED-TTL:PT1H
BEGIN:VTIMEZONE
TZID:America/Sao_Paulo
BEGIN:STANDARD
TZOFFSETFROM:-0300
TZOFFSETTO:-0300
TZNAME:-03
DTSTART:20220101T000000
END:STANDARD
END:VTIMEZONE
BEGIN:VEVENT
DTSTART;TZID=America/Sao_Paulo:20230804T080000
DTEND;TZID=America/Sao_Paulo:20230806T170000
DTSTAMP:20260420T013925
CREATED:20230728T200855Z
LAST-MODIFIED:20230728T200856Z
UID:36779-1691136000-1691341200@ipjundiai.org.br
SUMMARY:Encontro (UPA)
DESCRIPTION:
URL:https://ipjundiai.org.br/eventos/encontro-upa-4/
LOCATION:Sítio Salvador\, C894+X3 Serra Negra\, SP\, Serra Negra\, São Paulo\, 13930-000\, Brasil
CATEGORIES:Próximos Eventos
ATTACH;FMTTYPE=image/jpeg:https://ipjundiai.org.br/wp-content/uploads/2022/05/upa-aviso.jpg
END:VEVENT
BEGIN:VEVENT
DTSTART;VALUE=DATE:20230806
DTEND;VALUE=DATE:20230807
DTSTAMP:20260420T013925
CREATED:20230728T201110Z
LAST-MODIFIED:20230728T201111Z
UID:36783-1691280000-1691366399@ipjundiai.org.br
SUMMARY:Dia do Presbítero
DESCRIPTION:
URL:https://ipjundiai.org.br/eventos/dia-do-presbitero-3/
LOCATION:IP Jundiaí\, Rua Vigário J.J. Rodrigues\, 504\, Jundiaí\, São Paulo\, 13201001\, Brasil
CATEGORIES:Próximos Eventos
ATTACH;FMTTYPE=image/jpeg:https://ipjundiai.org.br/wp-content/uploads/2022/08/ipj-agenda.jpg
END:VEVENT
END:VCALENDAR