BEGIN:VCALENDAR
VERSION:2.0
PRODID:-//Igreja Presbiteriana de Jundiaí - ECPv6.15.11//NONSGML v1.0//EN
CALSCALE:GREGORIAN
METHOD:PUBLISH
X-ORIGINAL-URL:https://ipjundiai.org.br
X-WR-CALDESC:Eventos para Igreja Presbiteriana de Jundiaí
REFRESH-INTERVAL;VALUE=DURATION:PT1H
X-Robots-Tag:noindex
X-PUBLISHED-TTL:PT1H
BEGIN:VTIMEZONE
TZID:America/Sao_Paulo
BEGIN:STANDARD
TZOFFSETFROM:-0300
TZOFFSETTO:-0300
TZNAME:-03
DTSTART:20220101T000000
END:STANDARD
END:VTIMEZONE
BEGIN:VEVENT
DTSTART;TZID=America/Sao_Paulo:20230812T170000
DTEND;TZID=America/Sao_Paulo:20230812T193000
DTSTAMP:20260420T014041
CREATED:20230728T201235Z
LAST-MODIFIED:20230728T201236Z
UID:36785-1691859600-1691868600@ipjundiai.org.br
SUMMARY:Culto Gratidão 164 anos IPB
DESCRIPTION:
URL:https://ipjundiai.org.br/eventos/culto-gratidao-164-anos-ipb/
LOCATION:IP Itú\, R. Dr. Felipe Nagibe Chebel\, Itú\, São Paulo\, 13300-000\, Brasil
CATEGORIES:Próximos Eventos
ATTACH;FMTTYPE=image/jpeg:https://ipjundiai.org.br/wp-content/uploads/2022/08/ipj-agenda.jpg
END:VEVENT
END:VCALENDAR