BEGIN:VCALENDAR
VERSION:2.0
PRODID:-//Igreja Presbiteriana de Jundiaí - ECPv6.15.11//NONSGML v1.0//EN
CALSCALE:GREGORIAN
METHOD:PUBLISH
X-WR-CALNAME:Igreja Presbiteriana de Jundiaí
X-ORIGINAL-URL:https://ipjundiai.org.br
X-WR-CALDESC:Eventos para Igreja Presbiteriana de Jundiaí
REFRESH-INTERVAL;VALUE=DURATION:PT1H
X-Robots-Tag:noindex
X-PUBLISHED-TTL:PT1H
BEGIN:VTIMEZONE
TZID:America/Sao_Paulo
BEGIN:STANDARD
TZOFFSETFROM:-0300
TZOFFSETTO:-0300
TZNAME:-03
DTSTART:20220101T000000
END:STANDARD
END:VTIMEZONE
BEGIN:VEVENT
DTSTART;TZID=America/Sao_Paulo:20231104T123000
DTEND;TZID=America/Sao_Paulo:20231104T170000
DTSTAMP:20260419T191823
CREATED:20231027T031255Z
LAST-MODIFIED:20231027T031257Z
UID:37427-1699101000-1699117200@ipjundiai.org.br
SUMMARY:Encontro PRID (Crianças)
DESCRIPTION:
URL:https://ipjundiai.org.br/eventos/encontro-prid-criancas/
LOCATION:IP Itú\, R. Dr. Felipe Nagibe Chebel\, Itú\, São Paulo\, 13300-000\, Brasil
CATEGORIES:Próximos Eventos
ATTACH;FMTTYPE=image/jpeg:https://ipjundiai.org.br/wp-content/uploads/2022/08/infantil-agenda.jpg
END:VEVENT
BEGIN:VEVENT
DTSTART;TZID=America/Sao_Paulo:20231104T190000
DTEND;TZID=America/Sao_Paulo:20231104T203000
DTSTAMP:20260419T191823
CREATED:20231027T031402Z
LAST-MODIFIED:20231027T031403Z
UID:37429-1699124400-1699129800@ipjundiai.org.br
SUMMARY:Louvorzão (UPA)
DESCRIPTION:
URL:https://ipjundiai.org.br/eventos/louvorzao-upa-2/
LOCATION:IP Jundiaí\, Rua Vigário J.J. Rodrigues\, 504\, Jundiaí\, São Paulo\, 13201001\, Brasil
CATEGORIES:Próximos Eventos
ATTACH;FMTTYPE=image/jpeg:https://ipjundiai.org.br/wp-content/uploads/2022/04/aviso-upa.jpg
END:VEVENT
BEGIN:VEVENT
DTSTART;TZID=America/Sao_Paulo:20231104T190000
DTEND;TZID=America/Sao_Paulo:20231104T203000
DTSTAMP:20260419T191823
CREATED:20231027T031544Z
LAST-MODIFIED:20231027T031544Z
UID:37431-1699124400-1699129800@ipjundiai.org.br
SUMMARY:Culto (UMP)
DESCRIPTION:
URL:https://ipjundiai.org.br/eventos/culto-ump-10/
LOCATION:IP Jundiaí\, Rua Vigário J.J. Rodrigues\, 504\, Jundiaí\, São Paulo\, 13201001\, Brasil
CATEGORIES:Próximos Eventos
ATTACH;FMTTYPE=image/jpeg:https://ipjundiai.org.br/wp-content/uploads/2022/08/ump-agenda.jpg
END:VEVENT
END:VCALENDAR