BEGIN:VCALENDAR
VERSION:2.0
PRODID:-//Igreja Presbiteriana de Jundiaí - ECPv6.15.11//NONSGML v1.0//EN
CALSCALE:GREGORIAN
METHOD:PUBLISH
X-ORIGINAL-URL:https://ipjundiai.org.br
X-WR-CALDESC:Eventos para Igreja Presbiteriana de Jundiaí
REFRESH-INTERVAL;VALUE=DURATION:PT1H
X-Robots-Tag:noindex
X-PUBLISHED-TTL:PT1H
BEGIN:VTIMEZONE
TZID:America/Sao_Paulo
BEGIN:STANDARD
TZOFFSETFROM:-0300
TZOFFSETTO:-0300
TZNAME:-03
DTSTART:20230101T000000
END:STANDARD
END:VTIMEZONE
BEGIN:VEVENT
DTSTART;TZID=America/Sao_Paulo:20240316T080000
DTEND;TZID=America/Sao_Paulo:20240316T170000
DTSTAMP:20260419T121324
CREATED:20240301T185309Z
LAST-MODIFIED:20240301T185309Z
UID:38005-1710576000-1710608400@ipjundiai.org.br
SUMMARY:Encontro PRID (Adolescentes)
DESCRIPTION:
URL:https://ipjundiai.org.br/eventos/encontro-prid-adolescentes/
LOCATION:IP Indaiatuba\, R. Tuiuti\, 253 - Centro\, Indaiatuba\, SP\, 13339-010\, Brasil
CATEGORIES:Próximos Eventos
ATTACH;FMTTYPE=image/jpeg:https://ipjundiai.org.br/wp-content/uploads/2022/04/aviso-upa.jpg
END:VEVENT
BEGIN:VEVENT
DTSTART;TZID=America/Sao_Paulo:20240316T150000
DTEND;TZID=America/Sao_Paulo:20240316T170000
DTSTAMP:20260419T121324
CREATED:20240301T185106Z
LAST-MODIFIED:20240301T185106Z
UID:38001-1710601200-1710608400@ipjundiai.org.br
SUMMARY:Plenária e Boas Vindas. (Mulheres)
DESCRIPTION:
URL:https://ipjundiai.org.br/eventos/plenaria-e-boas-vindas-mulheres/
LOCATION:IP Jundiaí\, Rua Vigário J.J. Rodrigues\, 504\, Jundiaí\, São Paulo\, 13201001\, Brasil
CATEGORIES:Próximos Eventos
ATTACH;FMTTYPE=image/jpeg:https://ipjundiai.org.br/wp-content/uploads/2022/08/saf-agenda.jpg
END:VEVENT
BEGIN:VEVENT
DTSTART;TZID=America/Sao_Paulo:20240316T153000
DTEND;TZID=America/Sao_Paulo:20240316T170000
DTSTAMP:20260419T121324
CREATED:20240301T185203Z
LAST-MODIFIED:20240301T185203Z
UID:38003-1710603000-1710608400@ipjundiai.org.br
SUMMARY:Visitação nos lares (Jovens)
DESCRIPTION:
URL:https://ipjundiai.org.br/eventos/visitacao-nos-lares-jovens/
LOCATION:São Paulo
CATEGORIES:Próximos Eventos
ATTACH;FMTTYPE=image/jpeg:https://ipjundiai.org.br/wp-content/uploads/2022/08/ump-agenda.jpg
END:VEVENT
END:VCALENDAR