BEGIN:VCALENDAR
VERSION:2.0
PRODID:-//Igreja Presbiteriana de Jundiaí - ECPv6.15.11//NONSGML v1.0//EN
CALSCALE:GREGORIAN
METHOD:PUBLISH
X-ORIGINAL-URL:https://ipjundiai.org.br
X-WR-CALDESC:Eventos para Igreja Presbiteriana de Jundiaí
REFRESH-INTERVAL;VALUE=DURATION:PT1H
X-Robots-Tag:noindex
X-PUBLISHED-TTL:PT1H
BEGIN:VTIMEZONE
TZID:America/Sao_Paulo
BEGIN:STANDARD
TZOFFSETFROM:-0300
TZOFFSETTO:-0300
TZNAME:-03
DTSTART:20240101T000000
END:STANDARD
END:VTIMEZONE
BEGIN:VEVENT
DTSTART;TZID=America/Sao_Paulo:20250919T080000
DTEND;TZID=America/Sao_Paulo:20250920T170000
DTSTAMP:20260422T033533
CREATED:20250829T193119Z
LAST-MODIFIED:20250829T193120Z
UID:40777-1758268800-1758387600@ipjundiai.org.br
SUMMARY:Acampamento PRID (Homens)
DESCRIPTION:
URL:https://ipjundiai.org.br/eventos/acampamento-prid-homens/
LOCATION:Indaiatuba
CATEGORIES:Próximos Eventos
ATTACH;FMTTYPE=image/jpeg:https://ipjundiai.org.br/wp-content/uploads/2022/08/uph-agenda.jpg
END:VEVENT
BEGIN:VEVENT
DTSTART;TZID=America/Sao_Paulo:20250920T080000
DTEND;TZID=America/Sao_Paulo:20250920T170000
DTSTAMP:20260422T033533
CREATED:20250906T005351Z
LAST-MODIFIED:20250906T005351Z
UID:40809-1758355200-1758387600@ipjundiai.org.br
SUMMARY:Roda de conversa (UPA)
DESCRIPTION:
URL:https://ipjundiai.org.br/eventos/roda-de-conversa-upa/
LOCATION:Casa Davi
CATEGORIES:Próximos Eventos
ATTACH;FMTTYPE=image/jpeg:https://ipjundiai.org.br/wp-content/uploads/2022/04/aviso-upa.jpg
END:VEVENT
END:VCALENDAR