BEGIN:VCALENDAR
VERSION:2.0
PRODID:-//Igreja Presbiteriana de Jundiaí - ECPv6.15.11//NONSGML v1.0//EN
CALSCALE:GREGORIAN
METHOD:PUBLISH
X-WR-CALNAME:Igreja Presbiteriana de Jundiaí
X-ORIGINAL-URL:https://ipjundiai.org.br
X-WR-CALDESC:Eventos para Igreja Presbiteriana de Jundiaí
REFRESH-INTERVAL;VALUE=DURATION:PT1H
X-Robots-Tag:noindex
X-PUBLISHED-TTL:PT1H
BEGIN:VTIMEZONE
TZID:America/Sao_Paulo
BEGIN:STANDARD
TZOFFSETFROM:-0300
TZOFFSETTO:-0300
TZNAME:-03
DTSTART:20210101T000000
END:STANDARD
END:VTIMEZONE
BEGIN:VEVENT
DTSTART;TZID=America/Sao_Paulo:20220426T193000
DTEND;TZID=America/Sao_Paulo:20220426T210000
DTSTAMP:20260424T185608
CREATED:20220420T144012Z
LAST-MODIFIED:20220420T144013Z
UID:33516-1651001400-1651006800@ipjundiai.org.br
SUMMARY:Coral Adorai – Ensaio
DESCRIPTION:
URL:https://ipjundiai.org.br/eventos/coral-adorai-ensaio-32/
LOCATION:IP Jundiaí\, Rua Vigário J.J. Rodrigues\, 504\, Jundiaí\, São Paulo\, 13201001\, Brasil
CATEGORIES:Próximos Eventos
END:VEVENT
BEGIN:VEVENT
DTSTART;TZID=America/Sao_Paulo:20220427T210000
DTEND;TZID=America/Sao_Paulo:20220427T220000
DTSTAMP:20260424T185608
CREATED:20220420T144103Z
LAST-MODIFIED:20220420T144104Z
UID:33518-1651093200-1651096800@ipjundiai.org.br
SUMMARY:UMP – Reunião de Oração. Online
DESCRIPTION:
URL:https://ipjundiai.org.br/eventos/ump-reuniao-de-oracao-online-5/
LOCATION:São Paulo
CATEGORIES:Próximos Eventos
ATTACH;FMTTYPE=image/png:https://ipjundiai.org.br/wp-content/uploads/2018/05/umpIPJ-branco-1.png
END:VEVENT
BEGIN:VEVENT
DTSTART;TZID=America/Sao_Paulo:20220428T200000
DTEND;TZID=America/Sao_Paulo:20220428T210000
DTSTAMP:20260424T185608
CREATED:20220420T144147Z
LAST-MODIFIED:20220420T150935Z
UID:33520-1651176000-1651179600@ipjundiai.org.br
SUMMARY:Estudo Bíblico
DESCRIPTION:
URL:https://ipjundiai.org.br/eventos/estudo-biblico-39/
LOCATION:IP Jundiaí\, Rua Vigário J.J. Rodrigues\, 504\, Jundiaí\, São Paulo\, 13201001\, Brasil
CATEGORIES:Próximos Eventos
END:VEVENT
BEGIN:VEVENT
DTSTART;TZID=America/Sao_Paulo:20220430T150000
DTEND;TZID=America/Sao_Paulo:20220430T163000
DTSTAMP:20260424T185608
CREATED:20220325T151116Z
LAST-MODIFIED:20220429T141259Z
UID:33427-1651330800-1651336200@ipjundiai.org.br
SUMMARY:Plenária. IPJ
DESCRIPTION:A Reunião Plenária da SAF (Sociedade Auxiliadora Feminina) será realizada sábado (30)\, às 15h\, na Igreja Presbiteriana de Jundiaí.
URL:https://ipjundiai.org.br/eventos/saf-plenaria-ipj/
LOCATION:IP Jundiaí\, Rua Vigário J.J. Rodrigues\, 504\, Jundiaí\, São Paulo\, 13201001\, Brasil
CATEGORIES:Próximos Eventos
ATTACH;FMTTYPE=image/jpeg:https://ipjundiai.org.br/wp-content/uploads/2022/04/aviso-saf.jpg
END:VEVENT
BEGIN:VEVENT
DTSTART;TZID=America/Sao_Paulo:20220430T200000
DTEND;TZID=America/Sao_Paulo:20220430T210000
DTSTAMP:20260424T185608
CREATED:20220420T144552Z
LAST-MODIFIED:20220429T141858Z
UID:33526-1651348800-1651352400@ipjundiai.org.br
SUMMARY:Reunião de Oração
DESCRIPTION:A União de Homens Presbiterianos convida toda a igreja para a Reunião de Oração neste sábado(30)\, às 20h\, na IPJ. O evento será em parceria com os ministérios da UPA e UMP.
URL:https://ipjundiai.org.br/eventos/uph-reuniao-de-oracao/
LOCATION:IP Jundiaí\, Rua Vigário J.J. Rodrigues\, 504\, Jundiaí\, São Paulo\, 13201001\, Brasil
CATEGORIES:Próximos Eventos
ATTACH;FMTTYPE=image/jpeg:https://ipjundiai.org.br/wp-content/uploads/2022/04/aviso-uph.jpg
END:VEVENT
BEGIN:VEVENT
DTSTART;TZID=America/Sao_Paulo:20220503T150000
DTEND;TZID=America/Sao_Paulo:20220503T160000
DTSTAMP:20260424T185608
CREATED:20220429T204146Z
LAST-MODIFIED:20220429T204148Z
UID:33673-1651590000-1651593600@ipjundiai.org.br
SUMMARY:Reunião de Oração
DESCRIPTION:A reunião de oração é organizada pela Sociedade Auxiliadora Femilina (SAF)\, para toda a igreja. O evento começa\, às 15h\, na Igreja Presbiteriana de Jundiaí.
URL:https://ipjundiai.org.br/eventos/reuniao-de-oracao-11/
LOCATION:IP Jundiaí\, Rua Vigário J.J. Rodrigues\, 504\, Jundiaí\, São Paulo\, 13201001\, Brasil
CATEGORIES:Próximos Eventos
ATTACH;FMTTYPE=image/jpeg:https://ipjundiai.org.br/wp-content/uploads/2022/04/aviso-saf.jpg
END:VEVENT
BEGIN:VEVENT
DTSTART;TZID=America/Sao_Paulo:20220507T090000
DTEND;TZID=America/Sao_Paulo:20220507T170000
DTSTAMP:20260424T185608
CREATED:20220429T210609Z
LAST-MODIFIED:20220429T210614Z
UID:33680-1651914000-1651942800@ipjundiai.org.br
SUMMARY:Dia da Família
DESCRIPTION:No próximo sábado (7)\, a UPH em parceria com o Presbitério de Indaiatuba realiza o 26º Dia da Família\, encontro entre as igrejas do pesbitério para promover comunhão entre famílias. O evento será realizado no Recanto Serra do Japi\, às 9h.
URL:https://ipjundiai.org.br/eventos/dia-da-familia/
LOCATION:Recanto Serra do Japi\, R. Primo Porcari\, S/N - Medeiros\, Jundiaí - SP\, 13212-268\, Jundiaí\, SP\, 13212-268\, Brasil
CATEGORIES:Próximos Eventos
ATTACH;FMTTYPE=image/jpeg:https://ipjundiai.org.br/wp-content/uploads/2022/04/aviso-prid.jpg
END:VEVENT
BEGIN:VEVENT
DTSTART;TZID=America/Sao_Paulo:20220510T150000
DTEND;TZID=America/Sao_Paulo:20220510T160000
DTSTAMP:20260424T185608
CREATED:20220420T143919Z
LAST-MODIFIED:20220510T122542Z
UID:33514-1652194800-1652198400@ipjundiai.org.br
SUMMARY:SAF - Reunião de Oração
DESCRIPTION:
URL:https://ipjundiai.org.br/eventos/saf-reuniao-de-oracao-ipj-2/
LOCATION:IP Jundiaí\, Rua Vigário J.J. Rodrigues\, 504\, Jundiaí\, São Paulo\, 13201001\, Brasil
CATEGORIES:Próximos Eventos
ATTACH;FMTTYPE=image/jpeg:https://ipjundiai.org.br/wp-content/uploads/2022/04/aviso-saf.jpg
END:VEVENT
BEGIN:VEVENT
DTSTART;TZID=America/Sao_Paulo:20220514T180000
DTEND;TZID=America/Sao_Paulo:20220514T190000
DTSTAMP:20260424T185608
CREATED:20220506T194437Z
LAST-MODIFIED:20220510T122350Z
UID:33701-1652551200-1652554800@ipjundiai.org.br
SUMMARY:Grow
DESCRIPTION:
URL:https://ipjundiai.org.br/eventos/grow-ipj/
LOCATION:IP Jundiaí\, Rua Vigário J.J. Rodrigues\, 504\, Jundiaí\, São Paulo\, 13201001\, Brasil
CATEGORIES:Próximos Eventos
ATTACH;FMTTYPE=image/jpeg:https://ipjundiai.org.br/wp-content/uploads/2022/04/aviso-upa.jpg
END:VEVENT
BEGIN:VEVENT
DTSTART;TZID=America/Sao_Paulo:20220514T190000
DTEND;TZID=America/Sao_Paulo:20220514T203000
DTSTAMP:20260424T185608
CREATED:20220506T195619Z
LAST-MODIFIED:20220512T215307Z
UID:33705-1652554800-1652560200@ipjundiai.org.br
SUMMARY:Louvorzão
DESCRIPTION:
URL:https://ipjundiai.org.br/eventos/louvorzao-externo/
LOCATION:Externo
CATEGORIES:Próximos Eventos
ATTACH;FMTTYPE=image/jpeg:https://ipjundiai.org.br/wp-content/uploads/2022/04/aviso-ump.jpg
END:VEVENT
BEGIN:VEVENT
DTSTART;TZID=America/Sao_Paulo:20220517T193000
DTEND;TZID=America/Sao_Paulo:20220517T210000
DTSTAMP:20260424T185608
CREATED:20220429T204957Z
LAST-MODIFIED:20220514T030043Z
UID:33675-1652815800-1652821200@ipjundiai.org.br
SUMMARY:Ensaio (Coral Adorai)
DESCRIPTION:O Coral Adorai permanece os encontros para ensaios às terças-feiras\, às 19h30\, na IPJ. Se tem interesse em participar pode falar com a regente\, Elisa Protti.
URL:https://ipjundiai.org.br/eventos/ensaio-coral-adorai/
LOCATION:IP Jundiaí\, Rua Vigário J.J. Rodrigues\, 504\, Jundiaí\, São Paulo\, 13201001\, Brasil
CATEGORIES:Próximos Eventos
ATTACH;FMTTYPE=image/jpeg:https://ipjundiai.org.br/wp-content/uploads/2022/04/aviso-coral.jpg
END:VEVENT
BEGIN:VEVENT
DTSTART;TZID=America/Sao_Paulo:20220518T210000
DTEND;TZID=America/Sao_Paulo:20220518T220000
DTSTAMP:20260424T185608
CREATED:20220429T205315Z
LAST-MODIFIED:20220514T030014Z
UID:33678-1652907600-1652911200@ipjundiai.org.br
SUMMARY:Reunião de Oração
DESCRIPTION:A Mocidade de Jovens Presbiterianos (UMP) realiza no próximo dia 11\, às 21h\, a reunião de oração on-line.
URL:https://ipjundiai.org.br/eventos/reuniao-de-oracao-on-line/
LOCATION:Online
CATEGORIES:Próximos Eventos
ATTACH;FMTTYPE=image/jpeg:https://ipjundiai.org.br/wp-content/uploads/2022/04/aviso-ump.jpg
END:VEVENT
BEGIN:VEVENT
DTSTART;TZID=America/Sao_Paulo:20220519T200000
DTEND;TZID=America/Sao_Paulo:20220519T210000
DTSTAMP:20260424T185608
CREATED:20220429T145838Z
LAST-MODIFIED:20220514T025926Z
UID:33660-1652990400-1652994000@ipjundiai.org.br
SUMMARY:Estudo Bíblico
DESCRIPTION:O estudo bíblico na IPJ é realizado todas as quintas-feiras\, às 20h\, no templo\, com transmissão ao vivo pelo canal da igreja no Youtube. O tema estudado é Esgotamento Espiritual. Participe você também.
URL:https://ipjundiai.org.br/eventos/estudo-biblico-40/
LOCATION:IP Jundiaí\, Rua Vigário J.J. Rodrigues\, 504\, Jundiaí\, São Paulo\, 13201001\, Brasil
CATEGORIES:Próximos Eventos
ATTACH;FMTTYPE=image/jpeg:https://ipjundiai.org.br/wp-content/uploads/2022/04/aviso-ipj.jpg
END:VEVENT
BEGIN:VEVENT
DTSTART;TZID=America/Sao_Paulo:20220521T150000
DTEND;TZID=America/Sao_Paulo:20220521T170000
DTSTAMP:20260424T185608
CREATED:20220506T195735Z
LAST-MODIFIED:20220520T234802Z
UID:33707-1653145200-1653152400@ipjundiai.org.br
SUMMARY:Saúde da Mulher
DESCRIPTION:
URL:https://ipjundiai.org.br/eventos/saude-da-mulher-ipj/
LOCATION:IP Jundiaí\, Rua Vigário J.J. Rodrigues\, 504\, Jundiaí\, São Paulo\, 13201001\, Brasil
CATEGORIES:Próximos Eventos
ATTACH;FMTTYPE=image/jpeg:https://ipjundiai.org.br/wp-content/uploads/2022/05/aviso-saf.jpg
END:VEVENT
BEGIN:VEVENT
DTSTART;TZID=America/Sao_Paulo:20220521T150000
DTEND;TZID=America/Sao_Paulo:20220521T170000
DTSTAMP:20260424T185608
CREATED:20220520T235255Z
LAST-MODIFIED:20220520T235255Z
UID:33887-1653145200-1653152400@ipjundiai.org.br
SUMMARY:Noções de Primeiros Socorros
DESCRIPTION:
URL:https://ipjundiai.org.br/eventos/nocoes-de-primeiros-socorros/
LOCATION:IP Jundiaí\, Rua Vigário J.J. Rodrigues\, 504\, Jundiaí\, São Paulo\, 13201001\, Brasil
CATEGORIES:Próximos Eventos
ATTACH;FMTTYPE=image/jpeg:https://ipjundiai.org.br/wp-content/uploads/2022/05/uph-aviso.jpg
END:VEVENT
BEGIN:VEVENT
DTSTART;TZID=America/Sao_Paulo:20220521T180000
DTEND;TZID=America/Sao_Paulo:20220521T193000
DTSTAMP:20260424T185608
CREATED:20220514T030227Z
LAST-MODIFIED:20220514T030227Z
UID:33815-1653156000-1653161400@ipjundiai.org.br
SUMMARY:Grow
DESCRIPTION:
URL:https://ipjundiai.org.br/eventos/grow/
LOCATION:IP Jundiaí\, Rua Vigário J.J. Rodrigues\, 504\, Jundiaí\, São Paulo\, 13201001\, Brasil
CATEGORIES:Próximos Eventos
ATTACH;FMTTYPE=image/jpeg:https://ipjundiai.org.br/wp-content/uploads/2022/04/aviso-upa.jpg
END:VEVENT
BEGIN:VEVENT
DTSTART;TZID=America/Sao_Paulo:20220521T190000
DTEND;TZID=America/Sao_Paulo:20220521T203000
DTSTAMP:20260424T185608
CREATED:20220506T194543Z
LAST-MODIFIED:20220510T122247Z
UID:33703-1653159600-1653165000@ipjundiai.org.br
SUMMARY:EBI
DESCRIPTION:
URL:https://ipjundiai.org.br/eventos/ebi-ipj/
LOCATION:IP Jundiaí\, Rua Vigário J.J. Rodrigues\, 504\, Jundiaí\, São Paulo\, 13201001\, Brasil
CATEGORIES:Próximos Eventos
ATTACH;FMTTYPE=image/jpeg:https://ipjundiai.org.br/wp-content/uploads/2022/04/aviso-ump.jpg
END:VEVENT
BEGIN:VEVENT
DTSTART;TZID=America/Sao_Paulo:20220524T150000
DTEND;TZID=America/Sao_Paulo:20220524T160000
DTSTAMP:20260424T185608
CREATED:20220520T233217Z
LAST-MODIFIED:20220520T233218Z
UID:33864-1653404400-1653408000@ipjundiai.org.br
SUMMARY:Reunião de Oração
DESCRIPTION:
URL:https://ipjundiai.org.br/eventos/reuniao-de-oracao-12/
LOCATION:IP Jundiaí\, Rua Vigário J.J. Rodrigues\, 504\, Jundiaí\, São Paulo\, 13201001\, Brasil
CATEGORIES:Próximos Eventos
ATTACH;FMTTYPE=image/jpeg:https://ipjundiai.org.br/wp-content/uploads/2022/05/aviso-saf.jpg
END:VEVENT
BEGIN:VEVENT
DTSTART;TZID=America/Sao_Paulo:20220524T193000
DTEND;TZID=America/Sao_Paulo:20220524T210000
DTSTAMP:20260424T185608
CREATED:20220520T233357Z
LAST-MODIFIED:20220520T233358Z
UID:33874-1653420600-1653426000@ipjundiai.org.br
SUMMARY:Ensaio (Coral Adorai)
DESCRIPTION:
URL:https://ipjundiai.org.br/eventos/ensaio-coral-adorai-2/
LOCATION:IP Jundiaí\, Rua Vigário J.J. Rodrigues\, 504\, Jundiaí\, São Paulo\, 13201001\, Brasil
CATEGORIES:Próximos Eventos
ATTACH;FMTTYPE=image/jpeg:https://ipjundiai.org.br/wp-content/uploads/2022/05/coral-aviso.jpg
END:VEVENT
BEGIN:VEVENT
DTSTART;TZID=America/Sao_Paulo:20220525T210000
DTEND;TZID=America/Sao_Paulo:20220525T220000
DTSTAMP:20260424T185608
CREATED:20220520T233519Z
LAST-MODIFIED:20220520T233519Z
UID:33876-1653512400-1653516000@ipjundiai.org.br
SUMMARY:Reunião de Oração
DESCRIPTION:
URL:https://ipjundiai.org.br/eventos/reuniao-de-oracao-13/
LOCATION:Online
CATEGORIES:Próximos Eventos
ATTACH;FMTTYPE=image/jpeg:https://ipjundiai.org.br/wp-content/uploads/2022/05/ump-aviso.jpg
END:VEVENT
BEGIN:VEVENT
DTSTART;TZID=America/Sao_Paulo:20220528T180000
DTEND;TZID=America/Sao_Paulo:20220528T193000
DTSTAMP:20260424T185608
CREATED:20220520T233704Z
LAST-MODIFIED:20220520T233704Z
UID:33881-1653760800-1653766200@ipjundiai.org.br
SUMMARY:Grow
DESCRIPTION:
URL:https://ipjundiai.org.br/eventos/grow-2/
LOCATION:IP Jundiaí\, Rua Vigário J.J. Rodrigues\, 504\, Jundiaí\, São Paulo\, 13201001\, Brasil
CATEGORIES:Próximos Eventos
ATTACH;FMTTYPE=image/jpeg:https://ipjundiai.org.br/wp-content/uploads/2022/05/upa-aviso.jpg
END:VEVENT
BEGIN:VEVENT
DTSTART;TZID=America/Sao_Paulo:20220531T150000
DTEND;TZID=America/Sao_Paulo:20220531T160000
DTSTAMP:20260424T185608
CREATED:20220527T201836Z
LAST-MODIFIED:20220527T201836Z
UID:33958-1654009200-1654012800@ipjundiai.org.br
SUMMARY:Reunião de Oração
DESCRIPTION:
URL:https://ipjundiai.org.br/eventos/reuniao-de-oracao-14/
LOCATION:IP Jundiaí\, Rua Vigário J.J. Rodrigues\, 504\, Jundiaí\, São Paulo\, 13201001\, Brasil
CATEGORIES:Próximos Eventos
ATTACH;FMTTYPE=image/jpeg:https://ipjundiai.org.br/wp-content/uploads/2022/05/aviso-saf.jpg
END:VEVENT
BEGIN:VEVENT
DTSTART;TZID=America/Sao_Paulo:20220531T193000
DTEND;TZID=America/Sao_Paulo:20220531T210000
DTSTAMP:20260424T185608
CREATED:20220527T202001Z
LAST-MODIFIED:20220527T202002Z
UID:33960-1654025400-1654030800@ipjundiai.org.br
SUMMARY:Coral Adorai
DESCRIPTION:
URL:https://ipjundiai.org.br/eventos/coral-adorai-2/
LOCATION:IP Jundiaí\, Rua Vigário J.J. Rodrigues\, 504\, Jundiaí\, São Paulo\, 13201001\, Brasil
CATEGORIES:Próximos Eventos
ATTACH;FMTTYPE=image/jpeg:https://ipjundiai.org.br/wp-content/uploads/2022/05/coral-aviso.jpg
END:VEVENT
BEGIN:VEVENT
DTSTART;TZID=America/Sao_Paulo:20220601T210000
DTEND;TZID=America/Sao_Paulo:20220601T220000
DTSTAMP:20260424T185608
CREATED:20220527T202138Z
LAST-MODIFIED:20220527T202139Z
UID:33962-1654117200-1654120800@ipjundiai.org.br
SUMMARY:Reunião de Oração
DESCRIPTION:
URL:https://ipjundiai.org.br/eventos/reuniao-de-oracao-15/
LOCATION:Online
CATEGORIES:Próximos Eventos
ATTACH;FMTTYPE=image/jpeg:https://ipjundiai.org.br/wp-content/uploads/2022/05/ump-aviso.jpg
END:VEVENT
BEGIN:VEVENT
DTSTART;TZID=America/Sao_Paulo:20220604T180000
DTEND;TZID=America/Sao_Paulo:20220604T193000
DTSTAMP:20260424T185608
CREATED:20220527T202246Z
LAST-MODIFIED:20220527T202246Z
UID:33964-1654365600-1654371000@ipjundiai.org.br
SUMMARY:Grow
DESCRIPTION:
URL:https://ipjundiai.org.br/eventos/grow-3/
LOCATION:São Paulo
CATEGORIES:Próximos Eventos
ATTACH;FMTTYPE=image/jpeg:https://ipjundiai.org.br/wp-content/uploads/2022/05/upa-aviso.jpg
END:VEVENT
BEGIN:VEVENT
DTSTART;TZID=America/Sao_Paulo:20220604T190000
DTEND;TZID=America/Sao_Paulo:20220604T203000
DTSTAMP:20260424T185608
CREATED:20220527T202522Z
LAST-MODIFIED:20220527T202523Z
UID:33966-1654369200-1654374600@ipjundiai.org.br
SUMMARY:Culto
DESCRIPTION:
URL:https://ipjundiai.org.br/eventos/culto/
LOCATION:IP Jundiaí\, Rua Vigário J.J. Rodrigues\, 504\, Jundiaí\, São Paulo\, 13201001\, Brasil
CATEGORIES:Próximos Eventos
ATTACH;FMTTYPE=image/jpeg:https://ipjundiai.org.br/wp-content/uploads/2022/05/ump-aviso.jpg
END:VEVENT
BEGIN:VEVENT
DTSTART;TZID=America/Sao_Paulo:20220611T180000
DTEND;TZID=America/Sao_Paulo:20220611T193000
DTSTAMP:20260424T185608
CREATED:20220604T001058Z
LAST-MODIFIED:20220604T001059Z
UID:34042-1654970400-1654975800@ipjundiai.org.br
SUMMARY:Grow
DESCRIPTION:
URL:https://ipjundiai.org.br/eventos/grow-4/
LOCATION:IP Jundiaí\, Rua Vigário J.J. Rodrigues\, 504\, Jundiaí\, São Paulo\, 13201001\, Brasil
CATEGORIES:Próximos Eventos
ATTACH;FMTTYPE=image/jpeg:https://ipjundiai.org.br/wp-content/uploads/2022/05/upa-aviso.jpg
END:VEVENT
BEGIN:VEVENT
DTSTART;TZID=America/Sao_Paulo:20220611T190000
DTEND;TZID=America/Sao_Paulo:20220611T203000
DTSTAMP:20260424T185608
CREATED:20220527T202620Z
LAST-MODIFIED:20220527T202620Z
UID:33968-1654974000-1654979400@ipjundiai.org.br
SUMMARY:Estudo
DESCRIPTION:
URL:https://ipjundiai.org.br/eventos/estudo/
LOCATION:IP Jundiaí\, Rua Vigário J.J. Rodrigues\, 504\, Jundiaí\, São Paulo\, 13201001\, Brasil
CATEGORIES:Próximos Eventos
ATTACH;FMTTYPE=image/jpeg:https://ipjundiai.org.br/wp-content/uploads/2022/05/ump-aviso.jpg
END:VEVENT
BEGIN:VEVENT
DTSTART;TZID=America/Sao_Paulo:20220614T150000
DTEND;TZID=America/Sao_Paulo:20220614T160000
DTSTAMP:20260424T185608
CREATED:20220603T204839Z
LAST-MODIFIED:20220610T163910Z
UID:34028-1655218800-1655222400@ipjundiai.org.br
SUMMARY:Reunião de Oração
DESCRIPTION:
URL:https://ipjundiai.org.br/eventos/reuniao-de-oracao-16/
LOCATION:IP Jundiaí\, Rua Vigário J.J. Rodrigues\, 504\, Jundiaí\, São Paulo\, 13201001\, Brasil
CATEGORIES:Próximos Eventos
ATTACH;FMTTYPE=image/jpeg:https://ipjundiai.org.br/wp-content/uploads/2022/05/aviso-saf.jpg
END:VEVENT
BEGIN:VEVENT
DTSTART;TZID=America/Sao_Paulo:20220614T193000
DTEND;TZID=America/Sao_Paulo:20220614T210000
DTSTAMP:20260424T185608
CREATED:20220603T204937Z
LAST-MODIFIED:20220610T163757Z
UID:34030-1655235000-1655240400@ipjundiai.org.br
SUMMARY:Coral Adorai (Ensaio)
DESCRIPTION:
URL:https://ipjundiai.org.br/eventos/coral-adorai-ensaio-33/
LOCATION:IP Jundiaí\, Rua Vigário J.J. Rodrigues\, 504\, Jundiaí\, São Paulo\, 13201001\, Brasil
CATEGORIES:Próximos Eventos
ATTACH;FMTTYPE=image/jpeg:https://ipjundiai.org.br/wp-content/uploads/2022/05/coral-aviso.jpg
END:VEVENT
END:VCALENDAR