BEGIN:VCALENDAR
VERSION:2.0
PRODID:-//Igreja Presbiteriana de Jundiaí - ECPv6.15.11//NONSGML v1.0//EN
CALSCALE:GREGORIAN
METHOD:PUBLISH
X-WR-CALNAME:Igreja Presbiteriana de Jundiaí
X-ORIGINAL-URL:https://ipjundiai.org.br
X-WR-CALDESC:Eventos para Igreja Presbiteriana de Jundiaí
REFRESH-INTERVAL;VALUE=DURATION:PT1H
X-Robots-Tag:noindex
X-PUBLISHED-TTL:PT1H
BEGIN:VTIMEZONE
TZID:America/Sao_Paulo
BEGIN:STANDARD
TZOFFSETFROM:-0300
TZOFFSETTO:-0300
TZNAME:-03
DTSTART:20220101T000000
END:STANDARD
END:VTIMEZONE
BEGIN:VEVENT
DTSTART;TZID=America/Sao_Paulo:20230804T080000
DTEND;TZID=America/Sao_Paulo:20230806T170000
DTSTAMP:20260420T014051
CREATED:20230728T200855Z
LAST-MODIFIED:20230728T200856Z
UID:36779-1691136000-1691341200@ipjundiai.org.br
SUMMARY:Encontro (UPA)
DESCRIPTION:
URL:https://ipjundiai.org.br/eventos/encontro-upa-4/
LOCATION:Sítio Salvador\, C894+X3 Serra Negra\, SP\, Serra Negra\, São Paulo\, 13930-000\, Brasil
CATEGORIES:Próximos Eventos
ATTACH;FMTTYPE=image/jpeg:https://ipjundiai.org.br/wp-content/uploads/2022/05/upa-aviso.jpg
END:VEVENT
BEGIN:VEVENT
DTSTART;TZID=America/Sao_Paulo:20230805T190000
DTEND;TZID=America/Sao_Paulo:20230805T203000
DTSTAMP:20260420T014051
CREATED:20230728T200953Z
LAST-MODIFIED:20230728T200954Z
UID:36781-1691262000-1691267400@ipjundiai.org.br
SUMMARY:Culto (UMP)
DESCRIPTION:
URL:https://ipjundiai.org.br/eventos/culto-ump-9/
LOCATION:IP Jundiaí\, Rua Vigário J.J. Rodrigues\, 504\, Jundiaí\, São Paulo\, 13201001\, Brasil
CATEGORIES:Próximos Eventos
ATTACH;FMTTYPE=image/jpeg:https://ipjundiai.org.br/wp-content/uploads/2022/08/ump-agenda.jpg
END:VEVENT
BEGIN:VEVENT
DTSTART;VALUE=DATE:20230806
DTEND;VALUE=DATE:20230807
DTSTAMP:20260420T014051
CREATED:20230728T201110Z
LAST-MODIFIED:20230728T201111Z
UID:36783-1691280000-1691366399@ipjundiai.org.br
SUMMARY:Dia do Presbítero
DESCRIPTION:
URL:https://ipjundiai.org.br/eventos/dia-do-presbitero-3/
LOCATION:IP Jundiaí\, Rua Vigário J.J. Rodrigues\, 504\, Jundiaí\, São Paulo\, 13201001\, Brasil
CATEGORIES:Próximos Eventos
ATTACH;FMTTYPE=image/jpeg:https://ipjundiai.org.br/wp-content/uploads/2022/08/ipj-agenda.jpg
END:VEVENT
BEGIN:VEVENT
DTSTART;TZID=America/Sao_Paulo:20230812T170000
DTEND;TZID=America/Sao_Paulo:20230812T193000
DTSTAMP:20260420T014051
CREATED:20230728T201235Z
LAST-MODIFIED:20230728T201236Z
UID:36785-1691859600-1691868600@ipjundiai.org.br
SUMMARY:Culto Gratidão 164 anos IPB
DESCRIPTION:
URL:https://ipjundiai.org.br/eventos/culto-gratidao-164-anos-ipb/
LOCATION:IP Itú\, R. Dr. Felipe Nagibe Chebel\, Itú\, São Paulo\, 13300-000\, Brasil
CATEGORIES:Próximos Eventos
ATTACH;FMTTYPE=image/jpeg:https://ipjundiai.org.br/wp-content/uploads/2022/08/ipj-agenda.jpg
END:VEVENT
BEGIN:VEVENT
DTSTART;TZID=America/Sao_Paulo:20230813T080000
DTEND;TZID=America/Sao_Paulo:20230813T090000
DTSTAMP:20260420T014051
CREATED:20230728T201347Z
LAST-MODIFIED:20230728T201347Z
UID:36787-1691913600-1691917200@ipjundiai.org.br
SUMMARY:Café Dia dos Pais (SAF)
DESCRIPTION:
URL:https://ipjundiai.org.br/eventos/cafe-dia-dos-pais-saf/
LOCATION:IP Jundiaí\, Rua Vigário J.J. Rodrigues\, 504\, Jundiaí\, São Paulo\, 13201001\, Brasil
CATEGORIES:Próximos Eventos
ATTACH;FMTTYPE=image/jpeg:https://ipjundiai.org.br/wp-content/uploads/2022/08/saf-agenda.jpg
END:VEVENT
BEGIN:VEVENT
DTSTART;TZID=America/Sao_Paulo:20230818T193000
DTEND;TZID=America/Sao_Paulo:20230818T220000
DTSTAMP:20260420T014051
CREATED:20230804T203627Z
LAST-MODIFIED:20230804T203628Z
UID:36830-1692387000-1692396000@ipjundiai.org.br
SUMMARY:Acampadentro. IPJ
DESCRIPTION:
URL:https://ipjundiai.org.br/eventos/acampadentro-ipj/
LOCATION:IP Jundiaí\, Rua Vigário J.J. Rodrigues\, 504\, Jundiaí\, São Paulo\, 13201001\, Brasil
CATEGORIES:Próximos Eventos
ATTACH;FMTTYPE=image/jpeg:https://ipjundiai.org.br/wp-content/uploads/2022/08/infantil-agenda.jpg
END:VEVENT
BEGIN:VEVENT
DTSTART;TZID=America/Sao_Paulo:20230819T150000
DTEND;TZID=America/Sao_Paulo:20230819T170000
DTSTAMP:20260420T014051
CREATED:20230804T203738Z
LAST-MODIFIED:20230804T203739Z
UID:36832-1692457200-1692464400@ipjundiai.org.br
SUMMARY:Plenária Oficina Beleza. IPJ
DESCRIPTION:
URL:https://ipjundiai.org.br/eventos/plenaria-oficina-beleza-ipj/
LOCATION:IP Jundiaí\, Rua Vigário J.J. Rodrigues\, 504\, Jundiaí\, São Paulo\, 13201001\, Brasil
CATEGORIES:Próximos Eventos
ATTACH;FMTTYPE=image/jpeg:https://ipjundiai.org.br/wp-content/uploads/2022/08/saf-agenda.jpg
END:VEVENT
BEGIN:VEVENT
DTSTART;TZID=America/Sao_Paulo:20230819T160000
DTEND;TZID=America/Sao_Paulo:20230819T170000
DTSTAMP:20260420T014051
CREATED:20230804T203834Z
LAST-MODIFIED:20230804T203835Z
UID:36834-1692460800-1692464400@ipjundiai.org.br
SUMMARY:Reunião e EBI. Externo
DESCRIPTION:
URL:https://ipjundiai.org.br/eventos/reuniao-e-ebi-externo/
LOCATION:São Paulo
CATEGORIES:Próximos Eventos
ATTACH;FMTTYPE=image/jpeg:https://ipjundiai.org.br/wp-content/uploads/2022/08/ump-agenda.jpg
END:VEVENT
BEGIN:VEVENT
DTSTART;TZID=America/Sao_Paulo:20230819T190000
DTEND;TZID=America/Sao_Paulo:20230819T203000
DTSTAMP:20260420T014051
CREATED:20230804T203926Z
LAST-MODIFIED:20230804T203927Z
UID:36836-1692471600-1692477000@ipjundiai.org.br
SUMMARY:Grow. IPJ
DESCRIPTION:
URL:https://ipjundiai.org.br/eventos/grow-ipj-2/
LOCATION:IP Jundiaí\, Rua Vigário J.J. Rodrigues\, 504\, Jundiaí\, São Paulo\, 13201001\, Brasil
CATEGORIES:Próximos Eventos
ATTACH;FMTTYPE=image/jpeg:https://ipjundiai.org.br/wp-content/uploads/2022/05/upa-aviso.jpg
END:VEVENT
BEGIN:VEVENT
DTSTART;VALUE=DATE:20230902
DTEND;VALUE=DATE:20230903
DTSTAMP:20260420T014051
CREATED:20230825T192646Z
LAST-MODIFIED:20230901T191217Z
UID:37086-1693612800-1693699199@ipjundiai.org.br
SUMMARY:Programação Mattiassi (UPH)
DESCRIPTION:
URL:https://ipjundiai.org.br/eventos/programacao-em-louveira-uph/
LOCATION:Matiassi\, R. Barcelona\, 148\, Jundiaí\, São Paulo\, 13214-736\, Brasil
CATEGORIES:Próximos Eventos
ATTACH;FMTTYPE=image/jpeg:https://ipjundiai.org.br/wp-content/uploads/2022/08/uph-agenda.jpg
END:VEVENT
BEGIN:VEVENT
DTSTART;TZID=America/Sao_Paulo:20230902T100000
DTEND;TZID=America/Sao_Paulo:20230902T170000
DTSTAMP:20260420T014051
CREATED:20230825T192415Z
LAST-MODIFIED:20230825T192416Z
UID:37084-1693648800-1693674000@ipjundiai.org.br
SUMMARY:Programação PRID. (UMP)
DESCRIPTION:
URL:https://ipjundiai.org.br/eventos/programacao-prid-ump-2/
LOCATION:São Paulo
CATEGORIES:Próximos Eventos
ATTACH;FMTTYPE=image/jpeg:https://ipjundiai.org.br/wp-content/uploads/2022/08/ump-agenda.jpg
END:VEVENT
BEGIN:VEVENT
DTSTART;TZID=America/Sao_Paulo:20230902T190000
DTEND;TZID=America/Sao_Paulo:20230902T203000
DTSTAMP:20260420T014051
CREATED:20230825T192301Z
LAST-MODIFIED:20230825T192302Z
UID:37082-1693681200-1693686600@ipjundiai.org.br
SUMMARY:Grow. IPJ (UPA)
DESCRIPTION:
URL:https://ipjundiai.org.br/eventos/grow-ipj-upa/
LOCATION:IP Jundiaí\, Rua Vigário J.J. Rodrigues\, 504\, Jundiaí\, São Paulo\, 13201001\, Brasil
CATEGORIES:Próximos Eventos
ATTACH;FMTTYPE=image/jpeg:https://ipjundiai.org.br/wp-content/uploads/2022/04/aviso-upa.jpg
END:VEVENT
BEGIN:VEVENT
DTSTART;VALUE=DATE:20230908
DTEND;VALUE=DATE:20230909
DTSTAMP:20260420T014051
CREATED:20230825T192744Z
LAST-MODIFIED:20230825T192745Z
UID:37088-1694131200-1694217599@ipjundiai.org.br
SUMMARY:Dia Seminários e Seminaristas
DESCRIPTION:
URL:https://ipjundiai.org.br/eventos/dia-seminarios-e-seminaristas/
LOCATION:IP Jundiaí\, Rua Vigário J.J. Rodrigues\, 504\, Jundiaí\, São Paulo\, 13201001\, Brasil
CATEGORIES:Próximos Eventos
ATTACH;FMTTYPE=image/jpeg:https://ipjundiai.org.br/wp-content/uploads/2022/08/ipj-agenda.jpg
END:VEVENT
BEGIN:VEVENT
DTSTART;VALUE=DATE:20230909
DTEND;VALUE=DATE:20230910
DTSTAMP:20260420T014051
CREATED:20230825T193115Z
LAST-MODIFIED:20230825T193116Z
UID:37094-1694217600-1694303999@ipjundiai.org.br
SUMMARY:Encontro Serra Negra. (UMP)
DESCRIPTION:
URL:https://ipjundiai.org.br/eventos/encontro-serra-negra-ump/
LOCATION:Sítio Salvador\, C894+X3 Serra Negra\, SP\, Serra Negra\, São Paulo\, 13930-000\, Brasil
CATEGORIES:Próximos Eventos
ATTACH;FMTTYPE=image/jpeg:https://ipjundiai.org.br/wp-content/uploads/2022/08/ump-agenda.jpg
END:VEVENT
BEGIN:VEVENT
DTSTART;TZID=America/Sao_Paulo:20230909T150000
DTEND;TZID=America/Sao_Paulo:20230909T170000
DTSTAMP:20260420T014051
CREATED:20230825T192840Z
LAST-MODIFIED:20230825T192841Z
UID:37090-1694271600-1694278800@ipjundiai.org.br
SUMMARY:Chá da Primavera. IPJ (SAF)
DESCRIPTION:
URL:https://ipjundiai.org.br/eventos/cha-da-primavera-ipj-saf/
LOCATION:IP Jundiaí\, Rua Vigário J.J. Rodrigues\, 504\, Jundiaí\, São Paulo\, 13201001\, Brasil
CATEGORIES:Próximos Eventos
ATTACH;FMTTYPE=image/jpeg:https://ipjundiai.org.br/wp-content/uploads/2022/08/saf-agenda.jpg
END:VEVENT
BEGIN:VEVENT
DTSTART;TZID=America/Sao_Paulo:20230909T190000
DTEND;TZID=America/Sao_Paulo:20230909T203000
DTSTAMP:20260420T014051
CREATED:20230825T192950Z
LAST-MODIFIED:20230825T192951Z
UID:37092-1694286000-1694291400@ipjundiai.org.br
SUMMARY:Grow. IPJ (UPA)
DESCRIPTION:
URL:https://ipjundiai.org.br/eventos/grow-ipj-upa-2/
LOCATION:IP Jundiaí\, Rua Vigário J.J. Rodrigues\, 504\, Jundiaí\, São Paulo\, 13201001\, Brasil
CATEGORIES:Próximos Eventos
ATTACH;FMTTYPE=image/jpeg:https://ipjundiai.org.br/wp-content/uploads/2022/04/aviso-upa.jpg
END:VEVENT
BEGIN:VEVENT
DTSTART;TZID=America/Sao_Paulo:20230916T190000
DTEND;TZID=America/Sao_Paulo:20230916T203000
DTSTAMP:20260420T014051
CREATED:20230825T193210Z
LAST-MODIFIED:20230825T193331Z
UID:37096-1694890800-1694896200@ipjundiai.org.br
SUMMARY:Grow. IPJ (UPA)
DESCRIPTION:
URL:https://ipjundiai.org.br/eventos/grow-ipj-upa-3/
LOCATION:São Paulo
CATEGORIES:Próximos Eventos
ATTACH;FMTTYPE=image/jpeg:https://ipjundiai.org.br/wp-content/uploads/2022/04/aviso-upa.jpg
END:VEVENT
BEGIN:VEVENT
DTSTART;VALUE=DATE:20230917
DTEND;VALUE=DATE:20230918
DTSTAMP:20260420T014051
CREATED:20230825T193418Z
LAST-MODIFIED:20230825T193420Z
UID:37098-1694908800-1694995199@ipjundiai.org.br
SUMMARY:Dia da Escola Bíblica Dominical
DESCRIPTION:
URL:https://ipjundiai.org.br/eventos/dia-da-escola-biblica-dominical-3/
LOCATION:IP Jundiaí\, Rua Vigário J.J. Rodrigues\, 504\, Jundiaí\, São Paulo\, 13201001\, Brasil
CATEGORIES:Próximos Eventos
ATTACH;FMTTYPE=image/jpeg:https://ipjundiai.org.br/wp-content/uploads/2022/08/ipj-agenda.jpg
END:VEVENT
BEGIN:VEVENT
DTSTART;TZID=America/Sao_Paulo:20230922T193000
DTEND;TZID=America/Sao_Paulo:20230922T210000
DTSTAMP:20260420T014051
CREATED:20230825T193532Z
LAST-MODIFIED:20230825T193533Z
UID:37100-1695411000-1695416400@ipjundiai.org.br
SUMMARY:Encontro. IPJ (Infantil)
DESCRIPTION:
URL:https://ipjundiai.org.br/eventos/encontro-ipj-infantil/
LOCATION:IP Jundiaí\, Rua Vigário J.J. Rodrigues\, 504\, Jundiaí\, São Paulo\, 13201001\, Brasil
CATEGORIES:Próximos Eventos
ATTACH;FMTTYPE=image/jpeg:https://ipjundiai.org.br/wp-content/uploads/2022/08/infantil-agenda.jpg
END:VEVENT
BEGIN:VEVENT
DTSTART;TZID=America/Sao_Paulo:20230923T190000
DTEND;TZID=America/Sao_Paulo:20230923T203000
DTSTAMP:20260420T014051
CREATED:20230825T193642Z
LAST-MODIFIED:20230825T193642Z
UID:37102-1695495600-1695501000@ipjundiai.org.br
SUMMARY:Grow. IPJ (UPA)
DESCRIPTION:
URL:https://ipjundiai.org.br/eventos/grow-ipj-upa-4/
LOCATION:IP Jundiaí\, Rua Vigário J.J. Rodrigues\, 504\, Jundiaí\, São Paulo\, 13201001\, Brasil
CATEGORIES:Próximos Eventos
ATTACH;FMTTYPE=image/jpeg:https://ipjundiai.org.br/wp-content/uploads/2022/04/aviso-upa.jpg
END:VEVENT
BEGIN:VEVENT
DTSTART;TZID=America/Sao_Paulo:20230923T190000
DTEND;TZID=America/Sao_Paulo:20230923T203000
DTSTAMP:20260420T014052
CREATED:20230825T193758Z
LAST-MODIFIED:20230825T193758Z
UID:37104-1695495600-1695501000@ipjundiai.org.br
SUMMARY:Gincana (Livro de Atos). IPJ (UPH)
DESCRIPTION:
URL:https://ipjundiai.org.br/eventos/gincana-livro-de-atos-ipj-uph/
LOCATION:IP Jundiaí\, Rua Vigário J.J. Rodrigues\, 504\, Jundiaí\, São Paulo\, 13201001\, Brasil
CATEGORIES:Próximos Eventos
ATTACH;FMTTYPE=image/jpeg:https://ipjundiai.org.br/wp-content/uploads/2022/08/uph-agenda.jpg
END:VEVENT
BEGIN:VEVENT
DTSTART;TZID=America/Sao_Paulo:20230929T080000
DTEND;TZID=America/Sao_Paulo:20231001T170000
DTSTAMP:20260420T014052
CREATED:20230825T193922Z
LAST-MODIFIED:20230825T193923Z
UID:37106-1695974400-1696179600@ipjundiai.org.br
SUMMARY:Acampamento Federação (UPH)
DESCRIPTION:
URL:https://ipjundiai.org.br/eventos/acampamento-federacao-uph/
LOCATION:Campo Limpo Pta
CATEGORIES:Próximos Eventos
ATTACH;FMTTYPE=image/jpeg:https://ipjundiai.org.br/wp-content/uploads/2022/08/uph-agenda.jpg
END:VEVENT
BEGIN:VEVENT
DTSTART;TZID=America/Sao_Paulo:20230930T160000
DTEND;TZID=America/Sao_Paulo:20230930T173000
DTSTAMP:20260420T014052
CREATED:20230825T194139Z
LAST-MODIFIED:20230825T194140Z
UID:37109-1696089600-1696095000@ipjundiai.org.br
SUMMARY:Pic Nic. Parque da Cidade (3ª Idade)
DESCRIPTION:
URL:https://ipjundiai.org.br/eventos/pic-nic-parque-da-cidade-3a-idade/
LOCATION:Parque da Cidade Jundiaí\, Rodovia João Cereser\, km 66\, Jundiaí\, São Paulo\, 13214-470\, Brasil
CATEGORIES:Próximos Eventos
ATTACH;FMTTYPE=image/jpeg:https://ipjundiai.org.br/wp-content/uploads/2022/08/ipj-agenda.jpg
END:VEVENT
BEGIN:VEVENT
DTSTART;TZID=America/Sao_Paulo:20231007T150000
DTEND;TZID=America/Sao_Paulo:20231007T170000
DTSTAMP:20260420T014052
CREATED:20230929T212425Z
LAST-MODIFIED:20230929T212426Z
UID:37257-1696690800-1696698000@ipjundiai.org.br
SUMMARY:Intercambio Infantil (UCP)
DESCRIPTION:
URL:https://ipjundiai.org.br/eventos/intercambio-infantil-ucp/
LOCATION:IP Jundiaí\, Rua Vigário J.J. Rodrigues\, 504\, Jundiaí\, São Paulo\, 13201001\, Brasil
CATEGORIES:Próximos Eventos
ATTACH;FMTTYPE=image/jpeg:https://ipjundiai.org.br/wp-content/uploads/2022/08/infantil-agenda.jpg
END:VEVENT
BEGIN:VEVENT
DTSTART;TZID=America/Sao_Paulo:20231007T190000
DTEND;TZID=America/Sao_Paulo:20231007T203000
DTSTAMP:20260420T014052
CREATED:20230928T135728Z
LAST-MODIFIED:20230928T135729Z
UID:37226-1696705200-1696710600@ipjundiai.org.br
SUMMARY:Culto Gratidão Pelos Bebês (SAF)
DESCRIPTION:
URL:https://ipjundiai.org.br/eventos/culto-gratidao-pelos-bebes-saf/
LOCATION:IP Jundiaí\, Rua Vigário J.J. Rodrigues\, 504\, Jundiaí\, São Paulo\, 13201001\, Brasil
CATEGORIES:Próximos Eventos
ATTACH;FMTTYPE=image/jpeg:https://ipjundiai.org.br/wp-content/uploads/2022/08/saf-agenda.jpg
END:VEVENT
BEGIN:VEVENT
DTSTART;TZID=America/Sao_Paulo:20231008T100000
DTEND;TZID=America/Sao_Paulo:20231008T113000
DTSTAMP:20260420T014052
CREATED:20230922T182751Z
LAST-MODIFIED:20231006T203232Z
UID:37212-1696759200-1696764600@ipjundiai.org.br
SUMMARY:Assembleia Geral Extraordinaria (Eleição)
DESCRIPTION:
URL:https://ipjundiai.org.br/eventos/assembleia-geral-extraordinaria-eleicao/
LOCATION:IP Jundiaí\, Rua Vigário J.J. Rodrigues\, 504\, Jundiaí\, São Paulo\, 13201001\, Brasil
CATEGORIES:Próximos Eventos
ATTACH;FMTTYPE=image/jpeg:https://ipjundiai.org.br/wp-content/uploads/2022/08/ipj-agenda.jpg
END:VEVENT
BEGIN:VEVENT
DTSTART;VALUE=DATE:20231011
DTEND;VALUE=DATE:20231012
DTSTAMP:20260420T014052
CREATED:20230929T212655Z
LAST-MODIFIED:20230929T212655Z
UID:37261-1696982400-1697068799@ipjundiai.org.br
SUMMARY:Dia da SAF em revista
DESCRIPTION:
URL:https://ipjundiai.org.br/eventos/dia-da-saf-em-revista/
LOCATION:São Paulo
CATEGORIES:Próximos Eventos
ATTACH;FMTTYPE=image/jpeg:https://ipjundiai.org.br/wp-content/uploads/2022/08/saf-agenda.jpg
END:VEVENT
BEGIN:VEVENT
DTSTART;TZID=America/Sao_Paulo:20231012T080000
DTEND;TZID=America/Sao_Paulo:20231015T170000
DTSTAMP:20260420T014052
CREATED:20230929T212808Z
LAST-MODIFIED:20230929T212809Z
UID:37263-1697097600-1697389200@ipjundiai.org.br
SUMMARY:Acampamento PRID (UPA)
DESCRIPTION:
URL:https://ipjundiai.org.br/eventos/acampamento-prid-upa/
LOCATION:São Paulo
CATEGORIES:Próximos Eventos
ATTACH;FMTTYPE=image/jpeg:https://ipjundiai.org.br/wp-content/uploads/2022/04/aviso-upa.jpg
END:VEVENT
BEGIN:VEVENT
DTSTART;TZID=America/Sao_Paulo:20231014T190000
DTEND;TZID=America/Sao_Paulo:20231014T203000
DTSTAMP:20260420T014052
CREATED:20230929T213004Z
LAST-MODIFIED:20231006T204238Z
UID:37265-1697310000-1697315400@ipjundiai.org.br
SUMMARY:Culto (UMP)
DESCRIPTION:
URL:https://ipjundiai.org.br/eventos/debate-ufc-ump/
LOCATION:IP Jundiaí\, Rua Vigário J.J. Rodrigues\, 504\, Jundiaí\, São Paulo\, 13201001\, Brasil
CATEGORIES:Próximos Eventos
ATTACH;FMTTYPE=image/jpeg:https://ipjundiai.org.br/wp-content/uploads/2022/08/ump-agenda.jpg
END:VEVENT
BEGIN:VEVENT
DTSTART;TZID=America/Sao_Paulo:20231021T090000
DTEND;TZID=America/Sao_Paulo:20231021T110000
DTSTAMP:20260420T014052
CREATED:20230929T213117Z
LAST-MODIFIED:20230929T213118Z
UID:37267-1697878800-1697886000@ipjundiai.org.br
SUMMARY:Palestra (UPH)
DESCRIPTION:
URL:https://ipjundiai.org.br/eventos/palestra-uph/
LOCATION:IP Jundiaí\, Rua Vigário J.J. Rodrigues\, 504\, Jundiaí\, São Paulo\, 13201001\, Brasil
CATEGORIES:Próximos Eventos
ATTACH;FMTTYPE=image/jpeg:https://ipjundiai.org.br/wp-content/uploads/2022/08/uph-agenda.jpg
END:VEVENT
END:VCALENDAR