BEGIN:VCALENDAR
VERSION:2.0
PRODID:-//Igreja Presbiteriana de Jundiaí - ECPv6.15.11//NONSGML v1.0//EN
CALSCALE:GREGORIAN
METHOD:PUBLISH
X-WR-CALNAME:Igreja Presbiteriana de Jundiaí
X-ORIGINAL-URL:https://ipjundiai.org.br
X-WR-CALDESC:Eventos para Igreja Presbiteriana de Jundiaí
REFRESH-INTERVAL;VALUE=DURATION:PT1H
X-Robots-Tag:noindex
X-PUBLISHED-TTL:PT1H
BEGIN:VTIMEZONE
TZID:America/Sao_Paulo
BEGIN:STANDARD
TZOFFSETFROM:-0300
TZOFFSETTO:-0300
TZNAME:-03
DTSTART:20220101T000000
END:STANDARD
END:VTIMEZONE
BEGIN:VEVENT
DTSTART;TZID=America/Sao_Paulo:20231031T200000
DTEND;TZID=America/Sao_Paulo:20231031T213000
DTSTAMP:20260420T001107
CREATED:20231006T204739Z
LAST-MODIFIED:20231006T204739Z
UID:37315-1698782400-1698787800@ipjundiai.org.br
SUMMARY:Dia da Reforma Protestante
DESCRIPTION:
URL:https://ipjundiai.org.br/eventos/dia-da-reforma-protestante/
LOCATION:IP Jundiaí\, Rua Vigário J.J. Rodrigues\, 504\, Jundiaí\, São Paulo\, 13201001\, Brasil
CATEGORIES:Próximos Eventos
ATTACH;FMTTYPE=image/jpeg:https://ipjundiai.org.br/wp-content/uploads/2022/08/ipj-agenda.jpg
END:VEVENT
BEGIN:VEVENT
DTSTART;TZID=America/Sao_Paulo:20231101T210000
DTEND;TZID=America/Sao_Paulo:20231101T220000
DTSTAMP:20260420T001107
CREATED:20221029T001511Z
LAST-MODIFIED:20231027T030819Z
UID:35244-1698872400-1698876000@ipjundiai.org.br
SUMMARY:Reunião de Oração (UMP)
DESCRIPTION:
URL:https://ipjundiai.org.br/eventos/reuniao-de-oracao-ump-9/
LOCATION:Online
CATEGORIES:Próximos Eventos
ATTACH;FMTTYPE=image/jpeg:https://ipjundiai.org.br/wp-content/uploads/2022/08/ump-agenda.jpg
END:VEVENT
BEGIN:VEVENT
DTSTART;TZID=America/Sao_Paulo:20231104T123000
DTEND;TZID=America/Sao_Paulo:20231104T170000
DTSTAMP:20260420T001107
CREATED:20231027T031255Z
LAST-MODIFIED:20231027T031257Z
UID:37427-1699101000-1699117200@ipjundiai.org.br
SUMMARY:Encontro PRID (Crianças)
DESCRIPTION:
URL:https://ipjundiai.org.br/eventos/encontro-prid-criancas/
LOCATION:IP Itú\, R. Dr. Felipe Nagibe Chebel\, Itú\, São Paulo\, 13300-000\, Brasil
CATEGORIES:Próximos Eventos
ATTACH;FMTTYPE=image/jpeg:https://ipjundiai.org.br/wp-content/uploads/2022/08/infantil-agenda.jpg
END:VEVENT
BEGIN:VEVENT
DTSTART;TZID=America/Sao_Paulo:20231104T190000
DTEND;TZID=America/Sao_Paulo:20231104T203000
DTSTAMP:20260420T001107
CREATED:20231027T031402Z
LAST-MODIFIED:20231027T031403Z
UID:37429-1699124400-1699129800@ipjundiai.org.br
SUMMARY:Louvorzão (UPA)
DESCRIPTION:
URL:https://ipjundiai.org.br/eventos/louvorzao-upa-2/
LOCATION:IP Jundiaí\, Rua Vigário J.J. Rodrigues\, 504\, Jundiaí\, São Paulo\, 13201001\, Brasil
CATEGORIES:Próximos Eventos
ATTACH;FMTTYPE=image/jpeg:https://ipjundiai.org.br/wp-content/uploads/2022/04/aviso-upa.jpg
END:VEVENT
BEGIN:VEVENT
DTSTART;TZID=America/Sao_Paulo:20231104T190000
DTEND;TZID=America/Sao_Paulo:20231104T203000
DTSTAMP:20260420T001107
CREATED:20231027T031544Z
LAST-MODIFIED:20231027T031544Z
UID:37431-1699124400-1699129800@ipjundiai.org.br
SUMMARY:Culto (UMP)
DESCRIPTION:
URL:https://ipjundiai.org.br/eventos/culto-ump-10/
LOCATION:IP Jundiaí\, Rua Vigário J.J. Rodrigues\, 504\, Jundiaí\, São Paulo\, 13201001\, Brasil
CATEGORIES:Próximos Eventos
ATTACH;FMTTYPE=image/jpeg:https://ipjundiai.org.br/wp-content/uploads/2022/08/ump-agenda.jpg
END:VEVENT
BEGIN:VEVENT
DTSTART;VALUE=DATE:20231110
DTEND;VALUE=DATE:20231113
DTSTAMP:20260420T001107
CREATED:20230414T223615Z
LAST-MODIFIED:20230414T223616Z
UID:36158-1699574400-1699833599@ipjundiai.org.br
SUMMARY:Acampamento de Mulheres (SAF)
DESCRIPTION:
URL:https://ipjundiai.org.br/eventos/acampamento-de-mulheres-saf/
LOCATION:São Paulo
CATEGORIES:Próximos Eventos
ATTACH;FMTTYPE=image/jpeg:https://ipjundiai.org.br/wp-content/uploads/2022/08/saf-agenda.jpg
END:VEVENT
BEGIN:VEVENT
DTSTART;VALUE=DATE:20231111
DTEND;VALUE=DATE:20231112
DTSTAMP:20260420T001107
CREATED:20231027T031632Z
LAST-MODIFIED:20231027T031632Z
UID:37433-1699660800-1699747199@ipjundiai.org.br
SUMMARY:Dia Nacional das SAF’s
DESCRIPTION:
URL:https://ipjundiai.org.br/eventos/dia-nacional-das-safs/
LOCATION:São Paulo
CATEGORIES:Próximos Eventos
ATTACH;FMTTYPE=image/jpeg:https://ipjundiai.org.br/wp-content/uploads/2022/08/saf-agenda.jpg
END:VEVENT
BEGIN:VEVENT
DTSTART;TZID=America/Sao_Paulo:20231111T090000
DTEND;TZID=America/Sao_Paulo:20231111T110000
DTSTAMP:20260420T001107
CREATED:20231027T031759Z
LAST-MODIFIED:20231027T031800Z
UID:37435-1699693200-1699700400@ipjundiai.org.br
SUMMARY:Plenária de eleição (UPH)
DESCRIPTION:
URL:https://ipjundiai.org.br/eventos/plenaria-de-eleicao-uph/
LOCATION:IP Jundiaí\, Rua Vigário J.J. Rodrigues\, 504\, Jundiaí\, São Paulo\, 13201001\, Brasil
CATEGORIES:Próximos Eventos
ATTACH;FMTTYPE=image/jpeg:https://ipjundiai.org.br/wp-content/uploads/2022/08/uph-agenda.jpg
END:VEVENT
BEGIN:VEVENT
DTSTART;TZID=America/Sao_Paulo:20231111T160000
DTEND;TZID=America/Sao_Paulo:20231111T173000
DTSTAMP:20260420T001107
CREATED:20231027T031908Z
LAST-MODIFIED:20231027T031909Z
UID:37437-1699718400-1699723800@ipjundiai.org.br
SUMMARY:Reunião e EBI (UMP)
DESCRIPTION:
URL:https://ipjundiai.org.br/eventos/reuniao-e-ebi-ump-3/
LOCATION:São Paulo
CATEGORIES:Próximos Eventos
ATTACH;FMTTYPE=image/jpeg:https://ipjundiai.org.br/wp-content/uploads/2022/08/ump-agenda.jpg
END:VEVENT
BEGIN:VEVENT
DTSTART;TZID=America/Sao_Paulo:20231111T190000
DTEND;TZID=America/Sao_Paulo:20231111T203000
DTSTAMP:20260420T001107
CREATED:20231027T032005Z
LAST-MODIFIED:20231027T032006Z
UID:37439-1699729200-1699734600@ipjundiai.org.br
SUMMARY:Plenária de eleição (UPA)
DESCRIPTION:
URL:https://ipjundiai.org.br/eventos/plenaria-de-eleicao-upa/
LOCATION:IP Jundiaí\, Rua Vigário J.J. Rodrigues\, 504\, Jundiaí\, São Paulo\, 13201001\, Brasil
CATEGORIES:Próximos Eventos
ATTACH;FMTTYPE=image/jpeg:https://ipjundiai.org.br/wp-content/uploads/2022/04/aviso-upa.jpg
END:VEVENT
BEGIN:VEVENT
DTSTART;VALUE=DATE:20231118
DTEND;VALUE=DATE:20231119
DTSTAMP:20260420T001107
CREATED:20231027T032102Z
LAST-MODIFIED:20231027T032102Z
UID:37441-1700265600-1700351999@ipjundiai.org.br
SUMMARY:Programação PRID (UMP)
DESCRIPTION:
URL:https://ipjundiai.org.br/eventos/programacao-prid-ump-3/
LOCATION:São Paulo
CATEGORIES:Próximos Eventos
ATTACH;FMTTYPE=image/jpeg:https://ipjundiai.org.br/wp-content/uploads/2022/08/ump-agenda.jpg
END:VEVENT
BEGIN:VEVENT
DTSTART;TZID=America/Sao_Paulo:20231118T190000
DTEND;TZID=America/Sao_Paulo:20231118T203000
DTSTAMP:20260420T001107
CREATED:20231027T032222Z
LAST-MODIFIED:20231027T032222Z
UID:37443-1700334000-1700339400@ipjundiai.org.br
SUMMARY:Grow (UPA)
DESCRIPTION:
URL:https://ipjundiai.org.br/eventos/grow-upa-11/
LOCATION:IP Jundiaí\, Rua Vigário J.J. Rodrigues\, 504\, Jundiaí\, São Paulo\, 13201001\, Brasil
CATEGORIES:Próximos Eventos
ATTACH;FMTTYPE=image/jpeg:https://ipjundiai.org.br/wp-content/uploads/2022/04/aviso-upa.jpg
END:VEVENT
BEGIN:VEVENT
DTSTART;TZID=America/Sao_Paulo:20231121T150000
DTEND;TZID=America/Sao_Paulo:20231121T160000
DTSTAMP:20260420T001107
CREATED:20221029T001123Z
LAST-MODIFIED:20231117T190550Z
UID:35239-1700578800-1700582400@ipjundiai.org.br
SUMMARY:Reunião de Oração (SAF)
DESCRIPTION:
URL:https://ipjundiai.org.br/eventos/reuniao-de-oracao-saf-4/
LOCATION:IP Jundiaí\, Rua Vigário J.J. Rodrigues\, 504\, Jundiaí\, São Paulo\, 13201001\, Brasil
CATEGORIES:Próximos Eventos
ATTACH;FMTTYPE=image/jpeg:https://ipjundiai.org.br/wp-content/uploads/2022/08/saf-agenda.jpg
END:VEVENT
BEGIN:VEVENT
DTSTART;TZID=America/Sao_Paulo:20231123T193000
DTEND;TZID=America/Sao_Paulo:20231123T213000
DTSTAMP:20260420T001107
CREATED:20231027T032318Z
LAST-MODIFIED:20231117T192200Z
UID:37445-1700767800-1700775000@ipjundiai.org.br
SUMMARY:Culto de Ação de Graças
DESCRIPTION:
URL:https://ipjundiai.org.br/eventos/dia-nacional-de-acao-de-gracas/
LOCATION:IP Jundiaí\, Rua Vigário J.J. Rodrigues\, 504\, Jundiaí\, São Paulo\, 13201001\, Brasil
CATEGORIES:Próximos Eventos
ATTACH;FMTTYPE=image/jpeg:https://ipjundiai.org.br/wp-content/uploads/2022/08/ipj-agenda.jpg
END:VEVENT
BEGIN:VEVENT
DTSTART;VALUE=DATE:20231125
DTEND;VALUE=DATE:20231126
DTSTAMP:20260420T001107
CREATED:20231027T032421Z
LAST-MODIFIED:20231027T032422Z
UID:37447-1700870400-1700956799@ipjundiai.org.br
SUMMARY:Reencontro Acampamento (UPA)
DESCRIPTION:
URL:https://ipjundiai.org.br/eventos/reencontro-acampamento-upa/
LOCATION:IP Itú\, R. Dr. Felipe Nagibe Chebel\, Itú\, São Paulo\, 13300-000\, Brasil
CATEGORIES:Próximos Eventos
ATTACH;FMTTYPE=image/jpeg:https://ipjundiai.org.br/wp-content/uploads/2022/04/aviso-upa.jpg
END:VEVENT
BEGIN:VEVENT
DTSTART;VALUE=DATE:20231130
DTEND;VALUE=DATE:20231201
DTSTAMP:20260420T001107
CREATED:20231103T210646Z
LAST-MODIFIED:20231103T210647Z
UID:37480-1701302400-1701388799@ipjundiai.org.br
SUMMARY:Dia do Teólogo
DESCRIPTION:
URL:https://ipjundiai.org.br/eventos/dia-do-teologo/
LOCATION:IP Jundiaí\, Rua Vigário J.J. Rodrigues\, 504\, Jundiaí\, São Paulo\, 13201001\, Brasil
CATEGORIES:Próximos Eventos
ATTACH;FMTTYPE=image/jpeg:https://ipjundiai.org.br/wp-content/uploads/2022/08/ipj-agenda.jpg
END:VEVENT
BEGIN:VEVENT
DTSTART;TZID=America/Sao_Paulo:20231201T193000
DTEND;TZID=America/Sao_Paulo:20231201T203000
DTSTAMP:20260420T001107
CREATED:20231124T192246Z
LAST-MODIFIED:20231124T192247Z
UID:37534-1701459000-1701462600@ipjundiai.org.br
SUMMARY:Apresentação (Coral Adorai)
DESCRIPTION:
URL:https://ipjundiai.org.br/eventos/apresentacao-coral-adorai/
LOCATION:Residencial Anchieta
CATEGORIES:Próximos Eventos
ATTACH;FMTTYPE=image/jpeg:https://ipjundiai.org.br/wp-content/uploads/2022/08/coral-adorai-agenda.jpg
END:VEVENT
BEGIN:VEVENT
DTSTART;TZID=America/Sao_Paulo:20231202T083000
DTEND;TZID=America/Sao_Paulo:20231202T120000
DTSTAMP:20260420T001107
CREATED:20231124T192432Z
LAST-MODIFIED:20231124T192432Z
UID:37537-1701505800-1701518400@ipjundiai.org.br
SUMMARY:Confraternização (Infantil)
DESCRIPTION:
URL:https://ipjundiai.org.br/eventos/confraternizacao-infantil/
LOCATION:Matiassi\, R. Barcelona\, 148\, Jundiaí\, São Paulo\, 13214-736\, Brasil
CATEGORIES:Próximos Eventos
ATTACH;FMTTYPE=image/jpeg:https://ipjundiai.org.br/wp-content/uploads/2022/08/infantil-agenda.jpg
END:VEVENT
BEGIN:VEVENT
DTSTART;TZID=America/Sao_Paulo:20231202T090000
DTEND;TZID=America/Sao_Paulo:20231202T120000
DTSTAMP:20260420T001107
CREATED:20231124T192600Z
LAST-MODIFIED:20231124T192600Z
UID:37539-1701507600-1701518400@ipjundiai.org.br
SUMMARY:Café e eleição (Adolescentes)
DESCRIPTION:
URL:https://ipjundiai.org.br/eventos/cafe-e-eleicao-adolescentes/
LOCATION:Parque da Cidade Jundiaí\, Rodovia João Cereser\, km 66\, Jundiaí\, São Paulo\, 13214-470\, Brasil
CATEGORIES:Próximos Eventos
ATTACH;FMTTYPE=image/jpeg:https://ipjundiai.org.br/wp-content/uploads/2022/04/aviso-upa.jpg
END:VEVENT
BEGIN:VEVENT
DTSTART;TZID=America/Sao_Paulo:20231202T143000
DTEND;TZID=America/Sao_Paulo:20231202T170000
DTSTAMP:20260420T001107
CREATED:20231124T192734Z
LAST-MODIFIED:20231124T192735Z
UID:37541-1701527400-1701536400@ipjundiai.org.br
SUMMARY:Apresentação (Coral Adorai)
DESCRIPTION:
URL:https://ipjundiai.org.br/eventos/apresentacao-coral-adorai-2/
LOCATION:São Paulo
CATEGORIES:Próximos Eventos
ATTACH;FMTTYPE=image/jpeg:https://ipjundiai.org.br/wp-content/uploads/2022/08/coral-adorai-agenda.jpg
END:VEVENT
BEGIN:VEVENT
DTSTART;TZID=America/Sao_Paulo:20231202T193000
DTEND;TZID=America/Sao_Paulo:20231202T210000
DTSTAMP:20260420T001107
CREATED:20231124T192916Z
LAST-MODIFIED:20231124T192916Z
UID:37544-1701545400-1701550800@ipjundiai.org.br
SUMMARY:Plenária (Jovens)
DESCRIPTION:
URL:https://ipjundiai.org.br/eventos/plenaria-jovens/
LOCATION:IP Jundiaí\, Rua Vigário J.J. Rodrigues\, 504\, Jundiaí\, São Paulo\, 13201001\, Brasil
CATEGORIES:Próximos Eventos
ATTACH;FMTTYPE=image/jpeg:https://ipjundiai.org.br/wp-content/uploads/2022/08/ump-agenda.jpg
END:VEVENT
BEGIN:VEVENT
DTSTART;VALUE=DATE:20231208
DTEND;VALUE=DATE:20231209
DTSTAMP:20260420T001107
CREATED:20231124T193001Z
LAST-MODIFIED:20231124T193002Z
UID:37546-1701993600-1702079999@ipjundiai.org.br
SUMMARY:Dia Nacional da Família
DESCRIPTION:
URL:https://ipjundiai.org.br/eventos/dia-nacional-da-familia/
LOCATION:São Paulo
CATEGORIES:Próximos Eventos
ATTACH;FMTTYPE=image/jpeg:https://ipjundiai.org.br/wp-content/uploads/2022/08/ipj-agenda.jpg
END:VEVENT
BEGIN:VEVENT
DTSTART;TZID=America/Sao_Paulo:20231209T090000
DTEND;TZID=America/Sao_Paulo:20231209T120000
DTSTAMP:20260420T001107
CREATED:20231124T193116Z
LAST-MODIFIED:20231124T193117Z
UID:37548-1702112400-1702123200@ipjundiai.org.br
SUMMARY:Reunião EBI. Externo (Jovens)
DESCRIPTION:
URL:https://ipjundiai.org.br/eventos/reuniao-ebi-externo-jovens/
LOCATION:São Paulo
CATEGORIES:Próximos Eventos
ATTACH;FMTTYPE=image/jpeg:https://ipjundiai.org.br/wp-content/uploads/2022/08/ump-agenda.jpg
END:VEVENT
BEGIN:VEVENT
DTSTART;TZID=America/Sao_Paulo:20231209T100000
DTEND;TZID=America/Sao_Paulo:20231209T170000
DTSTAMP:20260420T001107
CREATED:20231124T193359Z
LAST-MODIFIED:20231124T193359Z
UID:37550-1702116000-1702141200@ipjundiai.org.br
SUMMARY:Confraternização (Mulheres)
DESCRIPTION:
URL:https://ipjundiai.org.br/eventos/confraternizacao-mulheres/
LOCATION:Casa Nilza
CATEGORIES:Próximos Eventos
ATTACH;FMTTYPE=image/jpeg:https://ipjundiai.org.br/wp-content/uploads/2022/08/saf-agenda.jpg
END:VEVENT
BEGIN:VEVENT
DTSTART;VALUE=DATE:20231210
DTEND;VALUE=DATE:20231211
DTSTAMP:20260420T001107
CREATED:20231124T193445Z
LAST-MODIFIED:20231124T193445Z
UID:37553-1702166400-1702252799@ipjundiai.org.br
SUMMARY:Dia da Bíblia
DESCRIPTION:
URL:https://ipjundiai.org.br/eventos/dia-da-biblia/
LOCATION:São Paulo
CATEGORIES:Próximos Eventos
ATTACH;FMTTYPE=image/jpeg:https://ipjundiai.org.br/wp-content/uploads/2022/08/ipj-agenda.jpg
END:VEVENT
BEGIN:VEVENT
DTSTART;VALUE=DATE:20231210
DTEND;VALUE=DATE:20231211
DTSTAMP:20260420T001107
CREATED:20231124T193534Z
LAST-MODIFIED:20231124T193534Z
UID:37555-1702166400-1702252799@ipjundiai.org.br
SUMMARY:Dia da Esposa do Pastor
DESCRIPTION:
URL:https://ipjundiai.org.br/eventos/dia-da-esposa-do-pastor/
LOCATION:São Paulo
CATEGORIES:Próximos Eventos
ATTACH;FMTTYPE=image/jpeg:https://ipjundiai.org.br/wp-content/uploads/2022/08/ipj-agenda.jpg
END:VEVENT
BEGIN:VEVENT
DTSTART;TZID=America/Sao_Paulo:20231216T090000
DTEND;TZID=America/Sao_Paulo:20231216T120000
DTSTAMP:20260420T001107
CREATED:20231124T193733Z
LAST-MODIFIED:20231124T193733Z
UID:37559-1702717200-1702728000@ipjundiai.org.br
SUMMARY:Confraternização (Jovens)
DESCRIPTION:
URL:https://ipjundiai.org.br/eventos/confraternizacao-jovens/
LOCATION:São Paulo
CATEGORIES:Próximos Eventos
ATTACH;FMTTYPE=image/jpeg:https://ipjundiai.org.br/wp-content/uploads/2022/08/ump-agenda.jpg
END:VEVENT
BEGIN:VEVENT
DTSTART;TZID=America/Sao_Paulo:20231216T193000
DTEND;TZID=America/Sao_Paulo:20231216T203000
DTSTAMP:20260420T001107
CREATED:20231124T193855Z
LAST-MODIFIED:20231124T193855Z
UID:37561-1702755000-1702758600@ipjundiai.org.br
SUMMARY:Cantata de Natal (Coral Adorai)
DESCRIPTION:
URL:https://ipjundiai.org.br/eventos/cantata-de-natal-coral-adorai/
LOCATION:IP Jundiaí\, Rua Vigário J.J. Rodrigues\, 504\, Jundiaí\, São Paulo\, 13201001\, Brasil
CATEGORIES:Próximos Eventos
ATTACH;FMTTYPE=image/jpeg:https://ipjundiai.org.br/wp-content/uploads/2022/08/coral-adorai-agenda.jpg
END:VEVENT
BEGIN:VEVENT
DTSTART;VALUE=DATE:20231217
DTEND;VALUE=DATE:20231218
DTSTAMP:20260420T001107
CREATED:20231124T193938Z
LAST-MODIFIED:20231124T193938Z
UID:37563-1702771200-1702857599@ipjundiai.org.br
SUMMARY:Dia do Pastor Presbiteriano
DESCRIPTION:
URL:https://ipjundiai.org.br/eventos/dia-do-pastor-presbiteriano/
LOCATION:São Paulo
CATEGORIES:Próximos Eventos
ATTACH;FMTTYPE=image/jpeg:https://ipjundiai.org.br/wp-content/uploads/2022/08/ipj-agenda.jpg
END:VEVENT
BEGIN:VEVENT
DTSTART;TZID=America/Sao_Paulo:20231217T090000
DTEND;TZID=America/Sao_Paulo:20231217T100000
DTSTAMP:20260420T001107
CREATED:20231124T194122Z
LAST-MODIFIED:20231215T213153Z
UID:37565-1702803600-1702807200@ipjundiai.org.br
SUMMARY:Cantata de Natal (Coral Infantil)
DESCRIPTION:
URL:https://ipjundiai.org.br/eventos/cantata-de-natal-coral-infantil/
LOCATION:IP Jundiaí\, Rua Vigário J.J. Rodrigues\, 504\, Jundiaí\, São Paulo\, 13201001\, Brasil
CATEGORIES:Próximos Eventos
ATTACH;FMTTYPE=image/jpeg:https://ipjundiai.org.br/wp-content/uploads/2022/08/infantil-agenda.jpg
END:VEVENT
END:VCALENDAR