BEGIN:VCALENDAR
VERSION:2.0
PRODID:-//Igreja Presbiteriana de Jundiaí - ECPv6.15.11//NONSGML v1.0//EN
CALSCALE:GREGORIAN
METHOD:PUBLISH
X-ORIGINAL-URL:https://ipjundiai.org.br
X-WR-CALDESC:Eventos para Igreja Presbiteriana de Jundiaí
REFRESH-INTERVAL;VALUE=DURATION:PT1H
X-Robots-Tag:noindex
X-PUBLISHED-TTL:PT1H
BEGIN:VTIMEZONE
TZID:America/Sao_Paulo
BEGIN:STANDARD
TZOFFSETFROM:-0300
TZOFFSETTO:-0300
TZNAME:-03
DTSTART:20210101T000000
END:STANDARD
END:VTIMEZONE
BEGIN:VEVENT
DTSTART;TZID=America/Sao_Paulo:20220701T190000
DTEND;TZID=America/Sao_Paulo:20220701T210000
DTSTAMP:20260424T130154
CREATED:20220625T151754Z
LAST-MODIFIED:20220625T151754Z
UID:34266-1656702000-1656709200@ipjundiai.org.br
SUMMARY:Noite da pizza (Fantasia)
DESCRIPTION:
URL:https://ipjundiai.org.br/eventos/noite-da-pizza-fantasia/
LOCATION:IP Jundiaí\, Rua Vigário J.J. Rodrigues\, 504\, Jundiaí\, São Paulo\, 13201001\, Brasil
CATEGORIES:Próximos Eventos
ATTACH;FMTTYPE=image/jpeg:https://ipjundiai.org.br/wp-content/uploads/2022/06/ucp-criancas.jpg
END:VEVENT
BEGIN:VEVENT
DTSTART;TZID=America/Sao_Paulo:20220701T200000
DTEND;TZID=America/Sao_Paulo:20220701T230000
DTSTAMP:20260424T130154
CREATED:20220625T151950Z
LAST-MODIFIED:20220625T151951Z
UID:34270-1656705600-1656716400@ipjundiai.org.br
SUMMARY:Conselho (Reunião)
DESCRIPTION:
URL:https://ipjundiai.org.br/eventos/conselho-reuniao/
LOCATION:IP Jundiaí\, Rua Vigário J.J. Rodrigues\, 504\, Jundiaí\, São Paulo\, 13201001\, Brasil
CATEGORIES:Próximos Eventos
ATTACH;FMTTYPE=image/jpeg:https://ipjundiai.org.br/wp-content/uploads/2022/05/ipj-aviso.jpg
END:VEVENT
BEGIN:VEVENT
DTSTART;TZID=America/Sao_Paulo:20220702T150000
DTEND;TZID=America/Sao_Paulo:20220702T170000
DTSTAMP:20260424T130154
CREATED:20220625T152348Z
LAST-MODIFIED:20220625T152348Z
UID:34272-1656774000-1656781200@ipjundiai.org.br
SUMMARY:Tarde Feliz
DESCRIPTION:
URL:https://ipjundiai.org.br/eventos/tarde-feliz/
LOCATION:IP Jundiaí\, Rua Vigário J.J. Rodrigues\, 504\, Jundiaí\, São Paulo\, 13201001\, Brasil
CATEGORIES:Próximos Eventos
ATTACH;FMTTYPE=image/jpeg:https://ipjundiai.org.br/wp-content/uploads/2022/06/ucp-criancas.jpg
END:VEVENT
BEGIN:VEVENT
DTSTART;TZID=America/Sao_Paulo:20220702T190000
DTEND;TZID=America/Sao_Paulo:20220702T220000
DTSTAMP:20260424T130154
CREATED:20220625T152536Z
LAST-MODIFIED:20220625T152536Z
UID:34274-1656788400-1656799200@ipjundiai.org.br
SUMMARY:Plenária e Culto
DESCRIPTION:
URL:https://ipjundiai.org.br/eventos/plenaria-e-culto/
LOCATION:IP Jundiaí\, Rua Vigário J.J. Rodrigues\, 504\, Jundiaí\, São Paulo\, 13201001\, Brasil
CATEGORIES:Próximos Eventos
ATTACH;FMTTYPE=image/jpeg:https://ipjundiai.org.br/wp-content/uploads/2022/05/ump-aviso.jpg
END:VEVENT
BEGIN:VEVENT
DTSTART;TZID=America/Sao_Paulo:20220706T210000
DTEND;TZID=America/Sao_Paulo:20220706T220000
DTSTAMP:20260424T130154
CREATED:20220702T161303Z
LAST-MODIFIED:20220702T161304Z
UID:34311-1657141200-1657144800@ipjundiai.org.br
SUMMARY:Reunião de Oração
DESCRIPTION:
URL:https://ipjundiai.org.br/eventos/reuniao-de-oracao-23/
LOCATION:Online
CATEGORIES:Próximos Eventos
ATTACH;FMTTYPE=image/jpeg:https://ipjundiai.org.br/wp-content/uploads/2022/05/ump-aviso.jpg
END:VEVENT
BEGIN:VEVENT
DTSTART;TZID=America/Sao_Paulo:20220709T090000
DTEND;TZID=America/Sao_Paulo:20220709T170000
DTSTAMP:20260424T130154
CREATED:20220702T161509Z
LAST-MODIFIED:20220702T161510Z
UID:34316-1657357200-1657386000@ipjundiai.org.br
SUMMARY:Dia da Família
DESCRIPTION:
URL:https://ipjundiai.org.br/eventos/dia-da-familia-2/
LOCATION:São Paulo
CATEGORIES:Próximos Eventos
ATTACH;FMTTYPE=image/jpeg:https://ipjundiai.org.br/wp-content/uploads/2022/05/ipj-aviso.jpg
END:VEVENT
BEGIN:VEVENT
DTSTART;VALUE=DATE:20220710
DTEND;VALUE=DATE:20220711
DTSTAMP:20260424T130154
CREATED:20220702T161556Z
LAST-MODIFIED:20220702T161556Z
UID:34318-1657411200-1657497599@ipjundiai.org.br
SUMMARY:Dia do Diácono
DESCRIPTION:
URL:https://ipjundiai.org.br/eventos/dia-do-diacono/
LOCATION:IP Jundiaí\, Rua Vigário J.J. Rodrigues\, 504\, Jundiaí\, São Paulo\, 13201001\, Brasil
CATEGORIES:Próximos Eventos
ATTACH;FMTTYPE=image/jpeg:https://ipjundiai.org.br/wp-content/uploads/2022/05/aviso-saf.jpg
END:VEVENT
BEGIN:VEVENT
DTSTART;TZID=America/Sao_Paulo:20220712T150000
DTEND;TZID=America/Sao_Paulo:20220712T160000
DTSTAMP:20260424T130154
CREATED:20220702T161113Z
LAST-MODIFIED:20220708T201949Z
UID:34305-1657638000-1657641600@ipjundiai.org.br
SUMMARY:Reunião de Oração
DESCRIPTION:
URL:https://ipjundiai.org.br/eventos/reuniao-de-oracao-22/
LOCATION:IP Jundiaí\, Rua Vigário J.J. Rodrigues\, 504\, Jundiaí\, São Paulo\, 13201001\, Brasil
CATEGORIES:Próximos Eventos
ATTACH;FMTTYPE=image/jpeg:https://ipjundiai.org.br/wp-content/uploads/2022/05/aviso-saf.jpg
END:VEVENT
BEGIN:VEVENT
DTSTART;TZID=America/Sao_Paulo:20220712T193000
DTEND;TZID=America/Sao_Paulo:20220712T210000
DTSTAMP:20260424T130154
CREATED:20220702T161207Z
LAST-MODIFIED:20220708T202113Z
UID:34308-1657654200-1657659600@ipjundiai.org.br
SUMMARY:Ensaio
DESCRIPTION:
URL:https://ipjundiai.org.br/eventos/ensaio/
LOCATION:IP Jundiaí\, Rua Vigário J.J. Rodrigues\, 504\, Jundiaí\, São Paulo\, 13201001\, Brasil
CATEGORIES:Próximos Eventos
ATTACH;FMTTYPE=image/jpeg:https://ipjundiai.org.br/wp-content/uploads/2022/05/coral-aviso.jpg
END:VEVENT
BEGIN:VEVENT
DTSTART;TZID=America/Sao_Paulo:20220713T210000
DTEND;TZID=America/Sao_Paulo:20220713T220000
DTSTAMP:20260424T130154
CREATED:20220708T202220Z
LAST-MODIFIED:20220708T202224Z
UID:34405-1657746000-1657749600@ipjundiai.org.br
SUMMARY:Reunião de Oração. Online
DESCRIPTION:
URL:https://ipjundiai.org.br/eventos/reuniao-de-oracao-online/
LOCATION:Online
CATEGORIES:Próximos Eventos
ATTACH;FMTTYPE=image/jpeg:https://ipjundiai.org.br/wp-content/uploads/2022/05/ump-aviso.jpg
END:VEVENT
BEGIN:VEVENT
DTSTART;TZID=America/Sao_Paulo:20220714T200000
DTEND;TZID=America/Sao_Paulo:20220714T210000
DTSTAMP:20260424T130154
CREATED:20220702T161401Z
LAST-MODIFIED:20220708T202032Z
UID:34314-1657828800-1657832400@ipjundiai.org.br
SUMMARY:Estudo Bíblico
DESCRIPTION:
URL:https://ipjundiai.org.br/eventos/estudo-biblico-43/
LOCATION:IP Jundiaí\, Rua Vigário J.J. Rodrigues\, 504\, Jundiaí\, São Paulo\, 13201001\, Brasil
CATEGORIES:Próximos Eventos
ATTACH;FMTTYPE=image/jpeg:https://ipjundiai.org.br/wp-content/uploads/2022/05/ipj-aviso.jpg
END:VEVENT
BEGIN:VEVENT
DTSTART;TZID=America/Sao_Paulo:20220716T180000
DTEND;TZID=America/Sao_Paulo:20220716T200000
DTSTAMP:20260424T130154
CREATED:20220702T161655Z
LAST-MODIFIED:20220702T161655Z
UID:34320-1657994400-1658001600@ipjundiai.org.br
SUMMARY:Plenária
DESCRIPTION:
URL:https://ipjundiai.org.br/eventos/plenaria-3/
LOCATION:IP Jundiaí\, Rua Vigário J.J. Rodrigues\, 504\, Jundiaí\, São Paulo\, 13201001\, Brasil
CATEGORIES:Próximos Eventos
ATTACH;FMTTYPE=image/jpeg:https://ipjundiai.org.br/wp-content/uploads/2022/05/upa-aviso.jpg
END:VEVENT
BEGIN:VEVENT
DTSTART;TZID=America/Sao_Paulo:20220716T190000
DTEND;TZID=America/Sao_Paulo:20220716T203000
DTSTAMP:20260424T130154
CREATED:20220702T161752Z
LAST-MODIFIED:20220702T161753Z
UID:34322-1657998000-1658003400@ipjundiai.org.br
SUMMARY:Estudo Bíblico Indutivo
DESCRIPTION:
URL:https://ipjundiai.org.br/eventos/estudo-biblico-indutivo/
LOCATION:IP Jundiaí\, Rua Vigário J.J. Rodrigues\, 504\, Jundiaí\, São Paulo\, 13201001\, Brasil
CATEGORIES:Próximos Eventos
ATTACH;FMTTYPE=image/jpeg:https://ipjundiai.org.br/wp-content/uploads/2022/05/ump-aviso.jpg
END:VEVENT
BEGIN:VEVENT
DTSTART;TZID=America/Sao_Paulo:20220716T193000
DTEND;TZID=America/Sao_Paulo:20220716T210000
DTSTAMP:20260424T130154
CREATED:20220702T161858Z
LAST-MODIFIED:20220705T164049Z
UID:34325-1657999800-1658005200@ipjundiai.org.br
SUMMARY:Culto Aniversario UPH
DESCRIPTION:
URL:https://ipjundiai.org.br/eventos/culto-aniversario/
LOCATION:IP Jundiaí\, Rua Vigário J.J. Rodrigues\, 504\, Jundiaí\, São Paulo\, 13201001\, Brasil
CATEGORIES:Próximos Eventos
ATTACH;FMTTYPE=image/jpeg:https://ipjundiai.org.br/wp-content/uploads/2022/05/uph-aviso.jpg
END:VEVENT
BEGIN:VEVENT
DTSTART;TZID=America/Sao_Paulo:20220723T180000
DTEND;TZID=America/Sao_Paulo:20220723T200000
DTSTAMP:20260424T130154
CREATED:20220702T162009Z
LAST-MODIFIED:20220702T162010Z
UID:34327-1658599200-1658606400@ipjundiai.org.br
SUMMARY:Grow
DESCRIPTION:
URL:https://ipjundiai.org.br/eventos/grow-5/
LOCATION:IP Jundiaí\, Rua Vigário J.J. Rodrigues\, 504\, Jundiaí\, São Paulo\, 13201001\, Brasil
CATEGORIES:Próximos Eventos
ATTACH;FMTTYPE=image/jpeg:https://ipjundiai.org.br/wp-content/uploads/2022/05/upa-aviso.jpg
END:VEVENT
BEGIN:VEVENT
DTSTART;VALUE=DATE:20220724
DTEND;VALUE=DATE:20220725
DTSTAMP:20260424T130154
CREATED:20220702T162109Z
LAST-MODIFIED:20220718T154721Z
UID:34329-1658620800-1658707199@ipjundiai.org.br
SUMMARY:Dia Adolescente Presbiteriano
DESCRIPTION:
URL:https://ipjundiai.org.br/eventos/dia-adolescente-presbiteriano/
LOCATION:IP Jundiaí\, Rua Vigário J.J. Rodrigues\, 504\, Jundiaí\, São Paulo\, 13201001\, Brasil
CATEGORIES:Próximos Eventos
ATTACH;FMTTYPE=image/jpeg:https://ipjundiai.org.br/wp-content/uploads/2022/05/aviso-saf.jpg
END:VEVENT
BEGIN:VEVENT
DTSTART;TZID=America/Sao_Paulo:20220726T150000
DTEND;TZID=America/Sao_Paulo:20220726T160000
DTSTAMP:20260424T130154
CREATED:20220715T133927Z
LAST-MODIFIED:20220723T021038Z
UID:34429-1658847600-1658851200@ipjundiai.org.br
SUMMARY:Reunião de Oração
DESCRIPTION:
URL:https://ipjundiai.org.br/eventos/reuniao-de-oracao-24/
LOCATION:IP Jundiaí\, Rua Vigário J.J. Rodrigues\, 504\, Jundiaí\, São Paulo\, 13201001\, Brasil
CATEGORIES:Próximos Eventos
ATTACH;FMTTYPE=image/jpeg:https://ipjundiai.org.br/wp-content/uploads/2022/05/aviso-saf.jpg
END:VEVENT
BEGIN:VEVENT
DTSTART;TZID=America/Sao_Paulo:20220726T193000
DTEND;TZID=America/Sao_Paulo:20220726T210000
DTSTAMP:20260424T130154
CREATED:20220715T134028Z
LAST-MODIFIED:20220723T021005Z
UID:34431-1658863800-1658869200@ipjundiai.org.br
SUMMARY:Coral Adorai - Ensaio
DESCRIPTION:
URL:https://ipjundiai.org.br/eventos/coral-adorai-ensaio-35/
LOCATION:IP Jundiaí\, Rua Vigário J.J. Rodrigues\, 504\, Jundiaí\, São Paulo\, 13201001\, Brasil
CATEGORIES:Próximos Eventos
ATTACH;FMTTYPE=image/jpeg:https://ipjundiai.org.br/wp-content/uploads/2022/05/coral-aviso.jpg
END:VEVENT
BEGIN:VEVENT
DTSTART;TZID=America/Sao_Paulo:20220727T210000
DTEND;TZID=America/Sao_Paulo:20220727T220000
DTSTAMP:20260424T130154
CREATED:20220715T134250Z
LAST-MODIFIED:20220723T020931Z
UID:34434-1658955600-1658959200@ipjundiai.org.br
SUMMARY:Reunião de Oração. UMP
DESCRIPTION:
URL:https://ipjundiai.org.br/eventos/reuniao-de-oracao-ump/
LOCATION:Online
CATEGORIES:Próximos Eventos
ATTACH;FMTTYPE=image/jpeg:https://ipjundiai.org.br/wp-content/uploads/2022/05/ump-aviso.jpg
END:VEVENT
BEGIN:VEVENT
DTSTART;VALUE=DATE:20220730
DTEND;VALUE=DATE:20220731
DTSTAMP:20260424T130154
CREATED:20220702T162336Z
LAST-MODIFIED:20220702T162337Z
UID:34334-1659139200-1659225599@ipjundiai.org.br
SUMMARY:Serra Negra
DESCRIPTION:
URL:https://ipjundiai.org.br/eventos/serra-negra/
LOCATION:São Paulo
CATEGORIES:Próximos Eventos
ATTACH;FMTTYPE=image/jpeg:https://ipjundiai.org.br/wp-content/uploads/2022/05/ump-aviso.jpg
END:VEVENT
BEGIN:VEVENT
DTSTART;TZID=America/Sao_Paulo:20220730T180000
DTEND;TZID=America/Sao_Paulo:20220730T210000
DTSTAMP:20260424T130154
CREATED:20220702T162433Z
LAST-MODIFIED:20220702T162434Z
UID:34336-1659204000-1659214800@ipjundiai.org.br
SUMMARY:Grow
DESCRIPTION:
URL:https://ipjundiai.org.br/eventos/grow-6/
LOCATION:IP Jundiaí\, Rua Vigário J.J. Rodrigues\, 504\, Jundiaí\, São Paulo\, 13201001\, Brasil
CATEGORIES:Próximos Eventos
ATTACH;FMTTYPE=image/jpeg:https://ipjundiai.org.br/wp-content/uploads/2022/05/upa-aviso.jpg
END:VEVENT
BEGIN:VEVENT
DTSTART;TZID=America/Sao_Paulo:20220730T190000
DTEND;TZID=America/Sao_Paulo:20220730T203000
DTSTAMP:20260424T130154
CREATED:20220729T122701Z
LAST-MODIFIED:20220729T122703Z
UID:34526-1659207600-1659213000@ipjundiai.org.br
SUMMARY:Palestra
DESCRIPTION:
URL:https://ipjundiai.org.br/eventos/palestra/
LOCATION:IP Indaiatuba\, R. Tuiuti\, 253 - Centro\, Indaiatuba\, SP\, 13339-010\, Brasil
CATEGORIES:Próximos Eventos
ATTACH;FMTTYPE=image/jpeg:https://ipjundiai.org.br/wp-content/uploads/2022/05/aviso-saf.jpg
END:VEVENT
BEGIN:VEVENT
DTSTART;VALUE=DATE:20220731
DTEND;VALUE=DATE:20220801
DTSTAMP:20260424T130154
CREATED:20220702T162540Z
LAST-MODIFIED:20220702T162541Z
UID:34338-1659225600-1659311999@ipjundiai.org.br
SUMMARY:Aniversário IPJ
DESCRIPTION:
URL:https://ipjundiai.org.br/eventos/aniversario-ipj-2/
LOCATION:IP Jundiaí\, Rua Vigário J.J. Rodrigues\, 504\, Jundiaí\, São Paulo\, 13201001\, Brasil
CATEGORIES:Próximos Eventos
ATTACH;FMTTYPE=image/jpeg:https://ipjundiai.org.br/wp-content/uploads/2022/05/ipj-aviso.jpg
END:VEVENT
BEGIN:VEVENT
DTSTART;TZID=America/Sao_Paulo:20220731T100000
DTEND;TZID=America/Sao_Paulo:20220731T110000
DTSTAMP:20260424T130154
CREATED:20220429T144110Z
LAST-MODIFIED:20220727T185356Z
UID:33656-1659261600-1659265200@ipjundiai.org.br
SUMMARY:Escola Bíblica Dominical
DESCRIPTION:A Escola Bíblica Dominical começa\, ás 10h\, na IPJ. Escola a sala e participe da aula. \n\nMINI MATERNAL (0 a 2 Anos)\nMATERNAL (3 a 5 anos)\nPRÉ PRIMÁRIO (6 a 7 anos\nPRIMÁRIO 1 (8 a 9 Anos)\nPRIMÁRIO 2 (10 a 11 Anos)\nADOLESCENTES 1 (12 a 14 Anos)\nADOLESCENTES 2 (15 a 18 Anos)\nJOVENS (+19 anos)\nCATECÚMENOS (Para quem deseja ser membro da IPJ)\nADULTOS
URL:https://ipjundiai.org.br/eventos/escola-biblica-dominical-4/
LOCATION:IP Jundiaí\, Rua Vigário J.J. Rodrigues\, 504\, Jundiaí\, São Paulo\, 13201001\, Brasil
CATEGORIES:Próximos Eventos
ATTACH;FMTTYPE=image/jpeg:https://ipjundiai.org.br/wp-content/uploads/2022/05/ipj-aviso.jpg
END:VEVENT
BEGIN:VEVENT
DTSTART;TZID=America/Sao_Paulo:20220805T200000
DTEND;TZID=America/Sao_Paulo:20220805T220000
DTSTAMP:20260424T130154
CREATED:20220801T141507Z
LAST-MODIFIED:20220801T141508Z
UID:34549-1659729600-1659736800@ipjundiai.org.br
SUMMARY:Reunião (Conselho)
DESCRIPTION:
URL:https://ipjundiai.org.br/eventos/reuniao-conselho/
LOCATION:IP Jundiaí\, Rua Vigário J.J. Rodrigues\, 504\, Jundiaí\, São Paulo\, 13201001\, Brasil
CATEGORIES:Próximos Eventos
ATTACH;FMTTYPE=image/jpeg:https://ipjundiai.org.br/wp-content/uploads/2022/05/ipj-aviso.jpg
END:VEVENT
BEGIN:VEVENT
DTSTART;VALUE=DATE:20220806
DTEND;VALUE=DATE:20220807
DTSTAMP:20260424T130154
CREATED:20220801T141642Z
LAST-MODIFIED:20220801T141644Z
UID:34551-1659744000-1659830399@ipjundiai.org.br
SUMMARY:UPA DNA
DESCRIPTION:
URL:https://ipjundiai.org.br/eventos/upa-dna-2/
LOCATION:Universidade Mackenzie\, R. da Consolação\, 930\, São Paulo\, São Paulo\, 01302-907\, Brasil
CATEGORIES:Próximos Eventos
ATTACH;FMTTYPE=image/jpeg:https://ipjundiai.org.br/wp-content/uploads/2022/05/upa-aviso.jpg
END:VEVENT
BEGIN:VEVENT
DTSTART;TZID=America/Sao_Paulo:20220806T090000
DTEND;TZID=America/Sao_Paulo:20220806T140000
DTSTAMP:20260424T130154
CREATED:20220801T141819Z
LAST-MODIFIED:20220801T141820Z
UID:34553-1659776400-1659794400@ipjundiai.org.br
SUMMARY:Passeio Terceira Idade (SAF)
DESCRIPTION:
URL:https://ipjundiai.org.br/eventos/passeio-terceira-idade-saf/
LOCATION:Sítio Sassafraz\, Via Paulo Leone\, 1400\, Itupeva\, São Paulo\, 13295-000\, Brasil
CATEGORIES:Próximos Eventos
ATTACH;FMTTYPE=image/jpeg:https://ipjundiai.org.br/wp-content/uploads/2022/05/aviso-saf.jpg
END:VEVENT
BEGIN:VEVENT
DTSTART;TZID=America/Sao_Paulo:20220806T190000
DTEND;TZID=America/Sao_Paulo:20220806T203000
DTSTAMP:20260424T130154
CREATED:20220801T142022Z
LAST-MODIFIED:20220801T142024Z
UID:34555-1659812400-1659817800@ipjundiai.org.br
SUMMARY:Culto (UMP)
DESCRIPTION:
URL:https://ipjundiai.org.br/eventos/culto-ump/
LOCATION:IP Jundiaí\, Rua Vigário J.J. Rodrigues\, 504\, Jundiaí\, São Paulo\, 13201001\, Brasil
CATEGORIES:Próximos Eventos
ATTACH;FMTTYPE=image/jpeg:https://ipjundiai.org.br/wp-content/uploads/2022/05/ump-aviso.jpg
END:VEVENT
BEGIN:VEVENT
DTSTART;TZID=America/Sao_Paulo:20220806T200000
DTEND;TZID=America/Sao_Paulo:20220806T220000
DTSTAMP:20260424T130154
CREATED:20220801T142143Z
LAST-MODIFIED:20220801T142144Z
UID:34557-1659816000-1659823200@ipjundiai.org.br
SUMMARY:Reunião de Oração (Eleições)
DESCRIPTION:
URL:https://ipjundiai.org.br/eventos/reuniao-de-oracao-eleicoes/
LOCATION:IP Jundiaí\, Rua Vigário J.J. Rodrigues\, 504\, Jundiaí\, São Paulo\, 13201001\, Brasil
CATEGORIES:Próximos Eventos
ATTACH;FMTTYPE=image/jpeg:https://ipjundiai.org.br/wp-content/uploads/2022/05/ipj-aviso.jpg
END:VEVENT
BEGIN:VEVENT
DTSTART;VALUE=DATE:20220807
DTEND;VALUE=DATE:20220808
DTSTAMP:20260424T130154
CREATED:20220805T234444Z
LAST-MODIFIED:20220805T234445Z
UID:34637-1659830400-1659916799@ipjundiai.org.br
SUMMARY:Dia do Presbítero
DESCRIPTION:
URL:https://ipjundiai.org.br/eventos/dia-do-presbitero-2/
LOCATION:IP Jundiaí\, Rua Vigário J.J. Rodrigues\, 504\, Jundiaí\, São Paulo\, 13201001\, Brasil
CATEGORIES:Próximos Eventos
ATTACH;FMTTYPE=image/jpeg:https://ipjundiai.org.br/wp-content/uploads/2022/05/ipj-aviso.jpg
END:VEVENT
END:VCALENDAR