BEGIN:VCALENDAR
VERSION:2.0
PRODID:-//Igreja Presbiteriana de Jundiaí - ECPv6.15.11//NONSGML v1.0//EN
CALSCALE:GREGORIAN
METHOD:PUBLISH
X-ORIGINAL-URL:https://ipjundiai.org.br
X-WR-CALDESC:Eventos para Igreja Presbiteriana de Jundiaí
REFRESH-INTERVAL;VALUE=DURATION:PT1H
X-Robots-Tag:noindex
X-PUBLISHED-TTL:PT1H
BEGIN:VTIMEZONE
TZID:America/Sao_Paulo
BEGIN:STANDARD
TZOFFSETFROM:-0300
TZOFFSETTO:-0300
TZNAME:-03
DTSTART:20210101T000000
END:STANDARD
END:VTIMEZONE
BEGIN:VEVENT
DTSTART;VALUE=DATE:20220807
DTEND;VALUE=DATE:20220808
DTSTAMP:20260424T130153
CREATED:20220805T234444Z
LAST-MODIFIED:20220805T234445Z
UID:34637-1659830400-1659916799@ipjundiai.org.br
SUMMARY:Dia do Presbítero
DESCRIPTION:
URL:https://ipjundiai.org.br/eventos/dia-do-presbitero-2/
LOCATION:IP Jundiaí\, Rua Vigário J.J. Rodrigues\, 504\, Jundiaí\, São Paulo\, 13201001\, Brasil
CATEGORIES:Próximos Eventos
ATTACH;FMTTYPE=image/jpeg:https://ipjundiai.org.br/wp-content/uploads/2022/05/ipj-aviso.jpg
END:VEVENT
BEGIN:VEVENT
DTSTART;VALUE=DATE:20220813
DTEND;VALUE=DATE:20220814
DTSTAMP:20260424T130153
CREATED:20220805T235716Z
LAST-MODIFIED:20220809T124946Z
UID:34641-1660348800-1660435199@ipjundiai.org.br
SUMMARY:Culto Gratidão Aniversário IPB
DESCRIPTION:
URL:https://ipjundiai.org.br/eventos/culto-gratidao-aniversario-ipb/
LOCATION:Golden Park Sorocaba\, Rodovia Senador José Ermírio de Moraes\, km 2\,6\, Sorocaba\, São Paulo\, 18087-125\, Brasil
CATEGORIES:Próximos Eventos
ATTACH;FMTTYPE=image/jpeg:https://ipjundiai.org.br/wp-content/uploads/2022/08/ipb-163-anos.jpg
END:VEVENT
BEGIN:VEVENT
DTSTART;VALUE=DATE:20220814
DTEND;VALUE=DATE:20220815
DTSTAMP:20260424T130153
CREATED:20220805T235832Z
LAST-MODIFIED:20220805T235833Z
UID:34643-1660435200-1660521599@ipjundiai.org.br
SUMMARY:Café Manhã: Dia dos pais
DESCRIPTION:
URL:https://ipjundiai.org.br/eventos/cafe-manha-dia-dos-pais/
LOCATION:IP Jundiaí\, Rua Vigário J.J. Rodrigues\, 504\, Jundiaí\, São Paulo\, 13201001\, Brasil
CATEGORIES:Próximos Eventos
ATTACH;FMTTYPE=image/jpeg:https://ipjundiai.org.br/wp-content/uploads/2022/05/aviso-saf.jpg
END:VEVENT
BEGIN:VEVENT
DTSTART;TZID=America/Sao_Paulo:20220814T090000
DTEND;TZID=America/Sao_Paulo:20220814T100000
DTSTAMP:20260424T130153
CREATED:20220426T235757Z
LAST-MODIFIED:20220812T191702Z
UID:33640-1660467600-1660471200@ipjundiai.org.br
SUMMARY:Culto Matutino
DESCRIPTION:
URL:https://ipjundiai.org.br/eventos/culto-matutino-7/
LOCATION:IP Jundiaí\, Rua Vigário J.J. Rodrigues\, 504\, Jundiaí\, São Paulo\, 13201001\, Brasil
CATEGORIES:Próximos Eventos
ATTACH;FMTTYPE=image/jpeg:https://ipjundiai.org.br/wp-content/uploads/2022/05/ipj-aviso.jpg
END:VEVENT
BEGIN:VEVENT
DTSTART;TZID=America/Sao_Paulo:20220814T100000
DTEND;TZID=America/Sao_Paulo:20220814T110000
DTSTAMP:20260424T130153
CREATED:20220801T145642Z
LAST-MODIFIED:20220812T191612Z
UID:34559-1660471200-1660474800@ipjundiai.org.br
SUMMARY:Escola Bíblica Dominical
DESCRIPTION:
URL:https://ipjundiai.org.br/eventos/eleicao-de-presbiteros/
LOCATION:IP Jundiaí\, Rua Vigário J.J. Rodrigues\, 504\, Jundiaí\, São Paulo\, 13201001\, Brasil
CATEGORIES:Próximos Eventos
ATTACH;FMTTYPE=image/jpeg:https://ipjundiai.org.br/wp-content/uploads/2022/05/ipj-aviso.jpg
END:VEVENT
BEGIN:VEVENT
DTSTART;TZID=America/Sao_Paulo:20220814T190000
DTEND;TZID=America/Sao_Paulo:20220814T203000
DTSTAMP:20260424T130153
CREATED:20220429T144801Z
LAST-MODIFIED:20220812T191411Z
UID:33658-1660503600-1660509000@ipjundiai.org.br
SUMMARY:Culto da Noite
DESCRIPTION:
URL:https://ipjundiai.org.br/eventos/culto-da-noite-6/
LOCATION:IP Jundiaí\, Rua Vigário J.J. Rodrigues\, 504\, Jundiaí\, São Paulo\, 13201001\, Brasil
CATEGORIES:Próximos Eventos
ATTACH;FMTTYPE=image/jpeg:https://ipjundiai.org.br/wp-content/uploads/2022/05/ipj-aviso.jpg
END:VEVENT
BEGIN:VEVENT
DTSTART;TZID=America/Sao_Paulo:20220816T150000
DTEND;TZID=America/Sao_Paulo:20220816T160000
DTSTAMP:20260424T130153
CREATED:20220801T141057Z
LAST-MODIFIED:20220812T191338Z
UID:34543-1660662000-1660665600@ipjundiai.org.br
SUMMARY:Reunião de Oração
DESCRIPTION:
URL:https://ipjundiai.org.br/eventos/reuniao-de-oracao-25/
LOCATION:IP Jundiaí\, Rua Vigário J.J. Rodrigues\, 504\, Jundiaí\, São Paulo\, 13201001\, Brasil
CATEGORIES:Próximos Eventos
ATTACH;FMTTYPE=image/jpeg:https://ipjundiai.org.br/wp-content/uploads/2022/05/ipj-aviso.jpg
END:VEVENT
BEGIN:VEVENT
DTSTART;TZID=America/Sao_Paulo:20220816T193000
DTEND;TZID=America/Sao_Paulo:20220816T210000
DTSTAMP:20260424T130153
CREATED:20220801T141200Z
LAST-MODIFIED:20220812T191259Z
UID:34545-1660678200-1660683600@ipjundiai.org.br
SUMMARY:Coral Adorai (Ensaio)
DESCRIPTION:
URL:https://ipjundiai.org.br/eventos/coral-adorai-ensaio-36/
LOCATION:IP Jundiaí\, Rua Vigário J.J. Rodrigues\, 504\, Jundiaí\, São Paulo\, 13201001\, Brasil
CATEGORIES:Próximos Eventos
ATTACH;FMTTYPE=image/jpeg:https://ipjundiai.org.br/wp-content/uploads/2022/05/coral-aviso.jpg
END:VEVENT
BEGIN:VEVENT
DTSTART;TZID=America/Sao_Paulo:20220817T210000
DTEND;TZID=America/Sao_Paulo:20220817T220000
DTSTAMP:20260424T130153
CREATED:20220801T141315Z
LAST-MODIFIED:20220812T191214Z
UID:34547-1660770000-1660773600@ipjundiai.org.br
SUMMARY:Reunião de Oração (UMP)
DESCRIPTION:
URL:https://ipjundiai.org.br/eventos/reuniao-de-oracao-ump-2/
LOCATION:Online
CATEGORIES:Próximos Eventos
ATTACH;FMTTYPE=image/jpeg:https://ipjundiai.org.br/wp-content/uploads/2022/05/ump-aviso.jpg
END:VEVENT
BEGIN:VEVENT
DTSTART;TZID=America/Sao_Paulo:20220818T200000
DTEND;TZID=America/Sao_Paulo:20220818T210000
DTSTAMP:20260424T130153
CREATED:20220715T134426Z
LAST-MODIFIED:20220812T184510Z
UID:34436-1660852800-1660856400@ipjundiai.org.br
SUMMARY:Estudo Bíblico
DESCRIPTION:
URL:https://ipjundiai.org.br/eventos/estudo-biblico-44/
LOCATION:IP Jundiaí\, Rua Vigário J.J. Rodrigues\, 504\, Jundiaí\, São Paulo\, 13201001\, Brasil
CATEGORIES:Próximos Eventos
ATTACH;FMTTYPE=image/jpeg:https://ipjundiai.org.br/wp-content/uploads/2022/05/ipj-aviso.jpg
END:VEVENT
BEGIN:VEVENT
DTSTART;TZID=America/Sao_Paulo:20220820T150000
DTEND;TZID=America/Sao_Paulo:20220820T170000
DTSTAMP:20260424T130153
CREATED:20220806T000014Z
LAST-MODIFIED:20220806T000015Z
UID:34645-1661007600-1661014800@ipjundiai.org.br
SUMMARY:Tarde Feliz
DESCRIPTION:
URL:https://ipjundiai.org.br/eventos/tarde-feliz-2/
LOCATION:IP Jundiaí\, Rua Vigário J.J. Rodrigues\, 504\, Jundiaí\, São Paulo\, 13201001\, Brasil
CATEGORIES:Próximos Eventos
ATTACH;FMTTYPE=image/jpeg:https://ipjundiai.org.br/wp-content/uploads/2022/06/ucp-criancas.jpg
END:VEVENT
BEGIN:VEVENT
DTSTART;TZID=America/Sao_Paulo:20220820T180000
DTEND;TZID=America/Sao_Paulo:20220820T200000
DTSTAMP:20260424T130153
CREATED:20220806T000514Z
LAST-MODIFIED:20220806T000514Z
UID:34651-1661018400-1661025600@ipjundiai.org.br
SUMMARY:Grow
DESCRIPTION:
URL:https://ipjundiai.org.br/eventos/grow-7/
LOCATION:IP Jundiaí\, Rua Vigário J.J. Rodrigues\, 504\, Jundiaí\, São Paulo\, 13201001\, Brasil
CATEGORIES:Próximos Eventos
ATTACH;FMTTYPE=image/jpeg:https://ipjundiai.org.br/wp-content/uploads/2022/05/upa-aviso.jpg
END:VEVENT
BEGIN:VEVENT
DTSTART;TZID=America/Sao_Paulo:20220820T183000
DTEND;TZID=America/Sao_Paulo:20220820T200000
DTSTAMP:20260424T130153
CREATED:20220812T191928Z
LAST-MODIFIED:20220812T191929Z
UID:34706-1661020200-1661025600@ipjundiai.org.br
SUMMARY:Palavra aos Homens
DESCRIPTION:
URL:https://ipjundiai.org.br/eventos/palavra-aos-homens/
LOCATION:IP Louveira
CATEGORIES:Próximos Eventos
ATTACH;FMTTYPE=image/jpeg:https://ipjundiai.org.br/wp-content/uploads/2022/05/uph-aviso.jpg
END:VEVENT
BEGIN:VEVENT
DTSTART;TZID=America/Sao_Paulo:20220820T190000
DTEND;TZID=America/Sao_Paulo:20220820T203000
DTSTAMP:20260424T130153
CREATED:20220806T000647Z
LAST-MODIFIED:20220806T000648Z
UID:34653-1661022000-1661027400@ipjundiai.org.br
SUMMARY:Estudo Bíblico Indutivo
DESCRIPTION:
URL:https://ipjundiai.org.br/eventos/estudo-biblico-indutivo-2/
LOCATION:IP Jundiaí\, Rua Vigário J.J. Rodrigues\, 504\, Jundiaí\, São Paulo\, 13201001\, Brasil
CATEGORIES:Próximos Eventos
ATTACH;FMTTYPE=image/jpeg:https://ipjundiai.org.br/wp-content/uploads/2022/05/ump-aviso.jpg
END:VEVENT
BEGIN:VEVENT
DTSTART;TZID=America/Sao_Paulo:20220823T150000
DTEND;TZID=America/Sao_Paulo:20220823T160000
DTSTAMP:20260424T130153
CREATED:20220819T231934Z
LAST-MODIFIED:20220819T231935Z
UID:34725-1661266800-1661270400@ipjundiai.org.br
SUMMARY:Reunião de Oração
DESCRIPTION:
URL:https://ipjundiai.org.br/eventos/reuniao-de-oracao-26/
LOCATION:IP Jundiaí\, Rua Vigário J.J. Rodrigues\, 504\, Jundiaí\, São Paulo\, 13201001\, Brasil
CATEGORIES:Próximos Eventos
ATTACH;FMTTYPE=image/jpeg:https://ipjundiai.org.br/wp-content/uploads/2022/05/aviso-saf.jpg
END:VEVENT
BEGIN:VEVENT
DTSTART;TZID=America/Sao_Paulo:20220824T210000
DTEND;TZID=America/Sao_Paulo:20220824T220000
DTSTAMP:20260424T130153
CREATED:20220819T232048Z
LAST-MODIFIED:20220819T232049Z
UID:34727-1661374800-1661378400@ipjundiai.org.br
SUMMARY:Reunião de Oração (UMP)
DESCRIPTION:
URL:https://ipjundiai.org.br/eventos/reuniao-de-oracao-ump-3/
LOCATION:Online
CATEGORIES:Próximos Eventos
ATTACH;FMTTYPE=image/jpeg:https://ipjundiai.org.br/wp-content/uploads/2022/05/ump-aviso.jpg
END:VEVENT
BEGIN:VEVENT
DTSTART;TZID=America/Sao_Paulo:20220825T200000
DTEND;TZID=America/Sao_Paulo:20220825T210000
DTSTAMP:20260424T130153
CREATED:20220819T232227Z
LAST-MODIFIED:20220819T232228Z
UID:34729-1661457600-1661461200@ipjundiai.org.br
SUMMARY:Estudo Bíblico
DESCRIPTION:
URL:https://ipjundiai.org.br/eventos/estudo-biblico-45/
LOCATION:IP Jundiaí\, Rua Vigário J.J. Rodrigues\, 504\, Jundiaí\, São Paulo\, 13201001\, Brasil
CATEGORIES:Próximos Eventos
ATTACH;FMTTYPE=image/jpeg:https://ipjundiai.org.br/wp-content/uploads/2022/05/ipj-aviso.jpg
END:VEVENT
BEGIN:VEVENT
DTSTART;TZID=America/Sao_Paulo:20220826T193000
DTEND;TZID=America/Sao_Paulo:20220826T210000
DTSTAMP:20260424T130153
CREATED:20220819T232440Z
LAST-MODIFIED:20220819T234015Z
UID:34731-1661542200-1661547600@ipjundiai.org.br
SUMMARY:Coral Adorai (Ensaio)
DESCRIPTION:
URL:https://ipjundiai.org.br/eventos/coral-adorai-ensaio-37/
LOCATION:IP Jundiaí\, Rua Vigário J.J. Rodrigues\, 504\, Jundiaí\, São Paulo\, 13201001\, Brasil
CATEGORIES:Próximos Eventos
ATTACH;FMTTYPE=image/jpeg:https://ipjundiai.org.br/wp-content/uploads/2022/05/coral-aviso.jpg
END:VEVENT
BEGIN:VEVENT
DTSTART;TZID=America/Sao_Paulo:20220827T180000
DTEND;TZID=America/Sao_Paulo:20220827T210000
DTSTAMP:20260424T130153
CREATED:20220812T192235Z
LAST-MODIFIED:20220812T192235Z
UID:34710-1661623200-1661634000@ipjundiai.org.br
SUMMARY:Festival de Música (PRID)
DESCRIPTION:
URL:https://ipjundiai.org.br/eventos/festival-de-musica-prid/
LOCATION:Segunda IP. de Jundiaí\, R. Profa. Geralda Bertola Faca\, 296\, Jundiaí\, SP\, 13214-360\, Brasil
CATEGORIES:Próximos Eventos
ATTACH;FMTTYPE=image/jpeg:https://ipjundiai.org.br/wp-content/uploads/2022/05/ump-aviso.jpg
END:VEVENT
BEGIN:VEVENT
DTSTART;TZID=America/Sao_Paulo:20220827T190000
DTEND;TZID=America/Sao_Paulo:20220827T203000
DTSTAMP:20260424T130153
CREATED:20220812T192053Z
LAST-MODIFIED:20220826T115527Z
UID:34708-1661626800-1661632200@ipjundiai.org.br
SUMMARY:IX Conferência Missionária
DESCRIPTION:
URL:https://ipjundiai.org.br/eventos/conferencia-missionaria/
LOCATION:IP Jundiaí\, Rua Vigário J.J. Rodrigues\, 504\, Jundiaí\, São Paulo\, 13201001\, Brasil
CATEGORIES:Próximos Eventos
ATTACH;FMTTYPE=image/jpeg:https://ipjundiai.org.br/wp-content/uploads/2022/08/conferencia-missionaria-2022.jpg
END:VEVENT
BEGIN:VEVENT
DTSTART;TZID=America/Sao_Paulo:20220828T090000
DTEND;TZID=America/Sao_Paulo:20220828T100000
DTSTAMP:20260424T130153
CREATED:20220826T115240Z
LAST-MODIFIED:20220826T115458Z
UID:34770-1661677200-1661680800@ipjundiai.org.br
SUMMARY:IX Conferência Missionária
DESCRIPTION:
URL:https://ipjundiai.org.br/eventos/ix-conferencia-missionaria-ipj/
LOCATION:IP Jundiaí\, Rua Vigário J.J. Rodrigues\, 504\, Jundiaí\, São Paulo\, 13201001\, Brasil
CATEGORIES:Próximos Eventos
ATTACH;FMTTYPE=image/jpeg:https://ipjundiai.org.br/wp-content/uploads/2022/08/conferencia-missionaria-2022.jpg
END:VEVENT
BEGIN:VEVENT
DTSTART;TZID=America/Sao_Paulo:20220828T190000
DTEND;TZID=America/Sao_Paulo:20220828T203000
DTSTAMP:20260424T130153
CREATED:20220826T115340Z
LAST-MODIFIED:20220826T115436Z
UID:34772-1661713200-1661718600@ipjundiai.org.br
SUMMARY:IX Conferência Missionária
DESCRIPTION:
URL:https://ipjundiai.org.br/eventos/ix-conferencia-missionaria-ipj-2/
LOCATION:IP Jundiaí\, Rua Vigário J.J. Rodrigues\, 504\, Jundiaí\, São Paulo\, 13201001\, Brasil
CATEGORIES:Próximos Eventos
ATTACH;FMTTYPE=image/jpeg:https://ipjundiai.org.br/wp-content/uploads/2022/08/conferencia-missionaria-2022.jpg
END:VEVENT
BEGIN:VEVENT
DTSTART;TZID=America/Sao_Paulo:20220830T150000
DTEND;TZID=America/Sao_Paulo:20220830T160000
DTSTAMP:20260424T130153
CREATED:20220826T224243Z
LAST-MODIFIED:20220826T224243Z
UID:34783-1661871600-1661875200@ipjundiai.org.br
SUMMARY:Reunião de Oração
DESCRIPTION:
URL:https://ipjundiai.org.br/eventos/reuniao-de-oracao-27/
LOCATION:IP Jundiaí\, Rua Vigário J.J. Rodrigues\, 504\, Jundiaí\, São Paulo\, 13201001\, Brasil
CATEGORIES:Próximos Eventos
ATTACH;FMTTYPE=image/jpeg:https://ipjundiai.org.br/wp-content/uploads/2022/05/ipj-aviso.jpg
END:VEVENT
BEGIN:VEVENT
DTSTART;TZID=America/Sao_Paulo:20220831T210000
DTEND;TZID=America/Sao_Paulo:20220831T220000
DTSTAMP:20260424T130153
CREATED:20220826T224337Z
LAST-MODIFIED:20220826T224338Z
UID:34785-1661979600-1661983200@ipjundiai.org.br
SUMMARY:Reunião de Oração (UMP)
DESCRIPTION:
URL:https://ipjundiai.org.br/eventos/reuniao-de-oracao-ump-4/
LOCATION:Online
CATEGORIES:Próximos Eventos
ATTACH;FMTTYPE=image/jpeg:https://ipjundiai.org.br/wp-content/uploads/2022/05/ump-aviso.jpg
END:VEVENT
BEGIN:VEVENT
DTSTART;TZID=America/Sao_Paulo:20220902T190000
DTEND;TZID=America/Sao_Paulo:20220902T213000
DTSTAMP:20260424T130153
CREATED:20220826T224612Z
LAST-MODIFIED:20220826T224613Z
UID:34789-1662145200-1662154200@ipjundiai.org.br
SUMMARY:Noite da Pizza (Infantil)
DESCRIPTION:
URL:https://ipjundiai.org.br/eventos/noite-da-pizza-infantil/
LOCATION:IP Jundiaí\, Rua Vigário J.J. Rodrigues\, 504\, Jundiaí\, São Paulo\, 13201001\, Brasil
CATEGORIES:Próximos Eventos
ATTACH;FMTTYPE=image/jpeg:https://ipjundiai.org.br/wp-content/uploads/2022/06/ucp-criancas.jpg
END:VEVENT
BEGIN:VEVENT
DTSTART;TZID=America/Sao_Paulo:20220902T193000
DTEND;TZID=America/Sao_Paulo:20220902T210000
DTSTAMP:20260424T130153
CREATED:20220826T224727Z
LAST-MODIFIED:20220826T224727Z
UID:34791-1662147000-1662152400@ipjundiai.org.br
SUMMARY:Coral Adorai (Ensaio)
DESCRIPTION:
URL:https://ipjundiai.org.br/eventos/coral-adorai-ensaio-38/
LOCATION:IP Jundiaí\, Rua Vigário J.J. Rodrigues\, 504\, Jundiaí\, São Paulo\, 13201001\, Brasil
CATEGORIES:Próximos Eventos
ATTACH;FMTTYPE=image/jpeg:https://ipjundiai.org.br/wp-content/uploads/2022/05/coral-aviso.jpg
END:VEVENT
BEGIN:VEVENT
DTSTART;TZID=America/Sao_Paulo:20220902T200000
DTEND;TZID=America/Sao_Paulo:20220902T220000
DTSTAMP:20260424T130153
CREATED:20220826T224849Z
LAST-MODIFIED:20220826T224850Z
UID:34793-1662148800-1662156000@ipjundiai.org.br
SUMMARY:Reunião (Conselho)
DESCRIPTION:
URL:https://ipjundiai.org.br/eventos/reuniao-conselho-2/
LOCATION:IP Jundiaí\, Rua Vigário J.J. Rodrigues\, 504\, Jundiaí\, São Paulo\, 13201001\, Brasil
CATEGORIES:Próximos Eventos
ATTACH;FMTTYPE=image/jpeg:https://ipjundiai.org.br/wp-content/uploads/2022/05/ipj-aviso.jpg
END:VEVENT
BEGIN:VEVENT
DTSTART;TZID=America/Sao_Paulo:20220903T180000
DTEND;TZID=America/Sao_Paulo:20220903T193000
DTSTAMP:20260424T130153
CREATED:20220826T224955Z
LAST-MODIFIED:20220826T224956Z
UID:34795-1662228000-1662233400@ipjundiai.org.br
SUMMARY:Grow
DESCRIPTION:
URL:https://ipjundiai.org.br/eventos/grow-8/
LOCATION:IP Jundiaí\, Rua Vigário J.J. Rodrigues\, 504\, Jundiaí\, São Paulo\, 13201001\, Brasil
CATEGORIES:Próximos Eventos
ATTACH;FMTTYPE=image/jpeg:https://ipjundiai.org.br/wp-content/uploads/2022/05/upa-aviso.jpg
END:VEVENT
BEGIN:VEVENT
DTSTART;TZID=America/Sao_Paulo:20220903T190000
DTEND;TZID=America/Sao_Paulo:20220903T200000
DTSTAMP:20260424T130153
CREATED:20220826T225112Z
LAST-MODIFIED:20220826T225113Z
UID:34797-1662231600-1662235200@ipjundiai.org.br
SUMMARY:Culto (UMP)
DESCRIPTION:
URL:https://ipjundiai.org.br/eventos/culto-ump-2/
LOCATION:IP Jundiaí\, Rua Vigário J.J. Rodrigues\, 504\, Jundiaí\, São Paulo\, 13201001\, Brasil
CATEGORIES:Próximos Eventos
ATTACH;FMTTYPE=image/jpeg:https://ipjundiai.org.br/wp-content/uploads/2022/05/ump-aviso.jpg
END:VEVENT
BEGIN:VEVENT
DTSTART;TZID=America/Sao_Paulo:20220906T150000
DTEND;TZID=America/Sao_Paulo:20220906T160000
DTSTAMP:20260424T130153
CREATED:20220902T203824Z
LAST-MODIFIED:20220902T203825Z
UID:34874-1662476400-1662480000@ipjundiai.org.br
SUMMARY:Reunião de Oração
DESCRIPTION:
URL:https://ipjundiai.org.br/eventos/reuniao-de-oracao-28/
LOCATION:IP Jundiaí\, Rua Vigário J.J. Rodrigues\, 504\, Jundiaí\, São Paulo\, 13201001\, Brasil
CATEGORIES:Próximos Eventos
ATTACH;FMTTYPE=image/jpeg:https://ipjundiai.org.br/wp-content/uploads/2022/08/saf-agenda.jpg
END:VEVENT
END:VCALENDAR