BEGIN:VCALENDAR
VERSION:2.0
PRODID:-//Igreja Presbiteriana de Jundiaí - ECPv6.15.11//NONSGML v1.0//EN
CALSCALE:GREGORIAN
METHOD:PUBLISH
X-ORIGINAL-URL:https://ipjundiai.org.br
X-WR-CALDESC:Eventos para Igreja Presbiteriana de Jundiaí
REFRESH-INTERVAL;VALUE=DURATION:PT1H
X-Robots-Tag:noindex
X-PUBLISHED-TTL:PT1H
BEGIN:VTIMEZONE
TZID:America/Sao_Paulo
BEGIN:STANDARD
TZOFFSETFROM:-0300
TZOFFSETTO:-0300
TZNAME:-03
DTSTART:20210101T000000
END:STANDARD
END:VTIMEZONE
BEGIN:VEVENT
DTSTART;TZID=America/Sao_Paulo:20220830T150000
DTEND;TZID=America/Sao_Paulo:20220830T160000
DTSTAMP:20260424T130153
CREATED:20220826T224243Z
LAST-MODIFIED:20220826T224243Z
UID:34783-1661871600-1661875200@ipjundiai.org.br
SUMMARY:Reunião de Oração
DESCRIPTION:
URL:https://ipjundiai.org.br/eventos/reuniao-de-oracao-27/
LOCATION:IP Jundiaí\, Rua Vigário J.J. Rodrigues\, 504\, Jundiaí\, São Paulo\, 13201001\, Brasil
CATEGORIES:Próximos Eventos
ATTACH;FMTTYPE=image/jpeg:https://ipjundiai.org.br/wp-content/uploads/2022/05/ipj-aviso.jpg
END:VEVENT
BEGIN:VEVENT
DTSTART;TZID=America/Sao_Paulo:20220831T210000
DTEND;TZID=America/Sao_Paulo:20220831T220000
DTSTAMP:20260424T130153
CREATED:20220826T224337Z
LAST-MODIFIED:20220826T224338Z
UID:34785-1661979600-1661983200@ipjundiai.org.br
SUMMARY:Reunião de Oração (UMP)
DESCRIPTION:
URL:https://ipjundiai.org.br/eventos/reuniao-de-oracao-ump-4/
LOCATION:Online
CATEGORIES:Próximos Eventos
ATTACH;FMTTYPE=image/jpeg:https://ipjundiai.org.br/wp-content/uploads/2022/05/ump-aviso.jpg
END:VEVENT
BEGIN:VEVENT
DTSTART;TZID=America/Sao_Paulo:20220902T190000
DTEND;TZID=America/Sao_Paulo:20220902T213000
DTSTAMP:20260424T130153
CREATED:20220826T224612Z
LAST-MODIFIED:20220826T224613Z
UID:34789-1662145200-1662154200@ipjundiai.org.br
SUMMARY:Noite da Pizza (Infantil)
DESCRIPTION:
URL:https://ipjundiai.org.br/eventos/noite-da-pizza-infantil/
LOCATION:IP Jundiaí\, Rua Vigário J.J. Rodrigues\, 504\, Jundiaí\, São Paulo\, 13201001\, Brasil
CATEGORIES:Próximos Eventos
ATTACH;FMTTYPE=image/jpeg:https://ipjundiai.org.br/wp-content/uploads/2022/06/ucp-criancas.jpg
END:VEVENT
BEGIN:VEVENT
DTSTART;TZID=America/Sao_Paulo:20220902T193000
DTEND;TZID=America/Sao_Paulo:20220902T210000
DTSTAMP:20260424T130153
CREATED:20220826T224727Z
LAST-MODIFIED:20220826T224727Z
UID:34791-1662147000-1662152400@ipjundiai.org.br
SUMMARY:Coral Adorai (Ensaio)
DESCRIPTION:
URL:https://ipjundiai.org.br/eventos/coral-adorai-ensaio-38/
LOCATION:IP Jundiaí\, Rua Vigário J.J. Rodrigues\, 504\, Jundiaí\, São Paulo\, 13201001\, Brasil
CATEGORIES:Próximos Eventos
ATTACH;FMTTYPE=image/jpeg:https://ipjundiai.org.br/wp-content/uploads/2022/05/coral-aviso.jpg
END:VEVENT
BEGIN:VEVENT
DTSTART;TZID=America/Sao_Paulo:20220902T200000
DTEND;TZID=America/Sao_Paulo:20220902T220000
DTSTAMP:20260424T130153
CREATED:20220826T224849Z
LAST-MODIFIED:20220826T224850Z
UID:34793-1662148800-1662156000@ipjundiai.org.br
SUMMARY:Reunião (Conselho)
DESCRIPTION:
URL:https://ipjundiai.org.br/eventos/reuniao-conselho-2/
LOCATION:IP Jundiaí\, Rua Vigário J.J. Rodrigues\, 504\, Jundiaí\, São Paulo\, 13201001\, Brasil
CATEGORIES:Próximos Eventos
ATTACH;FMTTYPE=image/jpeg:https://ipjundiai.org.br/wp-content/uploads/2022/05/ipj-aviso.jpg
END:VEVENT
BEGIN:VEVENT
DTSTART;TZID=America/Sao_Paulo:20220903T180000
DTEND;TZID=America/Sao_Paulo:20220903T193000
DTSTAMP:20260424T130153
CREATED:20220826T224955Z
LAST-MODIFIED:20220826T224956Z
UID:34795-1662228000-1662233400@ipjundiai.org.br
SUMMARY:Grow
DESCRIPTION:
URL:https://ipjundiai.org.br/eventos/grow-8/
LOCATION:IP Jundiaí\, Rua Vigário J.J. Rodrigues\, 504\, Jundiaí\, São Paulo\, 13201001\, Brasil
CATEGORIES:Próximos Eventos
ATTACH;FMTTYPE=image/jpeg:https://ipjundiai.org.br/wp-content/uploads/2022/05/upa-aviso.jpg
END:VEVENT
BEGIN:VEVENT
DTSTART;TZID=America/Sao_Paulo:20220903T190000
DTEND;TZID=America/Sao_Paulo:20220903T200000
DTSTAMP:20260424T130153
CREATED:20220826T225112Z
LAST-MODIFIED:20220826T225113Z
UID:34797-1662231600-1662235200@ipjundiai.org.br
SUMMARY:Culto (UMP)
DESCRIPTION:
URL:https://ipjundiai.org.br/eventos/culto-ump-2/
LOCATION:IP Jundiaí\, Rua Vigário J.J. Rodrigues\, 504\, Jundiaí\, São Paulo\, 13201001\, Brasil
CATEGORIES:Próximos Eventos
ATTACH;FMTTYPE=image/jpeg:https://ipjundiai.org.br/wp-content/uploads/2022/05/ump-aviso.jpg
END:VEVENT
BEGIN:VEVENT
DTSTART;TZID=America/Sao_Paulo:20220906T150000
DTEND;TZID=America/Sao_Paulo:20220906T160000
DTSTAMP:20260424T130153
CREATED:20220902T203824Z
LAST-MODIFIED:20220902T203825Z
UID:34874-1662476400-1662480000@ipjundiai.org.br
SUMMARY:Reunião de Oração
DESCRIPTION:
URL:https://ipjundiai.org.br/eventos/reuniao-de-oracao-28/
LOCATION:IP Jundiaí\, Rua Vigário J.J. Rodrigues\, 504\, Jundiaí\, São Paulo\, 13201001\, Brasil
CATEGORIES:Próximos Eventos
ATTACH;FMTTYPE=image/jpeg:https://ipjundiai.org.br/wp-content/uploads/2022/08/saf-agenda.jpg
END:VEVENT
BEGIN:VEVENT
DTSTART;VALUE=DATE:20220907
DTEND;VALUE=DATE:20220908
DTSTAMP:20260424T130153
CREATED:20220826T225253Z
LAST-MODIFIED:20220826T225253Z
UID:34799-1662508800-1662595199@ipjundiai.org.br
SUMMARY:Day Camp (UPA)
DESCRIPTION:
URL:https://ipjundiai.org.br/eventos/day-camp-upa/
LOCATION:Matiassi\, R. Barcelona\, 148\, Jundiaí\, São Paulo\, 13214-736\, Brasil
CATEGORIES:Próximos Eventos
ATTACH;FMTTYPE=image/jpeg:https://ipjundiai.org.br/wp-content/uploads/2022/05/upa-aviso.jpg
END:VEVENT
BEGIN:VEVENT
DTSTART;TZID=America/Sao_Paulo:20220907T210000
DTEND;TZID=America/Sao_Paulo:20220907T220000
DTSTAMP:20260424T130153
CREATED:20220902T203921Z
LAST-MODIFIED:20220902T203922Z
UID:34876-1662584400-1662588000@ipjundiai.org.br
SUMMARY:Reunião de Oração (UMP)
DESCRIPTION:
URL:https://ipjundiai.org.br/eventos/reuniao-de-oracao-ump-5/
LOCATION:Online
CATEGORIES:Próximos Eventos
ATTACH;FMTTYPE=image/jpeg:https://ipjundiai.org.br/wp-content/uploads/2022/08/ump-agenda.jpg
END:VEVENT
BEGIN:VEVENT
DTSTART;TZID=America/Sao_Paulo:20220908T200000
DTEND;TZID=America/Sao_Paulo:20220908T210000
DTSTAMP:20260424T130153
CREATED:20220826T224437Z
LAST-MODIFIED:20220902T203728Z
UID:34787-1662667200-1662670800@ipjundiai.org.br
SUMMARY:Estudo Bíblico
DESCRIPTION:
URL:https://ipjundiai.org.br/eventos/estudo-biblico-46/
LOCATION:IP Jundiaí\, Rua Vigário J.J. Rodrigues\, 504\, Jundiaí\, São Paulo\, 13201001\, Brasil
CATEGORIES:Próximos Eventos
ATTACH;FMTTYPE=image/jpeg:https://ipjundiai.org.br/wp-content/uploads/2022/08/ipj-agenda.jpg
END:VEVENT
BEGIN:VEVENT
DTSTART;TZID=America/Sao_Paulo:20220909T193000
DTEND;TZID=America/Sao_Paulo:20220909T210000
DTSTAMP:20260424T130153
CREATED:20220902T204018Z
LAST-MODIFIED:20220902T204019Z
UID:34878-1662751800-1662757200@ipjundiai.org.br
SUMMARY:Ensaio (Coral Adorai)
DESCRIPTION:
URL:https://ipjundiai.org.br/eventos/ensaio-coral-adorai-3/
LOCATION:IP Jundiaí\, Rua Vigário J.J. Rodrigues\, 504\, Jundiaí\, São Paulo\, 13201001\, Brasil
CATEGORIES:Próximos Eventos
ATTACH;FMTTYPE=image/jpeg:https://ipjundiai.org.br/wp-content/uploads/2022/08/coral-adorai-agenda.jpg
END:VEVENT
BEGIN:VEVENT
DTSTART;TZID=America/Sao_Paulo:20220910T190000
DTEND;TZID=America/Sao_Paulo:20220910T203000
DTSTAMP:20260424T130153
CREATED:20220826T225359Z
LAST-MODIFIED:20220826T225400Z
UID:34801-1662836400-1662841800@ipjundiai.org.br
SUMMARY:UFC (UMP)
DESCRIPTION:
URL:https://ipjundiai.org.br/eventos/ufc-ump/
LOCATION:IP Jundiaí\, Rua Vigário J.J. Rodrigues\, 504\, Jundiaí\, São Paulo\, 13201001\, Brasil
CATEGORIES:Próximos Eventos
ATTACH;FMTTYPE=image/jpeg:https://ipjundiai.org.br/wp-content/uploads/2022/05/ump-aviso.jpg
END:VEVENT
BEGIN:VEVENT
DTSTART;TZID=America/Sao_Paulo:20220911T100000
DTEND;TZID=America/Sao_Paulo:20220925T110000
DTSTAMP:20260424T130153
CREATED:20220829T134411Z
LAST-MODIFIED:20220922T134319Z
UID:34834-1662890400-1664103600@ipjundiai.org.br
SUMMARY:Escola Bíblica Dominical
DESCRIPTION:
URL:https://ipjundiai.org.br/eventos/escola-biblica-dominical-5/
LOCATION:IP Jundiaí\, Rua Vigário J.J. Rodrigues\, 504\, Jundiaí\, São Paulo\, 13201001\, Brasil
CATEGORIES:Próximos Eventos
ATTACH;FMTTYPE=image/jpeg:https://ipjundiai.org.br/wp-content/uploads/2022/08/ipj-agenda.jpg
END:VEVENT
BEGIN:VEVENT
DTSTART;TZID=America/Sao_Paulo:20220917T190000
DTEND;TZID=America/Sao_Paulo:20220917T203000
DTSTAMP:20260424T130153
CREATED:20220826T225522Z
LAST-MODIFIED:20220826T225522Z
UID:34803-1663441200-1663446600@ipjundiai.org.br
SUMMARY:Estudo Bíblico Indutivo (UMP)
DESCRIPTION:
URL:https://ipjundiai.org.br/eventos/estudo-biblico-indutivo-ump/
LOCATION:IP Jundiaí\, Rua Vigário J.J. Rodrigues\, 504\, Jundiaí\, São Paulo\, 13201001\, Brasil
CATEGORIES:Próximos Eventos
ATTACH;FMTTYPE=image/jpeg:https://ipjundiai.org.br/wp-content/uploads/2022/05/ump-aviso.jpg
END:VEVENT
BEGIN:VEVENT
DTSTART;VALUE=DATE:20220918
DTEND;VALUE=DATE:20220919
DTSTAMP:20260424T130153
CREATED:20220826T225630Z
LAST-MODIFIED:20220826T225630Z
UID:34805-1663459200-1663545599@ipjundiai.org.br
SUMMARY:Dia da Escola Dominical
DESCRIPTION:
URL:https://ipjundiai.org.br/eventos/dia-da-escola-dominical/
LOCATION:IP Jundiaí\, Rua Vigário J.J. Rodrigues\, 504\, Jundiaí\, São Paulo\, 13201001\, Brasil
CATEGORIES:Próximos Eventos
ATTACH;FMTTYPE=image/jpeg:https://ipjundiai.org.br/wp-content/uploads/2022/05/ipj-aviso.jpg
END:VEVENT
BEGIN:VEVENT
DTSTART;TZID=America/Sao_Paulo:20220920T150000
DTEND;TZID=America/Sao_Paulo:20220920T160000
DTSTAMP:20260424T130153
CREATED:20220916T202613Z
LAST-MODIFIED:20220916T202615Z
UID:34930-1663686000-1663689600@ipjundiai.org.br
SUMMARY:Reunião de Oração
DESCRIPTION:
URL:https://ipjundiai.org.br/eventos/reuniao-de-oracao-30/
LOCATION:IP Jundiaí\, Rua Vigário J.J. Rodrigues\, 504\, Jundiaí\, São Paulo\, 13201001\, Brasil
CATEGORIES:Próximos Eventos
ATTACH;FMTTYPE=image/jpeg:https://ipjundiai.org.br/wp-content/uploads/2022/08/saf-agenda.jpg
END:VEVENT
BEGIN:VEVENT
DTSTART;TZID=America/Sao_Paulo:20220921T210000
DTEND;TZID=America/Sao_Paulo:20220921T220000
DTSTAMP:20260424T130153
CREATED:20220916T202725Z
LAST-MODIFIED:20220916T202726Z
UID:34932-1663794000-1663797600@ipjundiai.org.br
SUMMARY:Reunião de Oração (UMP)
DESCRIPTION:
URL:https://ipjundiai.org.br/eventos/reuniao-de-oracao-ump-6/
LOCATION:Online
CATEGORIES:Próximos Eventos
ATTACH;FMTTYPE=image/jpeg:https://ipjundiai.org.br/wp-content/uploads/2022/08/ump-agenda.jpg
END:VEVENT
BEGIN:VEVENT
DTSTART;TZID=America/Sao_Paulo:20220922T200000
DTEND;TZID=America/Sao_Paulo:20220922T210000
DTSTAMP:20260424T130153
CREATED:20220916T202904Z
LAST-MODIFIED:20220916T202934Z
UID:34934-1663876800-1663880400@ipjundiai.org.br
SUMMARY:Estudo Bíblico
DESCRIPTION:
URL:https://ipjundiai.org.br/eventos/estudo-biblico-47/
LOCATION:IP Jundiaí\, Rua Vigário J.J. Rodrigues\, 504\, Jundiaí\, São Paulo\, 13201001\, Brasil
CATEGORIES:Próximos Eventos
ATTACH;FMTTYPE=image/jpeg:https://ipjundiai.org.br/wp-content/uploads/2022/08/ipj-agenda.jpg
END:VEVENT
BEGIN:VEVENT
DTSTART;TZID=America/Sao_Paulo:20220923T193000
DTEND;TZID=America/Sao_Paulo:20220923T210000
DTSTAMP:20260424T130153
CREATED:20220916T203129Z
LAST-MODIFIED:20220916T203130Z
UID:34936-1663961400-1663966800@ipjundiai.org.br
SUMMARY:Coral Adorai (Ensaio)
DESCRIPTION:
URL:https://ipjundiai.org.br/eventos/coral-adorai-ensaio-39/
LOCATION:IP Jundiaí\, Rua Vigário J.J. Rodrigues\, 504\, Jundiaí\, São Paulo\, 13201001\, Brasil
CATEGORIES:Próximos Eventos
ATTACH;FMTTYPE=image/jpeg:https://ipjundiai.org.br/wp-content/uploads/2022/08/coral-adorai-agenda.jpg
END:VEVENT
BEGIN:VEVENT
DTSTART;TZID=America/Sao_Paulo:20220924T090000
DTEND;TZID=America/Sao_Paulo:20220925T170000
DTSTAMP:20260424T130153
CREATED:20220826T225752Z
LAST-MODIFIED:20220826T225753Z
UID:34807-1664010000-1664125200@ipjundiai.org.br
SUMMARY:Acampamento (UPH)
DESCRIPTION:
URL:https://ipjundiai.org.br/eventos/acampamento-uph-2/
LOCATION:Sítio Salvador\, C894+X3 Serra Negra\, SP\, Serra Negra\, São Paulo\, 13930-000\, Brasil
CATEGORIES:Próximos Eventos
ATTACH;FMTTYPE=image/jpeg:https://ipjundiai.org.br/wp-content/uploads/2022/05/uph-aviso.jpg
END:VEVENT
BEGIN:VEVENT
DTSTART;TZID=America/Sao_Paulo:20220924T180000
DTEND;TZID=America/Sao_Paulo:20220924T193000
DTSTAMP:20260424T130153
CREATED:20220826T225915Z
LAST-MODIFIED:20220826T225915Z
UID:34809-1664042400-1664047800@ipjundiai.org.br
SUMMARY:Grow (UPA)
DESCRIPTION:
URL:https://ipjundiai.org.br/eventos/grow-upa/
LOCATION:IP Jundiaí\, Rua Vigário J.J. Rodrigues\, 504\, Jundiaí\, São Paulo\, 13201001\, Brasil
CATEGORIES:Próximos Eventos
ATTACH;FMTTYPE=image/jpeg:https://ipjundiai.org.br/wp-content/uploads/2022/05/upa-aviso.jpg
END:VEVENT
BEGIN:VEVENT
DTSTART;TZID=America/Sao_Paulo:20220924T190000
DTEND;TZID=America/Sao_Paulo:20220924T203000
DTSTAMP:20260424T130153
CREATED:20220826T230024Z
LAST-MODIFIED:20220826T230025Z
UID:34811-1664046000-1664051400@ipjundiai.org.br
SUMMARY:Estudo Bíblico Indutivo (UMP)
DESCRIPTION:
URL:https://ipjundiai.org.br/eventos/estudo-biblico-indutivo-ump-2/
LOCATION:IP Jundiaí\, Rua Vigário J.J. Rodrigues\, 504\, Jundiaí\, São Paulo\, 13201001\, Brasil
CATEGORIES:Próximos Eventos
ATTACH;FMTTYPE=image/jpeg:https://ipjundiai.org.br/wp-content/uploads/2022/05/ump-aviso.jpg
END:VEVENT
BEGIN:VEVENT
DTSTART;TZID=America/Sao_Paulo:20220925T090000
DTEND;TZID=America/Sao_Paulo:20220925T100000
DTSTAMP:20260424T130153
CREATED:20220829T134307Z
LAST-MODIFIED:20220922T134839Z
UID:34825-1664096400-1664100000@ipjundiai.org.br
SUMMARY:Culto de Adoração
DESCRIPTION:
URL:https://ipjundiai.org.br/eventos/culto-matutino-8/
LOCATION:IP Jundiaí\, Rua Vigário J.J. Rodrigues\, 504\, Jundiaí\, São Paulo\, 13201001\, Brasil
CATEGORIES:Próximos Eventos
ATTACH;FMTTYPE=image/jpeg:https://ipjundiai.org.br/wp-content/uploads/2022/08/ipj-agenda.jpg
END:VEVENT
BEGIN:VEVENT
DTSTART;TZID=America/Sao_Paulo:20220925T190000
DTEND;TZID=America/Sao_Paulo:20220925T203000
DTSTAMP:20260424T130153
CREATED:20220829T134556Z
LAST-MODIFIED:20220922T134240Z
UID:34836-1664132400-1664137800@ipjundiai.org.br
SUMMARY:Culto de Adoração
DESCRIPTION:
URL:https://ipjundiai.org.br/eventos/culto-vespertino/
LOCATION:IP Jundiaí\, Rua Vigário J.J. Rodrigues\, 504\, Jundiaí\, São Paulo\, 13201001\, Brasil
CATEGORIES:Próximos Eventos
ATTACH;FMTTYPE=image/jpeg:https://ipjundiai.org.br/wp-content/uploads/2022/08/ipj-agenda.jpg
END:VEVENT
BEGIN:VEVENT
DTSTART;TZID=America/Sao_Paulo:20220927T150000
DTEND;TZID=America/Sao_Paulo:20220927T160000
DTSTAMP:20260424T130153
CREATED:20220922T165823Z
LAST-MODIFIED:20220922T165824Z
UID:34951-1664290800-1664294400@ipjundiai.org.br
SUMMARY:Reunião de Oração (SAF)
DESCRIPTION:
URL:https://ipjundiai.org.br/eventos/reuniao-de-oracao-saf/
LOCATION:IP Jundiaí\, Rua Vigário J.J. Rodrigues\, 504\, Jundiaí\, São Paulo\, 13201001\, Brasil
CATEGORIES:Próximos Eventos
ATTACH;FMTTYPE=image/jpeg:https://ipjundiai.org.br/wp-content/uploads/2022/08/saf-agenda.jpg
END:VEVENT
BEGIN:VEVENT
DTSTART;TZID=America/Sao_Paulo:20220928T200000
DTEND;TZID=America/Sao_Paulo:20220928T210000
DTSTAMP:20260424T130153
CREATED:20220909T231015Z
LAST-MODIFIED:20220909T231015Z
UID:34902-1664395200-1664398800@ipjundiai.org.br
SUMMARY:Reunião de Oração
DESCRIPTION:
URL:https://ipjundiai.org.br/eventos/reuniao-de-oracao-29/
LOCATION:IP Jundiaí\, Rua Vigário J.J. Rodrigues\, 504\, Jundiaí\, São Paulo\, 13201001\, Brasil
CATEGORIES:Próximos Eventos
ATTACH;FMTTYPE=image/jpeg:https://ipjundiai.org.br/wp-content/uploads/2022/08/uph-agenda.jpg
END:VEVENT
BEGIN:VEVENT
DTSTART;TZID=America/Sao_Paulo:20220928T200000
DTEND;TZID=America/Sao_Paulo:20220928T210000
DTSTAMP:20260424T130153
CREATED:20220922T165919Z
LAST-MODIFIED:20220922T165921Z
UID:34953-1664395200-1664398800@ipjundiai.org.br
SUMMARY:Reunião de Oração (UPH)
DESCRIPTION:
URL:https://ipjundiai.org.br/eventos/reuniao-de-oracao-uph/
LOCATION:IP Jundiaí\, Rua Vigário J.J. Rodrigues\, 504\, Jundiaí\, São Paulo\, 13201001\, Brasil
CATEGORIES:Próximos Eventos
ATTACH;FMTTYPE=image/jpeg:https://ipjundiai.org.br/wp-content/uploads/2022/08/uph-agenda.jpg
END:VEVENT
BEGIN:VEVENT
DTSTART;TZID=America/Sao_Paulo:20220928T210000
DTEND;TZID=America/Sao_Paulo:20220928T220000
DTSTAMP:20260424T130153
CREATED:20220922T170017Z
LAST-MODIFIED:20220922T170018Z
UID:34955-1664398800-1664402400@ipjundiai.org.br
SUMMARY:Reunião de Oração (UMP)
DESCRIPTION:
URL:https://ipjundiai.org.br/eventos/reuniao-de-oracao-ump-7/
LOCATION:Online
CATEGORIES:Próximos Eventos
ATTACH;FMTTYPE=image/jpeg:https://ipjundiai.org.br/wp-content/uploads/2022/08/ump-agenda.jpg
END:VEVENT
BEGIN:VEVENT
DTSTART;TZID=America/Sao_Paulo:20220930T193000
DTEND;TZID=America/Sao_Paulo:20220930T210000
DTSTAMP:20260424T130153
CREATED:20220922T170418Z
LAST-MODIFIED:20220922T170419Z
UID:34959-1664566200-1664571600@ipjundiai.org.br
SUMMARY:Ensaio (Coral)
DESCRIPTION:
URL:https://ipjundiai.org.br/eventos/ensaio-coral-2/
LOCATION:IP Jundiaí\, Rua Vigário J.J. Rodrigues\, 504\, Jundiaí\, São Paulo\, 13201001\, Brasil
CATEGORIES:Próximos Eventos
ATTACH;FMTTYPE=image/jpeg:https://ipjundiai.org.br/wp-content/uploads/2022/08/coral-adorai-agenda.jpg
END:VEVENT
END:VCALENDAR