BEGIN:VCALENDAR
VERSION:2.0
PRODID:-//Igreja Presbiteriana de Jundiaí - ECPv6.15.11//NONSGML v1.0//EN
CALSCALE:GREGORIAN
METHOD:PUBLISH
X-ORIGINAL-URL:https://ipjundiai.org.br
X-WR-CALDESC:Eventos para Igreja Presbiteriana de Jundiaí
REFRESH-INTERVAL;VALUE=DURATION:PT1H
X-Robots-Tag:noindex
X-PUBLISHED-TTL:PT1H
BEGIN:VTIMEZONE
TZID:America/Sao_Paulo
BEGIN:STANDARD
TZOFFSETFROM:-0300
TZOFFSETTO:-0300
TZNAME:-03
DTSTART:20210101T000000
END:STANDARD
END:VTIMEZONE
BEGIN:VEVENT
DTSTART;TZID=America/Sao_Paulo:20220927T150000
DTEND;TZID=America/Sao_Paulo:20220927T160000
DTSTAMP:20260424T113822
CREATED:20220922T165823Z
LAST-MODIFIED:20220922T165824Z
UID:34951-1664290800-1664294400@ipjundiai.org.br
SUMMARY:Reunião de Oração (SAF)
DESCRIPTION:
URL:https://ipjundiai.org.br/eventos/reuniao-de-oracao-saf/
LOCATION:IP Jundiaí\, Rua Vigário J.J. Rodrigues\, 504\, Jundiaí\, São Paulo\, 13201001\, Brasil
CATEGORIES:Próximos Eventos
ATTACH;FMTTYPE=image/jpeg:https://ipjundiai.org.br/wp-content/uploads/2022/08/saf-agenda.jpg
END:VEVENT
BEGIN:VEVENT
DTSTART;TZID=America/Sao_Paulo:20220928T200000
DTEND;TZID=America/Sao_Paulo:20220928T210000
DTSTAMP:20260424T113822
CREATED:20220909T231015Z
LAST-MODIFIED:20220909T231015Z
UID:34902-1664395200-1664398800@ipjundiai.org.br
SUMMARY:Reunião de Oração
DESCRIPTION:
URL:https://ipjundiai.org.br/eventos/reuniao-de-oracao-29/
LOCATION:IP Jundiaí\, Rua Vigário J.J. Rodrigues\, 504\, Jundiaí\, São Paulo\, 13201001\, Brasil
CATEGORIES:Próximos Eventos
ATTACH;FMTTYPE=image/jpeg:https://ipjundiai.org.br/wp-content/uploads/2022/08/uph-agenda.jpg
END:VEVENT
BEGIN:VEVENT
DTSTART;TZID=America/Sao_Paulo:20220928T200000
DTEND;TZID=America/Sao_Paulo:20220928T210000
DTSTAMP:20260424T113822
CREATED:20220922T165919Z
LAST-MODIFIED:20220922T165921Z
UID:34953-1664395200-1664398800@ipjundiai.org.br
SUMMARY:Reunião de Oração (UPH)
DESCRIPTION:
URL:https://ipjundiai.org.br/eventos/reuniao-de-oracao-uph/
LOCATION:IP Jundiaí\, Rua Vigário J.J. Rodrigues\, 504\, Jundiaí\, São Paulo\, 13201001\, Brasil
CATEGORIES:Próximos Eventos
ATTACH;FMTTYPE=image/jpeg:https://ipjundiai.org.br/wp-content/uploads/2022/08/uph-agenda.jpg
END:VEVENT
BEGIN:VEVENT
DTSTART;TZID=America/Sao_Paulo:20220928T210000
DTEND;TZID=America/Sao_Paulo:20220928T220000
DTSTAMP:20260424T113822
CREATED:20220922T170017Z
LAST-MODIFIED:20220922T170018Z
UID:34955-1664398800-1664402400@ipjundiai.org.br
SUMMARY:Reunião de Oração (UMP)
DESCRIPTION:
URL:https://ipjundiai.org.br/eventos/reuniao-de-oracao-ump-7/
LOCATION:Online
CATEGORIES:Próximos Eventos
ATTACH;FMTTYPE=image/jpeg:https://ipjundiai.org.br/wp-content/uploads/2022/08/ump-agenda.jpg
END:VEVENT
BEGIN:VEVENT
DTSTART;TZID=America/Sao_Paulo:20220930T193000
DTEND;TZID=America/Sao_Paulo:20220930T210000
DTSTAMP:20260424T113822
CREATED:20220922T170418Z
LAST-MODIFIED:20220922T170419Z
UID:34959-1664566200-1664571600@ipjundiai.org.br
SUMMARY:Ensaio (Coral)
DESCRIPTION:
URL:https://ipjundiai.org.br/eventos/ensaio-coral-2/
LOCATION:IP Jundiaí\, Rua Vigário J.J. Rodrigues\, 504\, Jundiaí\, São Paulo\, 13201001\, Brasil
CATEGORIES:Próximos Eventos
ATTACH;FMTTYPE=image/jpeg:https://ipjundiai.org.br/wp-content/uploads/2022/08/coral-adorai-agenda.jpg
END:VEVENT
BEGIN:VEVENT
DTSTART;TZID=America/Sao_Paulo:20221001T180000
DTEND;TZID=America/Sao_Paulo:20221001T190000
DTSTAMP:20260424T113822
CREATED:20220909T231239Z
LAST-MODIFIED:20220909T231239Z
UID:34907-1664647200-1664650800@ipjundiai.org.br
SUMMARY:Grow
DESCRIPTION:
URL:https://ipjundiai.org.br/eventos/grow-9/
LOCATION:IP Jundiaí\, Rua Vigário J.J. Rodrigues\, 504\, Jundiaí\, São Paulo\, 13201001\, Brasil
CATEGORIES:Próximos Eventos
ATTACH;FMTTYPE=image/jpeg:https://ipjundiai.org.br/wp-content/uploads/2022/05/upa-aviso.jpg
END:VEVENT
BEGIN:VEVENT
DTSTART;TZID=America/Sao_Paulo:20221001T190000
DTEND;TZID=America/Sao_Paulo:20221001T203000
DTSTAMP:20260424T113822
CREATED:20220909T231116Z
LAST-MODIFIED:20220909T231117Z
UID:34905-1664650800-1664656200@ipjundiai.org.br
SUMMARY:Culto Gratidão Bebês
DESCRIPTION:
URL:https://ipjundiai.org.br/eventos/culto-gratidao-bebes/
LOCATION:IP Jundiaí\, Rua Vigário J.J. Rodrigues\, 504\, Jundiaí\, São Paulo\, 13201001\, Brasil
CATEGORIES:Próximos Eventos
ATTACH;FMTTYPE=image/jpeg:https://ipjundiai.org.br/wp-content/uploads/2022/08/saf-agenda.jpg
END:VEVENT
BEGIN:VEVENT
DTSTART;TZID=America/Sao_Paulo:20221004T150000
DTEND;TZID=America/Sao_Paulo:20221004T160000
DTSTAMP:20260424T113822
CREATED:20220930T151317Z
LAST-MODIFIED:20220930T151318Z
UID:35008-1664895600-1664899200@ipjundiai.org.br
SUMMARY:Reunião de Oração (SAF)
DESCRIPTION:
URL:https://ipjundiai.org.br/eventos/reuniao-de-oracao-saf-2/
LOCATION:IP Jundiaí\, Rua Vigário J.J. Rodrigues\, 504\, Jundiaí\, São Paulo\, 13201001\, Brasil
CATEGORIES:Próximos Eventos
ATTACH;FMTTYPE=image/jpeg:https://ipjundiai.org.br/wp-content/uploads/2022/08/saf-agenda.jpg
END:VEVENT
BEGIN:VEVENT
DTSTART;TZID=America/Sao_Paulo:20221007T200000
DTEND;TZID=America/Sao_Paulo:20221007T220000
DTSTAMP:20260424T113822
CREATED:20220930T151648Z
LAST-MODIFIED:20220930T151648Z
UID:35014-1665172800-1665180000@ipjundiai.org.br
SUMMARY:Reunião (Conselho)
DESCRIPTION:
URL:https://ipjundiai.org.br/eventos/reuniao-conselho-3/
LOCATION:São Paulo
CATEGORIES:Próximos Eventos
ATTACH;FMTTYPE=image/jpeg:https://ipjundiai.org.br/wp-content/uploads/2022/08/ipj-agenda.jpg
END:VEVENT
BEGIN:VEVENT
DTSTART;TZID=America/Sao_Paulo:20221008T180000
DTEND;TZID=America/Sao_Paulo:20221008T193000
DTSTAMP:20260424T113822
CREATED:20220930T151818Z
LAST-MODIFIED:20220930T151819Z
UID:35016-1665252000-1665257400@ipjundiai.org.br
SUMMARY:Aniversario (UPA)
DESCRIPTION:
URL:https://ipjundiai.org.br/eventos/aniversario-upa/
LOCATION:IP Jundiaí\, Rua Vigário J.J. Rodrigues\, 504\, Jundiaí\, São Paulo\, 13201001\, Brasil
CATEGORIES:Próximos Eventos
ATTACH;FMTTYPE=image/jpeg:https://ipjundiai.org.br/wp-content/uploads/2022/04/aviso-upa.jpg
END:VEVENT
BEGIN:VEVENT
DTSTART;TZID=America/Sao_Paulo:20221008T190000
DTEND;TZID=America/Sao_Paulo:20221008T203000
DTSTAMP:20260424T113822
CREATED:20220930T151923Z
LAST-MODIFIED:20220930T151924Z
UID:35018-1665255600-1665261000@ipjundiai.org.br
SUMMARY:Palestra (UMP)
DESCRIPTION:
URL:https://ipjundiai.org.br/eventos/palestra-ump/
LOCATION:São Paulo
CATEGORIES:Próximos Eventos
ATTACH;FMTTYPE=image/jpeg:https://ipjundiai.org.br/wp-content/uploads/2022/08/ump-agenda.jpg
END:VEVENT
BEGIN:VEVENT
DTSTART;TZID=America/Sao_Paulo:20221012T090000
DTEND;TZID=America/Sao_Paulo:20221012T170000
DTSTAMP:20260424T113822
CREATED:20220930T165420Z
LAST-MODIFIED:20220930T165421Z
UID:35020-1665565200-1665594000@ipjundiai.org.br
SUMMARY:Encontro chácara Daniel
DESCRIPTION:
URL:https://ipjundiai.org.br/eventos/encontro-chacara-daniel/
LOCATION:São Paulo
CATEGORIES:Próximos Eventos
ATTACH;FMTTYPE=image/jpeg:https://ipjundiai.org.br/wp-content/uploads/2022/08/uph-agenda.jpg
END:VEVENT
BEGIN:VEVENT
DTSTART;VALUE=DATE:20221014
DTEND;VALUE=DATE:20221116
DTSTAMP:20260424T113822
CREATED:20220930T165553Z
LAST-MODIFIED:20220930T165608Z
UID:35022-1665705600-1668556799@ipjundiai.org.br
SUMMARY:Acampamento PRID
DESCRIPTION:
URL:https://ipjundiai.org.br/eventos/acampamento-prid/
LOCATION:São Paulo
CATEGORIES:Próximos Eventos
ATTACH;FMTTYPE=image/jpeg:https://ipjundiai.org.br/wp-content/uploads/2022/08/uph-agenda.jpg
END:VEVENT
BEGIN:VEVENT
DTSTART;TZID=America/Sao_Paulo:20221015T150000
DTEND;TZID=America/Sao_Paulo:20221015T170000
DTSTAMP:20260424T113822
CREATED:20220930T165809Z
LAST-MODIFIED:20220930T165810Z
UID:35024-1665846000-1665853200@ipjundiai.org.br
SUMMARY:Encontro PRID (UCP)
DESCRIPTION:
URL:https://ipjundiai.org.br/eventos/encontro-prid-ucp/
LOCATION:IP Itú\, R. Dr. Felipe Nagibe Chebel\, Itú\, São Paulo\, 13300-000\, Brasil
CATEGORIES:Próximos Eventos
ATTACH;FMTTYPE=image/jpeg:https://ipjundiai.org.br/wp-content/uploads/2022/06/ucp-criancas.jpg
END:VEVENT
BEGIN:VEVENT
DTSTART;TZID=America/Sao_Paulo:20221015T190000
DTEND;TZID=America/Sao_Paulo:20221015T203000
DTSTAMP:20260424T113822
CREATED:20220930T165921Z
LAST-MODIFIED:20220930T165922Z
UID:35026-1665860400-1665865800@ipjundiai.org.br
SUMMARY:EBI (UMP)
DESCRIPTION:
URL:https://ipjundiai.org.br/eventos/ebi-ump/
LOCATION:IP Jundiaí\, Rua Vigário J.J. Rodrigues\, 504\, Jundiaí\, São Paulo\, 13201001\, Brasil
CATEGORIES:Próximos Eventos
ATTACH;FMTTYPE=image/jpeg:https://ipjundiai.org.br/wp-content/uploads/2022/08/ump-agenda.jpg
END:VEVENT
BEGIN:VEVENT
DTSTART;VALUE=DATE:20221022
DTEND;VALUE=DATE:20221024
DTSTAMP:20260424T113822
CREATED:20220930T170155Z
LAST-MODIFIED:20220930T170156Z
UID:35030-1666396800-1666569599@ipjundiai.org.br
SUMMARY:Acampa PRID (UPA)
DESCRIPTION:
URL:https://ipjundiai.org.br/eventos/acampa-prid-upa/
LOCATION:São Paulo
CATEGORIES:Próximos Eventos
ATTACH;FMTTYPE=image/jpeg:https://ipjundiai.org.br/wp-content/uploads/2022/04/aviso-upa.jpg
END:VEVENT
BEGIN:VEVENT
DTSTART;TZID=America/Sao_Paulo:20221022T150000
DTEND;TZID=America/Sao_Paulo:20221022T170000
DTSTAMP:20260424T113822
CREATED:20220930T170046Z
LAST-MODIFIED:20220930T170047Z
UID:35028-1666450800-1666458000@ipjundiai.org.br
SUMMARY:Plenária e Palestra (SAF)
DESCRIPTION:
URL:https://ipjundiai.org.br/eventos/plenaria-e-palestra-saf/
LOCATION:IP Jundiaí\, Rua Vigário J.J. Rodrigues\, 504\, Jundiaí\, São Paulo\, 13201001\, Brasil
CATEGORIES:Próximos Eventos
ATTACH;FMTTYPE=image/jpeg:https://ipjundiai.org.br/wp-content/uploads/2022/08/saf-agenda.jpg
END:VEVENT
BEGIN:VEVENT
DTSTART;TZID=America/Sao_Paulo:20221025T150000
DTEND;TZID=America/Sao_Paulo:20221025T160000
DTSTAMP:20260424T113822
CREATED:20221015T020603Z
LAST-MODIFIED:20221021T222225Z
UID:35132-1666710000-1666713600@ipjundiai.org.br
SUMMARY:Reunião de Oração (SAF)
DESCRIPTION:
URL:https://ipjundiai.org.br/eventos/reuniao-de-oracao-saf-3/
LOCATION:IP Jundiaí\, Rua Vigário J.J. Rodrigues\, 504\, Jundiaí\, São Paulo\, 13201001\, Brasil
CATEGORIES:Próximos Eventos
ATTACH;FMTTYPE=image/jpeg:https://ipjundiai.org.br/wp-content/uploads/2022/08/saf-agenda.jpg
END:VEVENT
BEGIN:VEVENT
DTSTART;TZID=America/Sao_Paulo:20221026T210000
DTEND;TZID=America/Sao_Paulo:20221026T220000
DTSTAMP:20260424T113822
CREATED:20220930T151420Z
LAST-MODIFIED:20221021T222007Z
UID:35010-1666818000-1666821600@ipjundiai.org.br
SUMMARY:Reunião de Oração (UMP)
DESCRIPTION:
URL:https://ipjundiai.org.br/eventos/reuniao-de-oracao-ump-8/
LOCATION:Online
CATEGORIES:Próximos Eventos
ATTACH;FMTTYPE=image/jpeg:https://ipjundiai.org.br/wp-content/uploads/2022/08/ump-agenda.jpg
END:VEVENT
BEGIN:VEVENT
DTSTART;TZID=America/Sao_Paulo:20221027T200000
DTEND;TZID=America/Sao_Paulo:20221027T210000
DTSTAMP:20260424T113822
CREATED:20220922T170127Z
LAST-MODIFIED:20221021T221851Z
UID:34957-1666900800-1666904400@ipjundiai.org.br
SUMMARY:Estudo Bíblico
DESCRIPTION:
URL:https://ipjundiai.org.br/eventos/estudo-biblico-48/
LOCATION:IP Jundiaí\, Rua Vigário J.J. Rodrigues\, 504\, Jundiaí\, São Paulo\, 13201001\, Brasil
CATEGORIES:Próximos Eventos
ATTACH;FMTTYPE=image/jpeg:https://ipjundiai.org.br/wp-content/uploads/2022/08/ipj-agenda.jpg
END:VEVENT
BEGIN:VEVENT
DTSTART;TZID=America/Sao_Paulo:20221030T090000
DTEND;TZID=America/Sao_Paulo:20221030T100000
DTSTAMP:20260424T113822
CREATED:20221008T022831Z
LAST-MODIFIED:20221029T012108Z
UID:35090-1667120400-1667124000@ipjundiai.org.br
SUMMARY:Culto de Adoração
DESCRIPTION:
URL:https://ipjundiai.org.br/eventos/culto-de-adoracao/
LOCATION:IP Jundiaí\, Rua Vigário J.J. Rodrigues\, 504\, Jundiaí\, São Paulo\, 13201001\, Brasil
CATEGORIES:Próximos Eventos
ATTACH;FMTTYPE=image/jpeg:https://ipjundiai.org.br/wp-content/uploads/2022/08/ipj-agenda.jpg
END:VEVENT
BEGIN:VEVENT
DTSTART;TZID=America/Sao_Paulo:20221031T200000
DTEND;TZID=America/Sao_Paulo:20221031T213000
DTSTAMP:20260424T113822
CREATED:20220930T170300Z
LAST-MODIFIED:20221021T020028Z
UID:35032-1667246400-1667251800@ipjundiai.org.br
SUMMARY:Culto da Reforma
DESCRIPTION:
URL:https://ipjundiai.org.br/eventos/culto-da-reforma-3/
LOCATION:IP Jundiaí\, Rua Vigário J.J. Rodrigues\, 504\, Jundiaí\, São Paulo\, 13201001\, Brasil
CATEGORIES:Próximos Eventos
ATTACH;FMTTYPE=image/jpeg:https://ipjundiai.org.br/wp-content/uploads/2022/08/ipj-agenda.jpg
END:VEVENT
BEGIN:VEVENT
DTSTART;TZID=America/Sao_Paulo:20221102T080000
DTEND;TZID=America/Sao_Paulo:20221102T110000
DTSTAMP:20260424T113822
CREATED:20221029T001422Z
LAST-MODIFIED:20221029T001425Z
UID:35241-1667376000-1667386800@ipjundiai.org.br
SUMMARY:Evangelismo (UPA)
DESCRIPTION:
URL:https://ipjundiai.org.br/eventos/evangelismo-upa/
LOCATION:Cemitério Monte Negro\, Av. Dr. Nelson Vilaça\, s/n\, Jundiaí\, São Paulo\, 13203-625\, Brasil
CATEGORIES:Próximos Eventos
ATTACH;FMTTYPE=image/jpeg:https://ipjundiai.org.br/wp-content/uploads/2022/04/aviso-upa.jpg
END:VEVENT
BEGIN:VEVENT
DTSTART;TZID=America/Sao_Paulo:20221104T200000
DTEND;TZID=America/Sao_Paulo:20221104T220000
DTSTAMP:20260424T113822
CREATED:20221029T011019Z
LAST-MODIFIED:20221029T011020Z
UID:35248-1667592000-1667599200@ipjundiai.org.br
SUMMARY:Reunião (Conselho)
DESCRIPTION:
URL:https://ipjundiai.org.br/eventos/reuniao-conselho-4/
LOCATION:IP Jundiaí\, Rua Vigário J.J. Rodrigues\, 504\, Jundiaí\, São Paulo\, 13201001\, Brasil
CATEGORIES:Próximos Eventos
ATTACH;FMTTYPE=image/jpeg:https://ipjundiai.org.br/wp-content/uploads/2022/08/ipj-agenda.jpg
END:VEVENT
BEGIN:VEVENT
DTSTART;TZID=America/Sao_Paulo:20221105T150000
DTEND;TZID=America/Sao_Paulo:20221105T163000
DTSTAMP:20260424T113822
CREATED:20221029T011202Z
LAST-MODIFIED:20221103T133116Z
UID:35250-1667660400-1667665800@ipjundiai.org.br
SUMMARY:Plenária Eleição (UPH)
DESCRIPTION:
URL:https://ipjundiai.org.br/eventos/plenaria-eleicao-uph/
LOCATION:IP Jundiaí\, Rua Vigário J.J. Rodrigues\, 504\, Jundiaí\, São Paulo\, 13201001\, Brasil
CATEGORIES:Próximos Eventos
ATTACH;FMTTYPE=image/jpeg:https://ipjundiai.org.br/wp-content/uploads/2022/08/uph-agenda.jpg
END:VEVENT
BEGIN:VEVENT
DTSTART;TZID=America/Sao_Paulo:20221105T150000
DTEND;TZID=America/Sao_Paulo:20221105T170000
DTSTAMP:20260424T113822
CREATED:20221029T011308Z
LAST-MODIFIED:20221029T011309Z
UID:35252-1667660400-1667667600@ipjundiai.org.br
SUMMARY:Plenária Eleição (SAF)
DESCRIPTION:
URL:https://ipjundiai.org.br/eventos/plenaria-eleicao-saf/
LOCATION:IP Jundiaí\, Rua Vigário J.J. Rodrigues\, 504\, Jundiaí\, São Paulo\, 13201001\, Brasil
CATEGORIES:Próximos Eventos
ATTACH;FMTTYPE=image/jpeg:https://ipjundiai.org.br/wp-content/uploads/2022/08/saf-agenda.jpg
END:VEVENT
BEGIN:VEVENT
DTSTART;TZID=America/Sao_Paulo:20221105T160000
DTEND;TZID=America/Sao_Paulo:20221105T180000
DTSTAMP:20260424T113822
CREATED:20221029T011620Z
LAST-MODIFIED:20221029T011621Z
UID:35254-1667664000-1667671200@ipjundiai.org.br
SUMMARY:Louvorzão (UPA)
DESCRIPTION:
URL:https://ipjundiai.org.br/eventos/louvorzao-upa/
LOCATION:IP Jundiaí\, Rua Vigário J.J. Rodrigues\, 504\, Jundiaí\, São Paulo\, 13201001\, Brasil
CATEGORIES:Próximos Eventos
ATTACH;FMTTYPE=image/jpeg:https://ipjundiai.org.br/wp-content/uploads/2022/04/aviso-upa.jpg
END:VEVENT
BEGIN:VEVENT
DTSTART;TZID=America/Sao_Paulo:20221105T190000
DTEND;TZID=America/Sao_Paulo:20221105T203000
DTSTAMP:20260424T113822
CREATED:20221029T011803Z
LAST-MODIFIED:20221029T011804Z
UID:35256-1667674800-1667680200@ipjundiai.org.br
SUMMARY:Culto (UMP)
DESCRIPTION:
URL:https://ipjundiai.org.br/eventos/culto-ump-3/
LOCATION:São Paulo
CATEGORIES:Próximos Eventos
ATTACH;FMTTYPE=image/jpeg:https://ipjundiai.org.br/wp-content/uploads/2022/08/ump-agenda.jpg
END:VEVENT
BEGIN:VEVENT
DTSTART;TZID=America/Sao_Paulo:20221112T090000
DTEND;TZID=America/Sao_Paulo:20221112T170000
DTSTAMP:20260424T113822
CREATED:20221105T001402Z
LAST-MODIFIED:20221105T001403Z
UID:35271-1668243600-1668272400@ipjundiai.org.br
SUMMARY:Pic Nic (Infantil)
DESCRIPTION:
URL:https://ipjundiai.org.br/eventos/pic-nic-infantil/
LOCATION:Mundo da Criança\, Rodovia João Cereser\, Pista Sul – Km 64+400 - Pinheirinho\, Jundiaí - SP\, Jundiaí\, São Paulo\, Brasil
CATEGORIES:Próximos Eventos
ATTACH;FMTTYPE=image/jpeg:https://ipjundiai.org.br/wp-content/uploads/2022/06/ucp-criancas.jpg
END:VEVENT
BEGIN:VEVENT
DTSTART;TZID=America/Sao_Paulo:20221112T180000
DTEND;TZID=America/Sao_Paulo:20221112T193000
DTSTAMP:20260424T113822
CREATED:20221105T001526Z
LAST-MODIFIED:20221105T001527Z
UID:35274-1668276000-1668281400@ipjundiai.org.br
SUMMARY:Eleição (UPA)
DESCRIPTION:
URL:https://ipjundiai.org.br/eventos/eleicao-upa/
LOCATION:IP Jundiaí\, Rua Vigário J.J. Rodrigues\, 504\, Jundiaí\, São Paulo\, 13201001\, Brasil
CATEGORIES:Próximos Eventos
ATTACH;FMTTYPE=image/jpeg:https://ipjundiai.org.br/wp-content/uploads/2022/05/upa-aviso.jpg
END:VEVENT
END:VCALENDAR