BEGIN:VCALENDAR
VERSION:2.0
PRODID:-//Igreja Presbiteriana de Jundiaí - ECPv6.15.11//NONSGML v1.0//EN
CALSCALE:GREGORIAN
METHOD:PUBLISH
X-ORIGINAL-URL:https://ipjundiai.org.br
X-WR-CALDESC:Eventos para Igreja Presbiteriana de Jundiaí
REFRESH-INTERVAL;VALUE=DURATION:PT1H
X-Robots-Tag:noindex
X-PUBLISHED-TTL:PT1H
BEGIN:VTIMEZONE
TZID:America/Sao_Paulo
BEGIN:STANDARD
TZOFFSETFROM:-0300
TZOFFSETTO:-0300
TZNAME:-03
DTSTART:20210101T000000
END:STANDARD
END:VTIMEZONE
BEGIN:VEVENT
DTSTART;TZID=America/Sao_Paulo:20221231T220000
DTEND;TZID=America/Sao_Paulo:20221231T233000
DTSTAMP:20260422T200248
CREATED:20221223T192714Z
LAST-MODIFIED:20221223T192715Z
UID:35522-1672524000-1672529400@ipjundiai.org.br
SUMMARY:Culto de Passagem de Ano
DESCRIPTION:
URL:https://ipjundiai.org.br/eventos/culto-de-passagem-de-ano-3/
LOCATION:IP Jundiaí\, Rua Vigário J.J. Rodrigues\, 504\, Jundiaí\, São Paulo\, 13201001\, Brasil
CATEGORIES:Próximos Eventos
ATTACH;FMTTYPE=image/jpeg:https://ipjundiai.org.br/wp-content/uploads/2022/08/ipj-agenda.jpg
END:VEVENT
BEGIN:VEVENT
DTSTART;TZID=America/Sao_Paulo:20230106T200000
DTEND;TZID=America/Sao_Paulo:20230106T210000
DTSTAMP:20260422T200248
CREATED:20221231T031339Z
LAST-MODIFIED:20230104T205506Z
UID:35569-1673035200-1673038800@ipjundiai.org.br
SUMMARY:Semana Mundial Oração (2 a 6/01)
DESCRIPTION:
URL:https://ipjundiai.org.br/eventos/semana-mundial-oracao/
LOCATION:IP Jundiaí\, Rua Vigário J.J. Rodrigues\, 504\, Jundiaí\, São Paulo\, 13201001\, Brasil
CATEGORIES:Próximos Eventos
ATTACH;FMTTYPE=image/jpeg:https://ipjundiai.org.br/wp-content/uploads/2022/08/ipj-agenda.jpg
END:VEVENT
BEGIN:VEVENT
DTSTART;TZID=America/Sao_Paulo:20230129T100000
DTEND;TZID=America/Sao_Paulo:20230129T110000
DTSTAMP:20260422T200248
CREATED:20221008T023028Z
LAST-MODIFIED:20230124T105139Z
UID:35094-1674986400-1674990000@ipjundiai.org.br
SUMMARY:Escola Bíblica Dominical
DESCRIPTION:
URL:https://ipjundiai.org.br/eventos/escola-biblica-dominical-6/
LOCATION:IP Jundiaí\, Rua Vigário J.J. Rodrigues\, 504\, Jundiaí\, São Paulo\, 13201001\, Brasil
CATEGORIES:Próximos Eventos
ATTACH;FMTTYPE=image/jpeg:https://ipjundiai.org.br/wp-content/uploads/2022/08/ipj-agenda.jpg
END:VEVENT
BEGIN:VEVENT
DTSTART;TZID=America/Sao_Paulo:20230204T150000
DTEND;TZID=America/Sao_Paulo:20230204T170000
DTSTAMP:20260422T200248
CREATED:20230127T231600Z
LAST-MODIFIED:20230203T181308Z
UID:35727-1675522800-1675530000@ipjundiai.org.br
SUMMARY:PicNic (Infantil)
DESCRIPTION:
URL:https://ipjundiai.org.br/eventos/picnic-infantil/
LOCATION:IP Jundiaí\, Rua Vigário J.J. Rodrigues\, 504\, Jundiaí\, São Paulo\, 13201001\, Brasil
CATEGORIES:Próximos Eventos
ATTACH;FMTTYPE=image/jpeg:https://ipjundiai.org.br/wp-content/uploads/2022/08/infantil-agenda.jpg
END:VEVENT
BEGIN:VEVENT
DTSTART;VALUE=DATE:20230205
DTEND;VALUE=DATE:20230206
DTSTAMP:20260422T200248
CREATED:20230127T231743Z
LAST-MODIFIED:20230127T231744Z
UID:35729-1675555200-1675641599@ipjundiai.org.br
SUMMARY:Dia do Homem Presbiteriano
DESCRIPTION:
URL:https://ipjundiai.org.br/eventos/dia-do-homem-presbiteriano/
LOCATION:IP Jundiaí\, Rua Vigário J.J. Rodrigues\, 504\, Jundiaí\, São Paulo\, 13201001\, Brasil
CATEGORIES:Próximos Eventos
ATTACH;FMTTYPE=image/jpeg:https://ipjundiai.org.br/wp-content/uploads/2022/08/ipj-agenda.jpg
END:VEVENT
BEGIN:VEVENT
DTSTART;VALUE=DATE:20230212
DTEND;VALUE=DATE:20230213
DTSTAMP:20260422T200248
CREATED:20230203T181033Z
LAST-MODIFIED:20230203T181034Z
UID:35764-1676160000-1676246399@ipjundiai.org.br
SUMMARY:Dia da Mulher Presbiteriana
DESCRIPTION:
URL:https://ipjundiai.org.br/eventos/dia-da-mulher-presbiteriana-3/
LOCATION:IP Jundiaí\, Rua Vigário J.J. Rodrigues\, 504\, Jundiaí\, São Paulo\, 13201001\, Brasil
CATEGORIES:Próximos Eventos
ATTACH;FMTTYPE=image/jpeg:https://ipjundiai.org.br/wp-content/uploads/2022/08/ipj-agenda.jpg
END:VEVENT
BEGIN:VEVENT
DTSTART;TZID=America/Sao_Paulo:20230304T150000
DTEND;TZID=America/Sao_Paulo:20230304T170000
DTSTAMP:20260422T200248
CREATED:20230225T024253Z
LAST-MODIFIED:20230225T024254Z
UID:35817-1677942000-1677949200@ipjundiai.org.br
SUMMARY:Tarde de jogos (UCP)
DESCRIPTION:
URL:https://ipjundiai.org.br/eventos/tarde-de-jogos-ucp/
LOCATION:IP Jundiaí\, Rua Vigário J.J. Rodrigues\, 504\, Jundiaí\, São Paulo\, 13201001\, Brasil
CATEGORIES:Próximos Eventos
ATTACH;FMTTYPE=image/jpeg:https://ipjundiai.org.br/wp-content/uploads/2022/06/ucp-criancas.jpg
END:VEVENT
BEGIN:VEVENT
DTSTART;TZID=America/Sao_Paulo:20230304T190000
DTEND;TZID=America/Sao_Paulo:20230304T203000
DTSTAMP:20260422T200248
CREATED:20230225T024355Z
LAST-MODIFIED:20230225T024355Z
UID:35819-1677956400-1677961800@ipjundiai.org.br
SUMMARY:Grow (UPA)
DESCRIPTION:
URL:https://ipjundiai.org.br/eventos/grow-upa-2/
LOCATION:IP Jundiaí\, Rua Vigário J.J. Rodrigues\, 504\, Jundiaí\, São Paulo\, 13201001\, Brasil
CATEGORIES:Próximos Eventos
ATTACH;FMTTYPE=image/jpeg:https://ipjundiai.org.br/wp-content/uploads/2022/05/upa-aviso.jpg
END:VEVENT
BEGIN:VEVENT
DTSTART;TZID=America/Sao_Paulo:20230304T190000
DTEND;TZID=America/Sao_Paulo:20230304T203000
DTSTAMP:20260422T200248
CREATED:20230225T024451Z
LAST-MODIFIED:20230225T024451Z
UID:35821-1677956400-1677961800@ipjundiai.org.br
SUMMARY:Culto (UMP)
DESCRIPTION:
URL:https://ipjundiai.org.br/eventos/culto-ump-5/
LOCATION:IP Jundiaí\, Rua Vigário J.J. Rodrigues\, 504\, Jundiaí\, São Paulo\, 13201001\, Brasil
CATEGORIES:Próximos Eventos
ATTACH;FMTTYPE=image/jpeg:https://ipjundiai.org.br/wp-content/uploads/2022/08/ump-agenda.jpg
END:VEVENT
BEGIN:VEVENT
DTSTART;VALUE=DATE:20230310
DTEND;VALUE=DATE:20230311
DTSTAMP:20260422T200248
CREATED:20230225T024613Z
LAST-MODIFIED:20230225T024613Z
UID:35823-1678406400-1678492799@ipjundiai.org.br
SUMMARY:Primeiro Culto Protestante no Brasil
DESCRIPTION:
URL:https://ipjundiai.org.br/eventos/primeiro-culto-protestante-no-brasil/
LOCATION:IP Jundiaí\, Rua Vigário J.J. Rodrigues\, 504\, Jundiaí\, São Paulo\, 13201001\, Brasil
CATEGORIES:Próximos Eventos
ATTACH;FMTTYPE=image/jpeg:https://ipjundiai.org.br/wp-content/uploads/2022/08/ipj-agenda.jpg
END:VEVENT
BEGIN:VEVENT
DTSTART;VALUE=DATE:20230311
DTEND;VALUE=DATE:20230312
DTSTAMP:20260422T200248
CREATED:20230225T024655Z
LAST-MODIFIED:20230225T024655Z
UID:35826-1678492800-1678579199@ipjundiai.org.br
SUMMARY:Dia da Educação Cristã
DESCRIPTION:
URL:https://ipjundiai.org.br/eventos/dia-da-educacao-crista/
LOCATION:IP Jundiaí\, Rua Vigário J.J. Rodrigues\, 504\, Jundiaí\, São Paulo\, 13201001\, Brasil
CATEGORIES:Próximos Eventos
ATTACH;FMTTYPE=image/jpeg:https://ipjundiai.org.br/wp-content/uploads/2022/08/ipj-agenda.jpg
END:VEVENT
BEGIN:VEVENT
DTSTART;TZID=America/Sao_Paulo:20230311T190000
DTEND;TZID=America/Sao_Paulo:20230311T203000
DTSTAMP:20260422T200248
CREATED:20230225T024756Z
LAST-MODIFIED:20230225T024756Z
UID:35828-1678561200-1678566600@ipjundiai.org.br
SUMMARY:Grow (UPA)
DESCRIPTION:
URL:https://ipjundiai.org.br/eventos/grow-upa-3/
LOCATION:IP Jundiaí\, Rua Vigário J.J. Rodrigues\, 504\, Jundiaí\, São Paulo\, 13201001\, Brasil
CATEGORIES:Próximos Eventos
ATTACH;FMTTYPE=image/jpeg:https://ipjundiai.org.br/wp-content/uploads/2022/05/upa-aviso.jpg
END:VEVENT
BEGIN:VEVENT
DTSTART;TZID=America/Sao_Paulo:20230311T190000
DTEND;TZID=America/Sao_Paulo:20230311T203000
DTSTAMP:20260422T200248
CREATED:20230225T024855Z
LAST-MODIFIED:20230225T024855Z
UID:35830-1678561200-1678566600@ipjundiai.org.br
SUMMARY:Palestra (UMP)
DESCRIPTION:
URL:https://ipjundiai.org.br/eventos/palestra-ump-2/
LOCATION:IP Jundiaí\, Rua Vigário J.J. Rodrigues\, 504\, Jundiaí\, São Paulo\, 13201001\, Brasil
CATEGORIES:Próximos Eventos
ATTACH;FMTTYPE=image/jpeg:https://ipjundiai.org.br/wp-content/uploads/2022/08/ump-agenda.jpg
END:VEVENT
BEGIN:VEVENT
DTSTART;TZID=America/Sao_Paulo:20230312T190000
DTEND;TZID=America/Sao_Paulo:20230312T203000
DTSTAMP:20260422T200248
CREATED:20230225T025011Z
LAST-MODIFIED:20230225T025011Z
UID:35832-1678647600-1678653000@ipjundiai.org.br
SUMMARY:Culto de Gratidão 1 ano (SAF)
DESCRIPTION:
URL:https://ipjundiai.org.br/eventos/culto-de-gratidao-1-ano-saf/
LOCATION:IP Jundiaí\, Rua Vigário J.J. Rodrigues\, 504\, Jundiaí\, São Paulo\, 13201001\, Brasil
CATEGORIES:Próximos Eventos
ATTACH;FMTTYPE=image/jpeg:https://ipjundiai.org.br/wp-content/uploads/2022/08/saf-agenda.jpg
END:VEVENT
BEGIN:VEVENT
DTSTART;TZID=America/Sao_Paulo:20230318T090000
DTEND;TZID=America/Sao_Paulo:20230318T103000
DTSTAMP:20260422T200248
CREATED:20230225T025122Z
LAST-MODIFIED:20230225T025122Z
UID:35834-1679130000-1679135400@ipjundiai.org.br
SUMMARY:Palestra (UPH/UMP)
DESCRIPTION:
URL:https://ipjundiai.org.br/eventos/palestra-uph-ump/
LOCATION:IP Jundiaí\, Rua Vigário J.J. Rodrigues\, 504\, Jundiaí\, São Paulo\, 13201001\, Brasil
CATEGORIES:Próximos Eventos
ATTACH;FMTTYPE=image/jpeg:https://ipjundiai.org.br/wp-content/uploads/2022/08/uph-agenda.jpg
END:VEVENT
BEGIN:VEVENT
DTSTART;TZID=America/Sao_Paulo:20230318T183000
DTEND;TZID=America/Sao_Paulo:20230318T200000
DTSTAMP:20260422T200248
CREATED:20230225T025214Z
LAST-MODIFIED:20230225T025215Z
UID:35836-1679164200-1679169600@ipjundiai.org.br
SUMMARY:Estudo Bíblico Indutivo (UMP)
DESCRIPTION:
URL:https://ipjundiai.org.br/eventos/estudo-biblico-indutivo-ump-4/
LOCATION:IP Jundiaí\, Rua Vigário J.J. Rodrigues\, 504\, Jundiaí\, São Paulo\, 13201001\, Brasil
CATEGORIES:Próximos Eventos
ATTACH;FMTTYPE=image/jpeg:https://ipjundiai.org.br/wp-content/uploads/2022/08/ump-agenda.jpg
END:VEVENT
BEGIN:VEVENT
DTSTART;TZID=America/Sao_Paulo:20230318T183000
DTEND;TZID=America/Sao_Paulo:20230318T200000
DTSTAMP:20260422T200248
CREATED:20230225T025322Z
LAST-MODIFIED:20230225T025322Z
UID:35838-1679164200-1679169600@ipjundiai.org.br
SUMMARY:Encontro (UPA/PRID)
DESCRIPTION:
URL:https://ipjundiai.org.br/eventos/encontro-upa-prid/
LOCATION:IP Indaiatuba\, R. Tuiuti\, 253 - Centro\, Indaiatuba\, SP\, 13339-010\, Brasil
CATEGORIES:Próximos Eventos
ATTACH;FMTTYPE=image/jpeg:https://ipjundiai.org.br/wp-content/uploads/2022/05/upa-aviso.jpg
END:VEVENT
BEGIN:VEVENT
DTSTART;TZID=America/Sao_Paulo:20230325T090000
DTEND;TZID=America/Sao_Paulo:20230325T120000
DTSTAMP:20260422T200248
CREATED:20230225T025436Z
LAST-MODIFIED:20230225T025436Z
UID:35841-1679734800-1679745600@ipjundiai.org.br
SUMMARY:Grow e piquenique (UPA)
DESCRIPTION:
URL:https://ipjundiai.org.br/eventos/grow-e-piquenique-upa/
LOCATION:IP Jundiaí\, Rua Vigário J.J. Rodrigues\, 504\, Jundiaí\, São Paulo\, 13201001\, Brasil
CATEGORIES:Próximos Eventos
ATTACH;FMTTYPE=image/jpeg:https://ipjundiai.org.br/wp-content/uploads/2022/05/upa-aviso.jpg
END:VEVENT
BEGIN:VEVENT
DTSTART;VALUE=DATE:20230327
DTEND;VALUE=DATE:20230328
DTSTAMP:20260422T200248
CREATED:20230225T025529Z
LAST-MODIFIED:20230225T025542Z
UID:35843-1679875200-1679961599@ipjundiai.org.br
SUMMARY:Dia da Casa Editora Presbiteriana
DESCRIPTION:
URL:https://ipjundiai.org.br/eventos/dia-da-casa-editora-presbiteriana/
LOCATION:IP Jundiaí\, Rua Vigário J.J. Rodrigues\, 504\, Jundiaí\, São Paulo\, 13201001\, Brasil
CATEGORIES:Próximos Eventos
ATTACH;FMTTYPE=image/jpeg:https://ipjundiai.org.br/wp-content/uploads/2022/08/ipj-agenda.jpg
END:VEVENT
BEGIN:VEVENT
DTSTART;TZID=America/Sao_Paulo:20230401T190000
DTEND;TZID=America/Sao_Paulo:20230401T200000
DTSTAMP:20260422T200248
CREATED:20230325T011135Z
LAST-MODIFIED:20230325T011306Z
UID:35977-1680375600-1680379200@ipjundiai.org.br
SUMMARY:Grow (UPA)
DESCRIPTION:
URL:https://ipjundiai.org.br/eventos/grow-upa-4/
LOCATION:IP Jundiaí\, Rua Vigário J.J. Rodrigues\, 504\, Jundiaí\, São Paulo\, 13201001\, Brasil
CATEGORIES:Próximos Eventos
ATTACH;FMTTYPE=image/jpeg:https://ipjundiai.org.br/wp-content/uploads/2022/05/upa-aviso.jpg
END:VEVENT
BEGIN:VEVENT
DTSTART;TZID=America/Sao_Paulo:20230401T190000
DTEND;TZID=America/Sao_Paulo:20230401T203000
DTSTAMP:20260422T200248
CREATED:20230325T011232Z
LAST-MODIFIED:20230325T011233Z
UID:35980-1680375600-1680381000@ipjundiai.org.br
SUMMARY:Culto (UMP)
DESCRIPTION:
URL:https://ipjundiai.org.br/eventos/culto-ump-6/
LOCATION:IP Jundiaí\, Rua Vigário J.J. Rodrigues\, 504\, Jundiaí\, São Paulo\, 13201001\, Brasil
CATEGORIES:Próximos Eventos
ATTACH;FMTTYPE=image/jpeg:https://ipjundiai.org.br/wp-content/uploads/2022/08/ump-agenda.jpg
END:VEVENT
BEGIN:VEVENT
DTSTART;TZID=America/Sao_Paulo:20230408T190000
DTEND;TZID=America/Sao_Paulo:20230408T203000
DTSTAMP:20260422T200248
CREATED:20230401T021053Z
LAST-MODIFIED:20230401T021054Z
UID:36036-1680980400-1680985800@ipjundiai.org.br
SUMMARY:Grow (UPA)
DESCRIPTION:
URL:https://ipjundiai.org.br/eventos/grow-upa-5/
LOCATION:IP Jundiaí\, Rua Vigário J.J. Rodrigues\, 504\, Jundiaí\, São Paulo\, 13201001\, Brasil
CATEGORIES:Próximos Eventos
ATTACH;FMTTYPE=image/jpeg:https://ipjundiai.org.br/wp-content/uploads/2022/05/upa-aviso.jpg
END:VEVENT
BEGIN:VEVENT
DTSTART;TZID=America/Sao_Paulo:20230408T190000
DTEND;TZID=America/Sao_Paulo:20230408T203000
DTSTAMP:20260422T200248
CREATED:20230401T021238Z
LAST-MODIFIED:20230401T021239Z
UID:36039-1680980400-1680985800@ipjundiai.org.br
SUMMARY:Palestra (UMP)
DESCRIPTION:
URL:https://ipjundiai.org.br/eventos/palestra-ump-3/
LOCATION:IP Jundiaí\, Rua Vigário J.J. Rodrigues\, 504\, Jundiaí\, São Paulo\, 13201001\, Brasil
CATEGORIES:Próximos Eventos
ATTACH;FMTTYPE=image/jpeg:https://ipjundiai.org.br/wp-content/uploads/2022/08/ump-agenda.jpg
END:VEVENT
BEGIN:VEVENT
DTSTART;TZID=America/Sao_Paulo:20230409T070000
DTEND;TZID=America/Sao_Paulo:20230409T083000
DTSTAMP:20260422T200248
CREATED:20230401T021525Z
LAST-MODIFIED:20230401T021526Z
UID:36041-1681023600-1681029000@ipjundiai.org.br
SUMMARY:Culto da Ressureição (Páscoa)
DESCRIPTION:
URL:https://ipjundiai.org.br/eventos/culto-da-ressureicao-pascoa/
LOCATION:IP Jundiaí\, Rua Vigário J.J. Rodrigues\, 504\, Jundiaí\, São Paulo\, 13201001\, Brasil
CATEGORIES:Próximos Eventos
ATTACH;FMTTYPE=image/jpeg:https://ipjundiai.org.br/wp-content/uploads/2022/08/ipj-agenda.jpg
END:VEVENT
BEGIN:VEVENT
DTSTART;TZID=America/Sao_Paulo:20230415T090000
DTEND;TZID=America/Sao_Paulo:20230415T170000
DTSTAMP:20260422T200248
CREATED:20230401T021640Z
LAST-MODIFIED:20230401T021642Z
UID:36043-1681549200-1681578000@ipjundiai.org.br
SUMMARY:Encontro (UPH/UMP)
DESCRIPTION:
URL:https://ipjundiai.org.br/eventos/encontro-uph-ump/
LOCATION:Casa do Daniel
CATEGORIES:Próximos Eventos
ATTACH;FMTTYPE=image/jpeg:https://ipjundiai.org.br/wp-content/uploads/2022/08/uph-agenda.jpg
END:VEVENT
BEGIN:VEVENT
DTSTART;TZID=America/Sao_Paulo:20230415T150000
DTEND;TZID=America/Sao_Paulo:20230415T170000
DTSTAMP:20260422T200248
CREATED:20230401T021742Z
LAST-MODIFIED:20230401T021743Z
UID:36046-1681570800-1681578000@ipjundiai.org.br
SUMMARY:Plenária e oficina de artes (SAF)
DESCRIPTION:
URL:https://ipjundiai.org.br/eventos/plenaria-e-oficina-de-artes-saf/
LOCATION:IP Jundiaí\, Rua Vigário J.J. Rodrigues\, 504\, Jundiaí\, São Paulo\, 13201001\, Brasil
CATEGORIES:Próximos Eventos
ATTACH;FMTTYPE=image/jpeg:https://ipjundiai.org.br/wp-content/uploads/2022/08/saf-agenda.jpg
END:VEVENT
BEGIN:VEVENT
DTSTART;TZID=America/Sao_Paulo:20230415T150000
DTEND;TZID=America/Sao_Paulo:20230415T170000
DTSTAMP:20260422T200248
CREATED:20230401T021845Z
LAST-MODIFIED:20230401T021846Z
UID:36048-1681570800-1681578000@ipjundiai.org.br
SUMMARY:Reunião e EBI (UMP)
DESCRIPTION:
URL:https://ipjundiai.org.br/eventos/reuniao-e-ebi-ump/
LOCATION:São Paulo
CATEGORIES:Próximos Eventos
ATTACH;FMTTYPE=image/jpeg:https://ipjundiai.org.br/wp-content/uploads/2022/08/ump-agenda.jpg
END:VEVENT
BEGIN:VEVENT
DTSTART;TZID=America/Sao_Paulo:20230415T190000
DTEND;TZID=America/Sao_Paulo:20230415T203000
DTSTAMP:20260422T200248
CREATED:20230401T021940Z
LAST-MODIFIED:20230401T021940Z
UID:36050-1681585200-1681590600@ipjundiai.org.br
SUMMARY:Gincana Bíblica (UPA)
DESCRIPTION:
URL:https://ipjundiai.org.br/eventos/gincana-biblica-upa/
LOCATION:IP Jundiaí\, Rua Vigário J.J. Rodrigues\, 504\, Jundiaí\, São Paulo\, 13201001\, Brasil
CATEGORIES:Próximos Eventos
ATTACH;FMTTYPE=image/jpeg:https://ipjundiai.org.br/wp-content/uploads/2022/05/upa-aviso.jpg
END:VEVENT
BEGIN:VEVENT
DTSTART;VALUE=DATE:20230422
DTEND;VALUE=DATE:20230423
DTSTAMP:20260422T200248
CREATED:20230401T022040Z
LAST-MODIFIED:20230420T194741Z
UID:36052-1682121600-1682207999@ipjundiai.org.br
SUMMARY:Evangelismo Federação (UPH)
DESCRIPTION:
URL:https://ipjundiai.org.br/eventos/evangelismo-federacao-uph/
LOCATION:São Paulo
CATEGORIES:Próximos Eventos
ATTACH;FMTTYPE=image/jpeg:https://ipjundiai.org.br/wp-content/uploads/2022/08/uph-agenda.jpg
END:VEVENT
BEGIN:VEVENT
DTSTART;TZID=America/Sao_Paulo:20230422T190000
DTEND;TZID=America/Sao_Paulo:20230422T203000
DTSTAMP:20260422T200248
CREATED:20230401T022142Z
LAST-MODIFIED:20230401T022142Z
UID:36054-1682190000-1682195400@ipjundiai.org.br
SUMMARY:Grow (UPA)
DESCRIPTION:
URL:https://ipjundiai.org.br/eventos/grow-upa-6/
LOCATION:IP Jundiaí\, Rua Vigário J.J. Rodrigues\, 504\, Jundiaí\, São Paulo\, 13201001\, Brasil
CATEGORIES:Próximos Eventos
ATTACH;FMTTYPE=image/jpeg:https://ipjundiai.org.br/wp-content/uploads/2022/05/upa-aviso.jpg
END:VEVENT
END:VCALENDAR