BEGIN:VCALENDAR
VERSION:2.0
PRODID:-//Igreja Presbiteriana de Jundiaí - ECPv6.15.11//NONSGML v1.0//EN
CALSCALE:GREGORIAN
METHOD:PUBLISH
X-WR-CALNAME:Igreja Presbiteriana de Jundiaí
X-ORIGINAL-URL:https://ipjundiai.org.br
X-WR-CALDESC:Eventos para Igreja Presbiteriana de Jundiaí
REFRESH-INTERVAL;VALUE=DURATION:PT1H
X-Robots-Tag:noindex
X-PUBLISHED-TTL:PT1H
BEGIN:VTIMEZONE
TZID:America/Sao_Paulo
BEGIN:STANDARD
TZOFFSETFROM:-0300
TZOFFSETTO:-0300
TZNAME:-03
DTSTART:20210101T000000
END:STANDARD
END:VTIMEZONE
BEGIN:VEVENT
DTSTART;TZID=America/Sao_Paulo:20220208T193000
DTEND;TZID=America/Sao_Paulo:20220208T210000
DTSTAMP:20260424T183932
CREATED:20220207T204716Z
LAST-MODIFIED:20220207T204716Z
UID:33235-1644348600-1644354000@ipjundiai.org.br
SUMMARY:Coral Adorai - Ensaio
DESCRIPTION:
URL:https://ipjundiai.org.br/eventos/coral-adorai-ensaio-27/
LOCATION:IP Jundiaí\, Rua Vigário J.J. Rodrigues\, 504\, Jundiaí\, São Paulo\, 13201001\, Brasil
CATEGORIES:Próximos Eventos
ATTACH;FMTTYPE=image/png:https://ipjundiai.org.br/wp-content/uploads/2019/08/ensaio-do-coral.png
END:VEVENT
BEGIN:VEVENT
DTSTART;TZID=America/Sao_Paulo:20220212T083000
DTEND;TZID=America/Sao_Paulo:20220212T110000
DTSTAMP:20260424T183932
CREATED:20220207T201515Z
LAST-MODIFIED:20220207T201516Z
UID:33233-1644654600-1644663600@ipjundiai.org.br
SUMMARY:UPH - Plenária: Programações 2022
DESCRIPTION:
URL:https://ipjundiai.org.br/eventos/uph-plenaria-programacoes-2022/
LOCATION:IP Jundiaí\, Rua Vigário J.J. Rodrigues\, 504\, Jundiaí\, São Paulo\, 13201001\, Brasil
CATEGORIES:Próximos Eventos
ATTACH;FMTTYPE=image/jpeg:https://ipjundiai.org.br/wp-content/uploads/2017/11/UPH_905.jpg
END:VEVENT
BEGIN:VEVENT
DTSTART;TZID=America/Sao_Paulo:20220213T100000
DTEND;TZID=America/Sao_Paulo:20220213T170000
DTSTAMP:20260424T183932
CREATED:20220207T201153Z
LAST-MODIFIED:20220207T201153Z
UID:33231-1644746400-1644771600@ipjundiai.org.br
SUMMARY:Assembleia Geral Ordinária - Movimento Eclesiástico e Financeiro
DESCRIPTION:
URL:https://ipjundiai.org.br/eventos/assembleia-geral-ordinaria-movimento-eclesiastico-e-financeiro/
LOCATION:IP Jundiaí\, Rua Vigário J.J. Rodrigues\, 504\, Jundiaí\, São Paulo\, 13201001\, Brasil
CATEGORIES:Próximos Eventos
END:VEVENT
BEGIN:VEVENT
DTSTART;TZID=America/Sao_Paulo:20220217T200000
DTEND;TZID=America/Sao_Paulo:20220217T210000
DTSTAMP:20260424T183932
CREATED:20210809T144015Z
LAST-MODIFIED:20220217T224424Z
UID:32741-1645128000-1645131600@ipjundiai.org.br
SUMMARY:Estudo Bíblico
DESCRIPTION:
URL:https://ipjundiai.org.br/eventos/estudo-biblico-33/
LOCATION:IP Jundiaí\, Rua Vigário J.J. Rodrigues\, 504\, Jundiaí\, São Paulo\, 13201001\, Brasil
CATEGORIES:Próximos Eventos
END:VEVENT
BEGIN:VEVENT
DTSTART;TZID=America/Sao_Paulo:20220219T190000
DTEND;TZID=America/Sao_Paulo:20220219T200000
DTSTAMP:20260424T183932
CREATED:20210203T040050Z
LAST-MODIFIED:20220217T224705Z
UID:32102-1645297200-1645300800@ipjundiai.org.br
SUMMARY:UPA - Encontro
DESCRIPTION:
URL:https://ipjundiai.org.br/eventos/upa/
LOCATION:IP Jundiaí\, Rua Vigário J.J. Rodrigues\, 504\, Jundiaí\, São Paulo\, 13201001\, Brasil
CATEGORIES:Próximos Eventos
ATTACH;FMTTYPE=image/png:https://ipjundiai.org.br/wp-content/uploads/2017/08/20150723080539_logo_upa_oficial.png
END:VEVENT
BEGIN:VEVENT
DTSTART;TZID=America/Sao_Paulo:20220219T190000
DTEND;TZID=America/Sao_Paulo:20220219T210000
DTSTAMP:20260424T183932
CREATED:20220207T204957Z
LAST-MODIFIED:20220217T224549Z
UID:33238-1645297200-1645304400@ipjundiai.org.br
SUMMARY:UMP - Plenária
DESCRIPTION:
URL:https://ipjundiai.org.br/eventos/ump-jovens/
LOCATION:IP Jundiaí\, Rua Vigário J.J. Rodrigues\, 504\, Jundiaí\, São Paulo\, 13201001\, Brasil
CATEGORIES:Próximos Eventos
ATTACH;FMTTYPE=image/png:https://ipjundiai.org.br/wp-content/uploads/2018/05/umpIPJ-branco-1.png
END:VEVENT
BEGIN:VEVENT
DTSTART;TZID=America/Sao_Paulo:20220220T090000
DTEND;TZID=America/Sao_Paulo:20220220T100000
DTSTAMP:20260424T183932
CREATED:20210809T143838Z
LAST-MODIFIED:20220217T224342Z
UID:32737-1645347600-1645351200@ipjundiai.org.br
SUMMARY:Culto Matutino
DESCRIPTION:
URL:https://ipjundiai.org.br/eventos/culto-matutino-2/
LOCATION:IP Jundiaí\, Rua Vigário J.J. Rodrigues\, 504\, Jundiaí\, São Paulo\, 13201001\, Brasil
CATEGORIES:Próximos Eventos
END:VEVENT
BEGIN:VEVENT
DTSTART;TZID=America/Sao_Paulo:20220224T200000
DTEND;TZID=America/Sao_Paulo:20220224T210000
DTSTAMP:20260424T183932
CREATED:20220218T235032Z
LAST-MODIFIED:20220218T235033Z
UID:33263-1645732800-1645736400@ipjundiai.org.br
SUMMARY:Estudo Bíblico
DESCRIPTION:
URL:https://ipjundiai.org.br/eventos/estudo-biblico-34/
LOCATION:IP Jundiaí\, Rua Vigário J.J. Rodrigues\, 504\, Jundiaí\, São Paulo\, 13201001\, Brasil
CATEGORIES:Próximos Eventos
ATTACH;FMTTYPE=image/png:https://ipjundiai.org.br/wp-content/uploads/2019/08/estudo-bíblico.png
END:VEVENT
BEGIN:VEVENT
DTSTART;TZID=America/Sao_Paulo:20220226T190000
DTEND;TZID=America/Sao_Paulo:20220226T203000
DTSTAMP:20260424T183932
CREATED:20220218T235132Z
LAST-MODIFIED:20220218T235133Z
UID:33266-1645902000-1645907400@ipjundiai.org.br
SUMMARY:UPA - Grow
DESCRIPTION:
URL:https://ipjundiai.org.br/eventos/upa-grow-4/
LOCATION:IP Jundiaí\, Rua Vigário J.J. Rodrigues\, 504\, Jundiaí\, São Paulo\, 13201001\, Brasil
CATEGORIES:Próximos Eventos
ATTACH;FMTTYPE=image/png:https://ipjundiai.org.br/wp-content/uploads/2017/08/20150723080539_logo_upa_oficial.png
END:VEVENT
BEGIN:VEVENT
DTSTART;TZID=America/Sao_Paulo:20220226T190000
DTEND;TZID=America/Sao_Paulo:20220226T203000
DTSTAMP:20260424T183932
CREATED:20220218T235238Z
LAST-MODIFIED:20220218T235238Z
UID:33268-1645902000-1645907400@ipjundiai.org.br
SUMMARY:UMP - Estudo Bíblico Indutivo
DESCRIPTION:
URL:https://ipjundiai.org.br/eventos/ump-estudo-biblico-indutivo-2/
LOCATION:IP Jundiaí\, Rua Vigário J.J. Rodrigues\, 504\, Jundiaí\, São Paulo\, 13201001\, Brasil
CATEGORIES:Próximos Eventos
ATTACH;FMTTYPE=image/png:https://ipjundiai.org.br/wp-content/uploads/2018/05/umpIPJ-branco-1.png
END:VEVENT
BEGIN:VEVENT
DTSTART;TZID=America/Sao_Paulo:20220226T190000
DTEND;TZID=America/Sao_Paulo:20220226T210000
DTSTAMP:20260424T183932
CREATED:20220217T224836Z
LAST-MODIFIED:20220217T224836Z
UID:33256-1645902000-1645909200@ipjundiai.org.br
SUMMARY:UMP - Estudo Bíblico Indutivo
DESCRIPTION:
URL:https://ipjundiai.org.br/eventos/ump-estudo-biblico-indutivo/
LOCATION:IP Jundiaí\, Rua Vigário J.J. Rodrigues\, 504\, Jundiaí\, São Paulo\, 13201001\, Brasil
CATEGORIES:Próximos Eventos
ATTACH;FMTTYPE=image/png:https://ipjundiai.org.br/wp-content/uploads/2018/05/umpIPJ-branco-1.png
END:VEVENT
END:VCALENDAR