BEGIN:VCALENDAR
VERSION:2.0
PRODID:-//Igreja Presbiteriana de Jundiaí - ECPv6.15.11//NONSGML v1.0//EN
CALSCALE:GREGORIAN
METHOD:PUBLISH
X-ORIGINAL-URL:https://ipjundiai.org.br
X-WR-CALDESC:Eventos para Igreja Presbiteriana de Jundiaí
REFRESH-INTERVAL;VALUE=DURATION:PT1H
X-Robots-Tag:noindex
X-PUBLISHED-TTL:PT1H
BEGIN:VTIMEZONE
TZID:America/Sao_Paulo
BEGIN:STANDARD
TZOFFSETFROM:-0300
TZOFFSETTO:-0300
TZNAME:-03
DTSTART:20210101T000000
END:STANDARD
END:VTIMEZONE
BEGIN:VEVENT
DTSTART;TZID=America/Sao_Paulo:20220601T210000
DTEND;TZID=America/Sao_Paulo:20220601T220000
DTSTAMP:20260424T130048
CREATED:20220527T202138Z
LAST-MODIFIED:20220527T202139Z
UID:33962-1654117200-1654120800@ipjundiai.org.br
SUMMARY:Reunião de Oração
DESCRIPTION:
URL:https://ipjundiai.org.br/eventos/reuniao-de-oracao-15/
LOCATION:Online
CATEGORIES:Próximos Eventos
ATTACH;FMTTYPE=image/jpeg:https://ipjundiai.org.br/wp-content/uploads/2022/05/ump-aviso.jpg
END:VEVENT
BEGIN:VEVENT
DTSTART;TZID=America/Sao_Paulo:20220604T180000
DTEND;TZID=America/Sao_Paulo:20220604T193000
DTSTAMP:20260424T130048
CREATED:20220527T202246Z
LAST-MODIFIED:20220527T202246Z
UID:33964-1654365600-1654371000@ipjundiai.org.br
SUMMARY:Grow
DESCRIPTION:
URL:https://ipjundiai.org.br/eventos/grow-3/
LOCATION:São Paulo
CATEGORIES:Próximos Eventos
ATTACH;FMTTYPE=image/jpeg:https://ipjundiai.org.br/wp-content/uploads/2022/05/upa-aviso.jpg
END:VEVENT
BEGIN:VEVENT
DTSTART;TZID=America/Sao_Paulo:20220604T190000
DTEND;TZID=America/Sao_Paulo:20220604T203000
DTSTAMP:20260424T130048
CREATED:20220527T202522Z
LAST-MODIFIED:20220527T202523Z
UID:33966-1654369200-1654374600@ipjundiai.org.br
SUMMARY:Culto
DESCRIPTION:
URL:https://ipjundiai.org.br/eventos/culto/
LOCATION:IP Jundiaí\, Rua Vigário J.J. Rodrigues\, 504\, Jundiaí\, São Paulo\, 13201001\, Brasil
CATEGORIES:Próximos Eventos
ATTACH;FMTTYPE=image/jpeg:https://ipjundiai.org.br/wp-content/uploads/2022/05/ump-aviso.jpg
END:VEVENT
BEGIN:VEVENT
DTSTART;TZID=America/Sao_Paulo:20220611T180000
DTEND;TZID=America/Sao_Paulo:20220611T193000
DTSTAMP:20260424T130048
CREATED:20220604T001058Z
LAST-MODIFIED:20220604T001059Z
UID:34042-1654970400-1654975800@ipjundiai.org.br
SUMMARY:Grow
DESCRIPTION:
URL:https://ipjundiai.org.br/eventos/grow-4/
LOCATION:IP Jundiaí\, Rua Vigário J.J. Rodrigues\, 504\, Jundiaí\, São Paulo\, 13201001\, Brasil
CATEGORIES:Próximos Eventos
ATTACH;FMTTYPE=image/jpeg:https://ipjundiai.org.br/wp-content/uploads/2022/05/upa-aviso.jpg
END:VEVENT
BEGIN:VEVENT
DTSTART;TZID=America/Sao_Paulo:20220611T190000
DTEND;TZID=America/Sao_Paulo:20220611T203000
DTSTAMP:20260424T130048
CREATED:20220527T202620Z
LAST-MODIFIED:20220527T202620Z
UID:33968-1654974000-1654979400@ipjundiai.org.br
SUMMARY:Estudo
DESCRIPTION:
URL:https://ipjundiai.org.br/eventos/estudo/
LOCATION:IP Jundiaí\, Rua Vigário J.J. Rodrigues\, 504\, Jundiaí\, São Paulo\, 13201001\, Brasil
CATEGORIES:Próximos Eventos
ATTACH;FMTTYPE=image/jpeg:https://ipjundiai.org.br/wp-content/uploads/2022/05/ump-aviso.jpg
END:VEVENT
BEGIN:VEVENT
DTSTART;TZID=America/Sao_Paulo:20220614T150000
DTEND;TZID=America/Sao_Paulo:20220614T160000
DTSTAMP:20260424T130048
CREATED:20220603T204839Z
LAST-MODIFIED:20220610T163910Z
UID:34028-1655218800-1655222400@ipjundiai.org.br
SUMMARY:Reunião de Oração
DESCRIPTION:
URL:https://ipjundiai.org.br/eventos/reuniao-de-oracao-16/
LOCATION:IP Jundiaí\, Rua Vigário J.J. Rodrigues\, 504\, Jundiaí\, São Paulo\, 13201001\, Brasil
CATEGORIES:Próximos Eventos
ATTACH;FMTTYPE=image/jpeg:https://ipjundiai.org.br/wp-content/uploads/2022/05/aviso-saf.jpg
END:VEVENT
BEGIN:VEVENT
DTSTART;TZID=America/Sao_Paulo:20220614T193000
DTEND;TZID=America/Sao_Paulo:20220614T210000
DTSTAMP:20260424T130048
CREATED:20220603T204937Z
LAST-MODIFIED:20220610T163757Z
UID:34030-1655235000-1655240400@ipjundiai.org.br
SUMMARY:Coral Adorai (Ensaio)
DESCRIPTION:
URL:https://ipjundiai.org.br/eventos/coral-adorai-ensaio-33/
LOCATION:IP Jundiaí\, Rua Vigário J.J. Rodrigues\, 504\, Jundiaí\, São Paulo\, 13201001\, Brasil
CATEGORIES:Próximos Eventos
ATTACH;FMTTYPE=image/jpeg:https://ipjundiai.org.br/wp-content/uploads/2022/05/coral-aviso.jpg
END:VEVENT
BEGIN:VEVENT
DTSTART;TZID=America/Sao_Paulo:20220615T210000
DTEND;TZID=America/Sao_Paulo:20220615T220000
DTSTAMP:20260424T130048
CREATED:20220603T205105Z
LAST-MODIFIED:20220610T163714Z
UID:34032-1655326800-1655330400@ipjundiai.org.br
SUMMARY:Reunião de Oração
DESCRIPTION:
URL:https://ipjundiai.org.br/eventos/reuniao-de-oracao-17/
LOCATION:Online
CATEGORIES:Próximos Eventos
ATTACH;FMTTYPE=image/jpeg:https://ipjundiai.org.br/wp-content/uploads/2022/05/ump-aviso.jpg
END:VEVENT
BEGIN:VEVENT
DTSTART;TZID=America/Sao_Paulo:20220616T200000
DTEND;TZID=America/Sao_Paulo:20220616T210000
DTSTAMP:20260424T130048
CREATED:20220520T233610Z
LAST-MODIFIED:20220610T163837Z
UID:33879-1655409600-1655413200@ipjundiai.org.br
SUMMARY:Estudo Bíblico
DESCRIPTION:
URL:https://ipjundiai.org.br/eventos/estudo-biblico-41/
LOCATION:IP Jundiaí\, Rua Vigário J.J. Rodrigues\, 504\, Jundiaí\, São Paulo\, 13201001\, Brasil
CATEGORIES:Próximos Eventos
ATTACH;FMTTYPE=image/jpeg:https://ipjundiai.org.br/wp-content/uploads/2022/05/ipj-aviso.jpg
END:VEVENT
BEGIN:VEVENT
DTSTART;TZID=America/Sao_Paulo:20220618T190000
DTEND;TZID=America/Sao_Paulo:20220618T203000
DTSTAMP:20260424T130048
CREATED:20220527T203336Z
LAST-MODIFIED:20220527T203337Z
UID:33970-1655578800-1655584200@ipjundiai.org.br
SUMMARY:EBI
DESCRIPTION:
URL:https://ipjundiai.org.br/eventos/ebi/
LOCATION:IP Jundiaí\, Rua Vigário J.J. Rodrigues\, 504\, Jundiaí\, São Paulo\, 13201001\, Brasil
CATEGORIES:Próximos Eventos
ATTACH;FMTTYPE=image/jpeg:https://ipjundiai.org.br/wp-content/uploads/2022/05/upa-aviso.jpg
END:VEVENT
BEGIN:VEVENT
DTSTART;TZID=America/Sao_Paulo:20220621T150000
DTEND;TZID=America/Sao_Paulo:20220621T160000
DTSTAMP:20260424T130048
CREATED:20220617T203501Z
LAST-MODIFIED:20220617T203502Z
UID:34210-1655823600-1655827200@ipjundiai.org.br
SUMMARY:Reunião de Oração
DESCRIPTION:
URL:https://ipjundiai.org.br/eventos/reuniao-de-oracao-18/
LOCATION:IP Jundiaí\, Rua Vigário J.J. Rodrigues\, 504\, Jundiaí\, São Paulo\, 13201001\, Brasil
CATEGORIES:Próximos Eventos
ATTACH;FMTTYPE=image/jpeg:https://ipjundiai.org.br/wp-content/uploads/2022/05/aviso-saf.jpg
END:VEVENT
BEGIN:VEVENT
DTSTART;TZID=America/Sao_Paulo:20220621T193000
DTEND;TZID=America/Sao_Paulo:20220621T210000
DTSTAMP:20260424T130048
CREATED:20220617T203606Z
LAST-MODIFIED:20220617T203607Z
UID:34212-1655839800-1655845200@ipjundiai.org.br
SUMMARY:Coral Adorai
DESCRIPTION:
URL:https://ipjundiai.org.br/eventos/coral-adorai-3/
LOCATION:IP Jundiaí\, Rua Vigário J.J. Rodrigues\, 504\, Jundiaí\, São Paulo\, 13201001\, Brasil
CATEGORIES:Próximos Eventos
ATTACH;FMTTYPE=image/jpeg:https://ipjundiai.org.br/wp-content/uploads/2022/05/coral-aviso.jpg
END:VEVENT
BEGIN:VEVENT
DTSTART;TZID=America/Sao_Paulo:20220622T210000
DTEND;TZID=America/Sao_Paulo:20220622T220000
DTSTAMP:20260424T130048
CREATED:20220617T203710Z
LAST-MODIFIED:20220617T203710Z
UID:34214-1655931600-1655935200@ipjundiai.org.br
SUMMARY:Reunião de Oração
DESCRIPTION:
URL:https://ipjundiai.org.br/eventos/reuniao-de-oracao-19/
LOCATION:Online
CATEGORIES:Próximos Eventos
ATTACH;FMTTYPE=image/jpeg:https://ipjundiai.org.br/wp-content/uploads/2022/05/ump-aviso.jpg
END:VEVENT
BEGIN:VEVENT
DTSTART;TZID=America/Sao_Paulo:20220625T150000
DTEND;TZID=America/Sao_Paulo:20220625T170000
DTSTAMP:20260424T130048
CREATED:20220527T203439Z
LAST-MODIFIED:20220610T163633Z
UID:33973-1656169200-1656176400@ipjundiai.org.br
SUMMARY:Plenária
DESCRIPTION:
URL:https://ipjundiai.org.br/eventos/plenaria/
LOCATION:IP Jundiaí\, Rua Vigário J.J. Rodrigues\, 504\, Jundiaí\, São Paulo\, 13201001\, Brasil
CATEGORIES:Próximos Eventos
ATTACH;FMTTYPE=image/jpeg:https://ipjundiai.org.br/wp-content/uploads/2022/05/uph-aviso.jpg
END:VEVENT
BEGIN:VEVENT
DTSTART;TZID=America/Sao_Paulo:20220625T150000
DTEND;TZID=America/Sao_Paulo:20220625T170000
DTSTAMP:20260424T130048
CREATED:20220604T001246Z
LAST-MODIFIED:20220604T001246Z
UID:34044-1656169200-1656176400@ipjundiai.org.br
SUMMARY:Plenária
DESCRIPTION:
URL:https://ipjundiai.org.br/eventos/plenaria-2/
LOCATION:IP Jundiaí\, Rua Vigário J.J. Rodrigues\, 504\, Jundiaí\, São Paulo\, 13201001\, Brasil
CATEGORIES:Próximos Eventos
ATTACH;FMTTYPE=image/jpeg:https://ipjundiai.org.br/wp-content/uploads/2022/05/aviso-saf.jpg
END:VEVENT
BEGIN:VEVENT
DTSTART;TZID=America/Sao_Paulo:20220625T180000
DTEND;TZID=America/Sao_Paulo:20220625T210000
DTSTAMP:20260424T130048
CREATED:20220617T204025Z
LAST-MODIFIED:20220617T204025Z
UID:34218-1656180000-1656190800@ipjundiai.org.br
SUMMARY:Culto com Fogueira
DESCRIPTION:
URL:https://ipjundiai.org.br/eventos/culto-com-fogueira/
LOCATION:Matiassi\, R. Barcelona\, 148\, Jundiaí\, São Paulo\, 13214-736\, Brasil
CATEGORIES:Próximos Eventos
ATTACH;FMTTYPE=image/jpeg:https://ipjundiai.org.br/wp-content/uploads/2022/05/upa-aviso.jpg
END:VEVENT
BEGIN:VEVENT
DTSTART;TZID=America/Sao_Paulo:20220628T150000
DTEND;TZID=America/Sao_Paulo:20220628T160000
DTSTAMP:20260424T130048
CREATED:20220625T145325Z
LAST-MODIFIED:20220625T145325Z
UID:34258-1656428400-1656432000@ipjundiai.org.br
SUMMARY:Reunião de Oração
DESCRIPTION:
URL:https://ipjundiai.org.br/eventos/reuniao-de-oracao-20/
LOCATION:IP Jundiaí\, Rua Vigário J.J. Rodrigues\, 504\, Jundiaí\, São Paulo\, 13201001\, Brasil
CATEGORIES:Próximos Eventos
ATTACH;FMTTYPE=image/jpeg:https://ipjundiai.org.br/wp-content/uploads/2022/05/aviso-saf.jpg
END:VEVENT
BEGIN:VEVENT
DTSTART;TZID=America/Sao_Paulo:20220628T193000
DTEND;TZID=America/Sao_Paulo:20220628T210000
DTSTAMP:20260424T130048
CREATED:20220625T145444Z
LAST-MODIFIED:20220625T145444Z
UID:34260-1656444600-1656450000@ipjundiai.org.br
SUMMARY:Coral Adorai (Ensaio)
DESCRIPTION:
URL:https://ipjundiai.org.br/eventos/coral-adorai-ensaio-34/
LOCATION:IP Jundiaí\, Rua Vigário J.J. Rodrigues\, 504\, Jundiaí\, São Paulo\, 13201001\, Brasil
CATEGORIES:Próximos Eventos
ATTACH;FMTTYPE=image/jpeg:https://ipjundiai.org.br/wp-content/uploads/2022/05/coral-aviso.jpg
END:VEVENT
BEGIN:VEVENT
DTSTART;TZID=America/Sao_Paulo:20220629T210000
DTEND;TZID=America/Sao_Paulo:20220629T220000
DTSTAMP:20260424T130048
CREATED:20220625T145727Z
LAST-MODIFIED:20220625T145728Z
UID:34264-1656536400-1656540000@ipjundiai.org.br
SUMMARY:Reunião de Oração
DESCRIPTION:
URL:https://ipjundiai.org.br/eventos/reuniao-de-oracao-21/
LOCATION:Online
CATEGORIES:Próximos Eventos
ATTACH;FMTTYPE=image/jpeg:https://ipjundiai.org.br/wp-content/uploads/2022/05/ump-aviso.jpg
END:VEVENT
BEGIN:VEVENT
DTSTART;TZID=America/Sao_Paulo:20220630T200000
DTEND;TZID=America/Sao_Paulo:20220630T210000
DTSTAMP:20260424T130048
CREATED:20220617T203831Z
LAST-MODIFIED:20220625T145525Z
UID:34216-1656619200-1656622800@ipjundiai.org.br
SUMMARY:Estudo Bíblico
DESCRIPTION:
URL:https://ipjundiai.org.br/eventos/estudo-biblico-42/
LOCATION:IP Jundiaí\, Rua Vigário J.J. Rodrigues\, 504\, Jundiaí\, São Paulo\, 13201001\, Brasil
CATEGORIES:Próximos Eventos
ATTACH;FMTTYPE=image/jpeg:https://ipjundiai.org.br/wp-content/uploads/2022/05/ipj-aviso.jpg
END:VEVENT
END:VCALENDAR