BEGIN:VCALENDAR
VERSION:2.0
PRODID:-//Igreja Presbiteriana de Jundiaí - ECPv6.15.11//NONSGML v1.0//EN
CALSCALE:GREGORIAN
METHOD:PUBLISH
X-ORIGINAL-URL:https://ipjundiai.org.br
X-WR-CALDESC:Eventos para Igreja Presbiteriana de Jundiaí
REFRESH-INTERVAL;VALUE=DURATION:PT1H
X-Robots-Tag:noindex
X-PUBLISHED-TTL:PT1H
BEGIN:VTIMEZONE
TZID:America/Sao_Paulo
BEGIN:STANDARD
TZOFFSETFROM:-0300
TZOFFSETTO:-0300
TZNAME:-03
DTSTART:20220101T000000
END:STANDARD
END:VTIMEZONE
BEGIN:VEVENT
DTSTART;TZID=America/Sao_Paulo:20230603T190000
DTEND;TZID=America/Sao_Paulo:20230603T190000
DTSTAMP:20260420T032628
CREATED:20230526T192357Z
LAST-MODIFIED:20230526T192359Z
UID:36367-1685818800-1685818800@ipjundiai.org.br
SUMMARY:Grow (UPA)
DESCRIPTION:
URL:https://ipjundiai.org.br/eventos/grow-upa-9/
LOCATION:IP Jundiaí\, Rua Vigário J.J. Rodrigues\, 504\, Jundiaí\, São Paulo\, 13201001\, Brasil
CATEGORIES:Próximos Eventos
ATTACH;FMTTYPE=image/jpeg:https://ipjundiai.org.br/wp-content/uploads/2022/05/upa-aviso.jpg
END:VEVENT
BEGIN:VEVENT
DTSTART;TZID=America/Sao_Paulo:20230603T190000
DTEND;TZID=America/Sao_Paulo:20230603T200000
DTSTAMP:20260420T032628
CREATED:20230526T192518Z
LAST-MODIFIED:20230526T192519Z
UID:36369-1685818800-1685822400@ipjundiai.org.br
SUMMARY:Culto (UMP)
DESCRIPTION:
URL:https://ipjundiai.org.br/eventos/culto-ump-8/
LOCATION:IP Jundiaí\, Rua Vigário J.J. Rodrigues\, 504\, Jundiaí\, São Paulo\, 13201001\, Brasil
CATEGORIES:Próximos Eventos
ATTACH;FMTTYPE=image/jpeg:https://ipjundiai.org.br/wp-content/uploads/2022/08/ump-agenda.jpg
END:VEVENT
BEGIN:VEVENT
DTSTART;VALUE=DATE:20230604
DTEND;VALUE=DATE:20230605
DTSTAMP:20260420T032628
CREATED:20230526T192624Z
LAST-MODIFIED:20230602T130642Z
UID:36371-1685836800-1685923199@ipjundiai.org.br
SUMMARY:DIP: Igreja Perseguida
DESCRIPTION:
URL:https://ipjundiai.org.br/eventos/dip-igreja-perseguida/
LOCATION:IP Jundiaí\, Rua Vigário J.J. Rodrigues\, 504\, Jundiaí\, São Paulo\, 13201001\, Brasil
CATEGORIES:Próximos Eventos
ATTACH;FMTTYPE=image/jpeg:https://ipjundiai.org.br/wp-content/uploads/2022/08/ipj-agenda.jpg
END:VEVENT
BEGIN:VEVENT
DTSTART;VALUE=DATE:20230608
DTEND;VALUE=DATE:20230609
DTSTAMP:20260420T032628
CREATED:20230526T192730Z
LAST-MODIFIED:20230526T192731Z
UID:36373-1686182400-1686268799@ipjundiai.org.br
SUMMARY:Aniversário Jornal Presbiteriano
DESCRIPTION:
URL:https://ipjundiai.org.br/eventos/aniversario-jornal-presbiteriano/
LOCATION:São Paulo
CATEGORIES:Próximos Eventos
ATTACH;FMTTYPE=image/jpeg:https://ipjundiai.org.br/wp-content/uploads/2022/08/ipj-agenda.jpg
END:VEVENT
BEGIN:VEVENT
DTSTART;VALUE=DATE:20230610
DTEND;VALUE=DATE:20230611
DTSTAMP:20260420T032628
CREATED:20230526T192835Z
LAST-MODIFIED:20230526T192836Z
UID:36375-1686355200-1686441599@ipjundiai.org.br
SUMMARY:Instalada SBB
DESCRIPTION:
URL:https://ipjundiai.org.br/eventos/instalada-sbb/
LOCATION:São Paulo
CATEGORIES:Próximos Eventos
ATTACH;FMTTYPE=image/jpeg:https://ipjundiai.org.br/wp-content/uploads/2022/08/ipj-agenda.jpg
END:VEVENT
BEGIN:VEVENT
DTSTART;TZID=America/Sao_Paulo:20230610T150000
DTEND;TZID=America/Sao_Paulo:20230610T163000
DTSTAMP:20260420T032628
CREATED:20230602T203205Z
LAST-MODIFIED:20230609T205250Z
UID:36410-1686409200-1686414600@ipjundiai.org.br
SUMMARY:Plenária (UPH)
DESCRIPTION:
URL:https://ipjundiai.org.br/eventos/plenaria-uph-3/
LOCATION:IP Jundiaí\, Rua Vigário J.J. Rodrigues\, 504\, Jundiaí\, São Paulo\, 13201001\, Brasil
CATEGORIES:Próximos Eventos
ATTACH;FMTTYPE=image/jpeg:https://ipjundiai.org.br/wp-content/uploads/2022/08/uph-agenda.jpg
END:VEVENT
BEGIN:VEVENT
DTSTART;TZID=America/Sao_Paulo:20230610T190000
DTEND;TZID=America/Sao_Paulo:20230610T203000
DTSTAMP:20260420T032628
CREATED:20230602T203359Z
LAST-MODIFIED:20230602T203400Z
UID:36412-1686423600-1686429000@ipjundiai.org.br
SUMMARY:Grow (UPA)
DESCRIPTION:
URL:https://ipjundiai.org.br/eventos/grow-upa-10/
LOCATION:IP Jundiaí\, Rua Vigário J.J. Rodrigues\, 504\, Jundiaí\, São Paulo\, 13201001\, Brasil
CATEGORIES:Próximos Eventos
ATTACH;FMTTYPE=image/jpeg:https://ipjundiai.org.br/wp-content/uploads/2022/05/upa-aviso.jpg
END:VEVENT
BEGIN:VEVENT
DTSTART;TZID=America/Sao_Paulo:20230610T190000
DTEND;TZID=America/Sao_Paulo:20230610T203000
DTSTAMP:20260420T032628
CREATED:20230602T203457Z
LAST-MODIFIED:20230602T203458Z
UID:36414-1686423600-1686429000@ipjundiai.org.br
SUMMARY:Palestra (UMP)
DESCRIPTION:
URL:https://ipjundiai.org.br/eventos/palestra-ump-5/
LOCATION:IP Jundiaí\, Rua Vigário J.J. Rodrigues\, 504\, Jundiaí\, São Paulo\, 13201001\, Brasil
CATEGORIES:Próximos Eventos
ATTACH;FMTTYPE=image/jpeg:https://ipjundiai.org.br/wp-content/uploads/2022/08/ump-agenda.jpg
END:VEVENT
BEGIN:VEVENT
DTSTART;TZID=America/Sao_Paulo:20230617T090000
DTEND;TZID=America/Sao_Paulo:20230617T170000
DTSTAMP:20260420T032628
CREATED:20230602T203807Z
LAST-MODIFIED:20230602T203809Z
UID:36416-1686992400-1687021200@ipjundiai.org.br
SUMMARY:Day Camp (UPH)
DESCRIPTION:
URL:https://ipjundiai.org.br/eventos/day-camp-uph/
LOCATION:Elias Faustos
CATEGORIES:Próximos Eventos
ATTACH;FMTTYPE=image/jpeg:https://ipjundiai.org.br/wp-content/uploads/2022/08/uph-agenda.jpg
END:VEVENT
BEGIN:VEVENT
DTSTART;TZID=America/Sao_Paulo:20230617T150000
DTEND;TZID=America/Sao_Paulo:20230617T170000
DTSTAMP:20260420T032628
CREATED:20230602T204107Z
LAST-MODIFIED:20230602T204107Z
UID:36419-1687014000-1687021200@ipjundiai.org.br
SUMMARY:Gincana Bíblica (Infantil)
DESCRIPTION:
URL:https://ipjundiai.org.br/eventos/gincana-biblica-infantil/
LOCATION:IP Jundiaí\, Rua Vigário J.J. Rodrigues\, 504\, Jundiaí\, São Paulo\, 13201001\, Brasil
CATEGORIES:Próximos Eventos
ATTACH;FMTTYPE=image/jpeg:https://ipjundiai.org.br/wp-content/uploads/2022/08/infantil-agenda.jpg
END:VEVENT
BEGIN:VEVENT
DTSTART;TZID=America/Sao_Paulo:20230617T150000
DTEND;TZID=America/Sao_Paulo:20230617T170000
DTSTAMP:20260420T032628
CREATED:20230602T204320Z
LAST-MODIFIED:20230602T204321Z
UID:36422-1687014000-1687021200@ipjundiai.org.br
SUMMARY:Gincana Bíblica (SAF)
DESCRIPTION:
URL:https://ipjundiai.org.br/eventos/gincana-biblica-saf/
LOCATION:IP Jundiaí\, Rua Vigário J.J. Rodrigues\, 504\, Jundiaí\, São Paulo\, 13201001\, Brasil
CATEGORIES:Próximos Eventos
ATTACH;FMTTYPE=image/jpeg:https://ipjundiai.org.br/wp-content/uploads/2022/08/saf-agenda.jpg
END:VEVENT
BEGIN:VEVENT
DTSTART;TZID=America/Sao_Paulo:20230617T190000
DTEND;TZID=America/Sao_Paulo:20230617T203000
DTSTAMP:20260420T032628
CREATED:20230602T204434Z
LAST-MODIFIED:20230602T204456Z
UID:36424-1687028400-1687033800@ipjundiai.org.br
SUMMARY:Culto com Fogueira (UPA)
DESCRIPTION:
URL:https://ipjundiai.org.br/eventos/culto-com-fogueira-upa/
LOCATION:São Paulo
CATEGORIES:Próximos Eventos
ATTACH;FMTTYPE=image/jpeg:https://ipjundiai.org.br/wp-content/uploads/2022/05/upa-aviso.jpg
END:VEVENT
BEGIN:VEVENT
DTSTART;TZID=America/Sao_Paulo:20230623T200000
DTEND;TZID=America/Sao_Paulo:20230625T200000
DTSTAMP:20260420T032628
CREATED:20230609T143504Z
LAST-MODIFIED:20230609T143505Z
UID:36448-1687550400-1687723200@ipjundiai.org.br
SUMMARY:X Conferência Missionária IPJ
DESCRIPTION:
URL:https://ipjundiai.org.br/eventos/x-conferencia-missionaria-ipj/
LOCATION:IP Jundiaí\, Rua Vigário J.J. Rodrigues\, 504\, Jundiaí\, São Paulo\, 13201001\, Brasil
CATEGORIES:Próximos Eventos
ATTACH;FMTTYPE=image/png:https://ipjundiai.org.br/wp-content/uploads/2023/06/capa-youtube-missoes-2023.png
END:VEVENT
END:VCALENDAR