BEGIN:VCALENDAR
VERSION:2.0
PRODID:-//Igreja Presbiteriana de Jundiaí - ECPv6.15.11//NONSGML v1.0//EN
CALSCALE:GREGORIAN
METHOD:PUBLISH
X-WR-CALNAME:Igreja Presbiteriana de Jundiaí
X-ORIGINAL-URL:https://ipjundiai.org.br
X-WR-CALDESC:Eventos para Igreja Presbiteriana de Jundiaí
REFRESH-INTERVAL;VALUE=DURATION:PT1H
X-Robots-Tag:noindex
X-PUBLISHED-TTL:PT1H
BEGIN:VTIMEZONE
TZID:America/Sao_Paulo
BEGIN:STANDARD
TZOFFSETFROM:-0300
TZOFFSETTO:-0300
TZNAME:-03
DTSTART:20230101T000000
END:STANDARD
END:VTIMEZONE
BEGIN:VEVENT
DTSTART;TZID=America/Sao_Paulo:20240203T090000
DTEND;TZID=America/Sao_Paulo:20240203T110000
DTSTAMP:20260419T121316
CREATED:20240126T170523Z
LAST-MODIFIED:20240126T170523Z
UID:37842-1706950800-1706958000@ipjundiai.org.br
SUMMARY:Pic Nic (Crianças)
DESCRIPTION:
URL:https://ipjundiai.org.br/eventos/pic-nic-criancas/
LOCATION:Parque da Cidade Jundiaí\, Rodovia João Cereser\, km 66\, Jundiaí\, São Paulo\, 13214-470\, Brasil
CATEGORIES:Próximos Eventos
ATTACH;FMTTYPE=image/jpeg:https://ipjundiai.org.br/wp-content/uploads/2022/08/infantil-agenda.jpg
END:VEVENT
BEGIN:VEVENT
DTSTART;VALUE=DATE:20240204
DTEND;VALUE=DATE:20240205
DTSTAMP:20260419T121316
CREATED:20240126T170614Z
LAST-MODIFIED:20240126T170630Z
UID:37844-1707004800-1707091199@ipjundiai.org.br
SUMMARY:Dia do Homem Presbiteriano
DESCRIPTION:
URL:https://ipjundiai.org.br/eventos/dia-do-homem-presbiteriano-2/
LOCATION:IP Jundiaí\, Rua Vigário J.J. Rodrigues\, 504\, Jundiaí\, São Paulo\, 13201001\, Brasil
CATEGORIES:Próximos Eventos
ATTACH;FMTTYPE=image/jpeg:https://ipjundiai.org.br/wp-content/uploads/2022/08/ipj-agenda.jpg
END:VEVENT
BEGIN:VEVENT
DTSTART;TZID=America/Sao_Paulo:20240204T100000
DTEND;TZID=America/Sao_Paulo:20240204T113000
DTSTAMP:20260419T121316
CREATED:20240119T223635Z
LAST-MODIFIED:20240119T223635Z
UID:37826-1707040800-1707046200@ipjundiai.org.br
SUMMARY:Assembleia Geral Ordinária
DESCRIPTION:
URL:https://ipjundiai.org.br/eventos/assembleia-geral-ordinaria-2/
LOCATION:IP Jundiaí\, Rua Vigário J.J. Rodrigues\, 504\, Jundiaí\, São Paulo\, 13201001\, Brasil
CATEGORIES:Próximos Eventos
ATTACH;FMTTYPE=image/jpeg:https://ipjundiai.org.br/wp-content/uploads/2022/08/ipj-agenda.jpg
END:VEVENT
BEGIN:VEVENT
DTSTART;TZID=America/Sao_Paulo:20240210T080000
DTEND;TZID=America/Sao_Paulo:20240213T170000
DTSTAMP:20260419T121316
CREATED:20240126T170755Z
LAST-MODIFIED:20240126T170756Z
UID:37846-1707552000-1707843600@ipjundiai.org.br
SUMMARY:Acampamento (Adolescentes)
DESCRIPTION:
URL:https://ipjundiai.org.br/eventos/acampamento-adolescentes/
LOCATION:Serra Negra
CATEGORIES:Próximos Eventos
ATTACH;FMTTYPE=image/jpeg:https://ipjundiai.org.br/wp-content/uploads/2022/04/aviso-upa.jpg
END:VEVENT
BEGIN:VEVENT
DTSTART;VALUE=DATE:20240211
DTEND;VALUE=DATE:20240212
DTSTAMP:20260419T121316
CREATED:20240126T170855Z
LAST-MODIFIED:20240126T170855Z
UID:37848-1707609600-1707695999@ipjundiai.org.br
SUMMARY:Dia da Mulher Presbiteriana
DESCRIPTION:
URL:https://ipjundiai.org.br/eventos/dia-da-mulher-presbiteriana-4/
LOCATION:IP Jundiaí\, Rua Vigário J.J. Rodrigues\, 504\, Jundiaí\, São Paulo\, 13201001\, Brasil
CATEGORIES:Próximos Eventos
ATTACH;FMTTYPE=image/jpeg:https://ipjundiai.org.br/wp-content/uploads/2022/08/ipj-agenda.jpg
END:VEVENT
BEGIN:VEVENT
DTSTART;TZID=America/Sao_Paulo:20240223T193000
DTEND;TZID=America/Sao_Paulo:20240223T210000
DTSTAMP:20260419T121316
CREATED:20240202T192225Z
LAST-MODIFIED:20240202T192226Z
UID:37875-1708716600-1708722000@ipjundiai.org.br
SUMMARY:Filme (Mulheres e Mães)
DESCRIPTION:
URL:https://ipjundiai.org.br/eventos/filme-mulheres-e-maes/
LOCATION:São Paulo
CATEGORIES:Próximos Eventos
ATTACH;FMTTYPE=image/jpeg:https://ipjundiai.org.br/wp-content/uploads/2022/08/saf-agenda.jpg
END:VEVENT
BEGIN:VEVENT
DTSTART;TZID=America/Sao_Paulo:20240224T090000
DTEND;TZID=America/Sao_Paulo:20240224T113000
DTSTAMP:20260419T121316
CREATED:20240209T204524Z
LAST-MODIFIED:20240209T204524Z
UID:37893-1708765200-1708774200@ipjundiai.org.br
SUMMARY:Reunião para Agenda (Liderança IPJ)
DESCRIPTION:
URL:https://ipjundiai.org.br/eventos/reuniao-para-agenda-lideranca-ipj/
LOCATION:IP Jundiaí\, Rua Vigário J.J. Rodrigues\, 504\, Jundiaí\, São Paulo\, 13201001\, Brasil
CATEGORIES:Próximos Eventos
ATTACH;FMTTYPE=image/jpeg:https://ipjundiai.org.br/wp-content/uploads/2022/08/ipj-agenda.jpg
END:VEVENT
BEGIN:VEVENT
DTSTART;TZID=America/Sao_Paulo:20240224T143000
DTEND;TZID=America/Sao_Paulo:20240224T170000
DTSTAMP:20260419T121316
CREATED:20240126T171018Z
LAST-MODIFIED:20240126T171018Z
UID:37850-1708785000-1708794000@ipjundiai.org.br
SUMMARY:Tarde evangelística (Homens)
DESCRIPTION:
URL:https://ipjundiai.org.br/eventos/tarde-evangelistica-homens/
LOCATION:IP Almerinda
CATEGORIES:Próximos Eventos
ATTACH;FMTTYPE=image/jpeg:https://ipjundiai.org.br/wp-content/uploads/2022/08/uph-agenda.jpg
END:VEVENT
END:VCALENDAR